BEGIN:VCALENDAR
METHOD:REQUEST
PRODID:Microsoft Exchange Server 2010
VERSION:2.0
BEGIN:VTIMEZONE
TZID:(UTC) Coordinated Universal Time
BEGIN:STANDARD
DTSTART:16010101T000000
TZOFFSETFROM:+0000
TZOFFSETTO:+0000
END:STANDARD
BEGIN:DAYLIGHT
DTSTART:16010101T000000
TZOFFSETFROM:+0000
TZOFFSETTO:+0000
END:DAYLIGHT
END:VTIMEZONE
BEGIN:VEVENT
ORGANIZER;CN=ICANN Policy Calendar:MAILTO:PolicyCalendar@icann.org
ATTENDEE;ROLE=REQ-PARTICIPANT;PARTSTAT=NEEDS-ACTION;RSVP=TRUE;CN=Heidi Ullr
 ich:MAILTO:Heidi.Ullrich@icann.org
ATTENDEE;ROLE=REQ-PARTICIPANT;PARTSTAT=NEEDS-ACTION;RSVP=TRUE;CN=Gisella Gr
 uber:MAILTO:Gisella.Gruber@icann.org
ATTENDEE;ROLE=REQ-PARTICIPANT;PARTSTAT=NEEDS-ACTION;RSVP=TRUE;CN=Yesim Sagl
 am:MAILTO:yesim.nazlar@icann.org
ATTENDEE;ROLE=REQ-PARTICIPANT;PARTSTAT=NEEDS-ACTION;RSVP=TRUE;CN=Claudia Ru
 iz:MAILTO:claudia.ruiz@icann.org
ATTENDEE;ROLE=REQ-PARTICIPANT;PARTSTAT=NEEDS-ACTION;RSVP=TRUE;CN=Silvia Viv
 anco:MAILTO:silvia.vivanco@icann.org
ATTENDEE;ROLE=REQ-PARTICIPANT;PARTSTAT=NEEDS-ACTION;RSVP=TRUE;CN=Andrew Che
 n:MAILTO:andrew.chen@icann.org
ATTENDEE;ROLE=REQ-PARTICIPANT;PARTSTAT=NEEDS-ACTION;RSVP=TRUE;CN=Michelle D
 eSmyter:MAILTO:michelle.desmyter@icann.org
ATTENDEE;ROLE=REQ-PARTICIPANT;PARTSTAT=NEEDS-ACTION;RSVP=TRUE;CN=apac-discu
 ss@atlarge-lists.icann.org:MAILTO:apac-discuss@atlarge-lists.icann.org
ATTENDEE;ROLE=REQ-PARTICIPANT;PARTSTAT=NEEDS-ACTION;RSVP=TRUE;CN=apralo-pol
 icy@icann.org:MAILTO:apralo-policy@icann.org
ATTENDEE;ROLE=REQ-PARTICIPANT;PARTSTAT=NEEDS-ACTION;RSVP=TRUE;CN=Jia Rong L
 ow:MAILTO:jiarong.low@icann.org
ATTENDEE;ROLE=REQ-PARTICIPANT;PARTSTAT=NEEDS-ACTION;RSVP=TRUE;CN=Athena Foo
 :MAILTO:athena.foo@icann.org
ATTENDEE;ROLE=REQ-PARTICIPANT;PARTSTAT=NEEDS-ACTION;RSVP=TRUE;CN=pablo@apni
 c.net:MAILTO:pablo@apnic.net
ATTENDEE;ROLE=REQ-PARTICIPANT;PARTSTAT=NEEDS-ACTION;RSVP=TRUE;CN=anriette@a
 pc.org:MAILTO:anriette@apc.org
ATTENDEE;ROLE=REQ-PARTICIPANT;PARTSTAT=NEEDS-ACTION;RSVP=TRUE;CN=amritachou
 dhury@ccaoi.in:MAILTO:amritachoudhury@ccaoi.in
ATTENDEE;ROLE=REQ-PARTICIPANT;PARTSTAT=NEEDS-ACTION;RSVP=TRUE;CN=chrisbuckr
 idge@gmail.com:MAILTO:chrisbuckridge@gmail.com
DESCRIPTION;LANGUAGE=en-US:\n\nFifth APRALO Policy Forum Fireside Chat: "Le
 t’s Talk About Internet Fragmentation”\n\n\n\nThursday\, 25 April 2024
  at 06:00 UTC\n\n\n\nPLEASE REGISTER TO JOIN AND SHARE THIS INVITATION WIT
 H ALL!\n\nZoom Registration: https://icann.zoom.us/meeting/register/tJwkfu
 CqpzgoGNeaggZfLOq5kqzmXf5pVFoB\n\n\n\nEnglish only\n\n\n\nIf you have any\
 , please let us have your questions on this topic in advance.  You can sub
 mit them by emailing staff or posting them as comments here: https://commu
 nity.icann.org/x/pQK1E\n\n.\n\nOtherwise\, just come along and ask your qu
 estions during the event.\n\nDear All\,\n\nYou are invited to participate 
 the fifth APRALO Policy Forum Fireside Chat: "Let's Talk About Internet Fr
 agmentation" on Thursday\, 25 April 2024 at 06:00 UTC for 60 minutes\, whe
 re Amrita Choudhury\, will be chatting with her guest speakers: Chris Buck
 ridge\, Independent consultant on Internet Governance and Digital Policy &
  ICANN Board Member\, Anriette Esterhuysen\, Senior advisor on Global and 
 Regional Internet Governance & Pablo Hinojosa\, APNIC.\n\n\n\n\nZOOM Regis
 tration: https://icann.zoom.us/meeting/register/tJwkfuCqpzgoGNeaggZfLOq5kq
 zmXf5pVFoB  (you MUST register to join!)\n\n\n*** After registering\, you 
 will receive a confirmation e-mail containing information about joining th
 e meeting.***\n\n\nAnd if you have any\, please let us have your questions
  for our guest speaker on this topic ahead of the chat\, you can submit th
 em by emailing staff or posting them as comments here: https://community.i
 cann.org/x/hQQVD. Otherwise\, just come along and ask your questions durin
 g the event.\n\nAgenda and joining details: https://community.icann.org/x/
 ZgCLEw\n\nAPRALO Fireside Chats Wiki page: https://community.icann.org/x/T
 Q3CCw\n\nAPRALO Policy Forum Wiki page: https://community.icann.org/x/TwDQ
 C\n\nIf you require a dial-out please contact At-Large staff at staff@atla
 rge.icann.org<mailto:staff@atlarge.icann.org> with your preferred number.\
 n\nThank you.\n\nKind Regards\,\n\n\n\nAt-Large Staff\n\nICANN Policy Staf
 f in support of the At-Large Community\n\nWebsite: atlarge.icann.org<https
 ://atlarge.icann.org/>\n\nFacebook: facebook.com/icann<https://www.faceboo
 k.com/icannatlarge>atlarge<https://www.facebook.com/icannatlarge>\n\nTwitt
 er: @<https://twitter.com/ICANNAtLarge>ICANNAtLarge<https://twitter.com/IC
 ANNAtLarge>\n\n
UID:040000008200E00074C5B7101A82E008000000001273996ECC94DA01000000000000000
 010000000466766FFA1ABBF4C8C2664338A81AEF1
SUMMARY;LANGUAGE=en-US:Fifth APRALO Policy Forum Fireside Chat: "Let's Talk
  About Internet Fragmentation
DTSTART;TZID=(UTC) Coordinated Universal Time:20240425T060000
DTEND;TZID=(UTC) Coordinated Universal Time:20240425T071500
CLASS:PUBLIC
PRIORITY:5
DTSTAMP:20240422T174408Z
TRANSP:OPAQUE
STATUS:CONFIRMED
SEQUENCE:0
LOCATION;LANGUAGE=en-US:06:00 UTC: Adigo: 1638 - Zoom Registration Link: ht
 tps://icann.zoom.us/meeting/register/tJwkfuCqpzgoGNeaggZfLOq5kqzmXf5pVFoB
X-MICROSOFT-CDO-APPT-SEQUENCE:0
X-MICROSOFT-CDO-OWNERAPPTID:2122625042
X-MICROSOFT-CDO-BUSYSTATUS:TENTATIVE
X-MICROSOFT-CDO-INTENDEDSTATUS:BUSY
X-MICROSOFT-CDO-ALLDAYEVENT:FALSE
X-MICROSOFT-CDO-IMPORTANCE:1
X-MICROSOFT-CDO-INSTTYPE:0
X-MICROSOFT-DONOTFORWARDMEETING:FALSE
X-MICROSOFT-DISALLOW-COUNTER:FALSE
BEGIN:VALARM
DESCRIPTION:REMINDER
TRIGGER;RELATED=START:-PT15M
ACTION:DISPLAY
END:VALARM
X-MICROSOFT-LOCATIONDISPLAYNAME:06:00 UTC: Adigo: 1638 - Zoom Registration 
 Link: https://icann.zoom.us/meeting/register/tJwkfuCqpzgoGNeaggZfLOq5kqzmX
 f5pVFoB
X-MICROSOFT-LOCATIONSOURCE:None
END:VEVENT
END:VCALENDAR
