BEGIN:VCALENDAR
METHOD:REQUEST
PRODID:Microsoft Exchange Server 2010
VERSION:2.0
BEGIN:VTIMEZONE
TZID:UTC
BEGIN:STANDARD
DTSTART:16010101T000000
TZOFFSETFROM:+0000
TZOFFSETTO:+0000
END:STANDARD
BEGIN:DAYLIGHT
DTSTART:16010101T000000
TZOFFSETFROM:+0000
TZOFFSETTO:+0000
END:DAYLIGHT
END:VTIMEZONE
BEGIN:VEVENT
ORGANIZER;CN=ICANN Policy Calendar:MAILTO:PolicyCalendar@icann.org
ATTENDEE;ROLE=REQ-PARTICIPANT;PARTSTAT=NEEDS-ACTION;RSVP=TRUE;CN=Heidi Ullr
 ich:MAILTO:Heidi.Ullrich@icann.org
ATTENDEE;ROLE=REQ-PARTICIPANT;PARTSTAT=NEEDS-ACTION;RSVP=TRUE;CN=Silvia Viv
 anco:MAILTO:silvia.vivanco@icann.org
ATTENDEE;ROLE=REQ-PARTICIPANT;PARTSTAT=NEEDS-ACTION;RSVP=TRUE;CN=Gisella Gr
 uber:MAILTO:Gisella.Gruber@icann.org
ATTENDEE;ROLE=REQ-PARTICIPANT;PARTSTAT=NEEDS-ACTION;RSVP=TRUE;CN=Andrew Che
 n:MAILTO:andrew.chen@icann.org
ATTENDEE;ROLE=REQ-PARTICIPANT;PARTSTAT=NEEDS-ACTION;RSVP=TRUE;CN=Claudia Ru
 iz:MAILTO:claudia.ruiz@icann.org
ATTENDEE;ROLE=REQ-PARTICIPANT;PARTSTAT=NEEDS-ACTION;RSVP=TRUE;CN=Michelle D
 eSmyter:MAILTO:michelle.desmyter@icann.org
ATTENDEE;ROLE=REQ-PARTICIPANT;PARTSTAT=NEEDS-ACTION;RSVP=TRUE;CN=Yeşim Sa
 ğlam:MAILTO:yesim.saglam@icann.org
ATTENDEE;ROLE=REQ-PARTICIPANT;PARTSTAT=NEEDS-ACTION;RSVP=TRUE;CN= APAC-Disc
 uss:MAILTO:apac-discuss@atlarge-lists.icann.org
ATTENDEE;ROLE=REQ-PARTICIPANT;PARTSTAT=NEEDS-ACTION;RSVP=TRUE;CN=shitalaksm
 i@gmail.com:MAILTO:shitalaksmi@gmail.com
ATTENDEE;ROLE=REQ-PARTICIPANT;PARTSTAT=NEEDS-ACTION;RSVP=TRUE;CN=russell.wo
 ruba@ict.gov.pg:MAILTO:russell.woruba@ict.gov.pg
ATTENDEE;ROLE=REQ-PARTICIPANT;PARTSTAT=NEEDS-ACTION;RSVP=TRUE;CN=jen@regist
 ry.asia:MAILTO:jen@registry.asia
ATTENDEE;ROLE=REQ-PARTICIPANT;PARTSTAT=NEEDS-ACTION;RSVP=TRUE;CN=endo@jprs.
 co.jp:MAILTO:endo@jprs.co.jp
ATTENDEE;ROLE=REQ-PARTICIPANT;PARTSTAT=NEEDS-ACTION;RSVP=TRUE;CN=Maureen Hi
 lyard:MAILTO:maureen.hilyard@gmail.com
ATTACH:CID:image001.jpg@01DA0E8D.2BB4AE90
ATTACH:CID:image002.png@01DA0E8D.2BB4AE90
DESCRIPTION;LANGUAGE=en-US:**If you require a dial-out or need to state an 
 apology\, please contact At-Large staff at staff@atlarge.icann.org<mailto:
 staff@atlarge.icann.org> with your preferred number.**\n\n** Please regist
 er for Zoom **\n\nPlease join us and spread the word!\n\nDear All\,\n\nYou
  are invited to participate in the interactive ICANN78 Read-out organized 
 by the APRALO Policy Forum on Thursday 9 November 2023 at 06:00 UTC for 90
  minutes\, featuring At-Large\, GAC\, GNSO and ccNSO panellists from the A
 PAC region.\n\nPanellists will discuss their respective key takeaways from
  ICANN78 and participants are welcomed to join in the conversation aimed a
 t identifying where and how end-users may play a role in any next steps to
  each of those takeaways.\n\nFor other times: https://tinyurl.com/ywc7c4p5
 \n\nThe full agenda with panellists and moderator profiles can be found at
 : https://community.icann.org/x/zwCfE\n\nAPRALO Policy Forum Wiki Workspac
 e: https://community.icann.org/x/TwDQC\n\nADIGO Conference Bridge:\n\nEngl
 ish ID: 1638\n\nOther toll-free numbers: http://adigo.com/icann/ [adigo.co
 m]<https://urldefense.com/v3/__http:/adigo.com/icann/__\;!!PtGJab4!_fw2y-q
 ShIoo2MjsgfJr_20KSeru6J9IxThYKBf2FBcs1rzPVJ8Vw7knNhVgRrZaJVApt-jxogpAM3Rkm
 pvRitShhRjc1fJBh0pJ_fUDG1HY$>\n\n*Registration* for Zoom: https://icann.zo
 om.us/meeting/register/tJIrc-qupzkpG9RdAUQXl-wBSGO4vTp3Ganr\n\n\nThank you
 .\nKind Regards\,\n\nAt-Large Staff\nICANN Policy Staff in support of the 
 At-Large Community\nWebsite: atlarge.icann.org<https://atlarge.icann.org/>
 \nFacebook: facebook.com/icann<https://www.facebook.com/icannatlarge>atlar
 ge<https://www.facebook.com/icannatlarge>\nTwitter: @<https://twitter.com/
 ICANNAtLarge>ICANNAtLarge<https://twitter.com/ICANNAtLarge>\n\n\n\n
UID:E97F2F9D-9C26-4ECC-B512-BCA807893102
SUMMARY;LANGUAGE=en-US:ICANN78 Read-out by APRALO
DTSTART;TZID=UTC:20231109T060000
DTEND;TZID=UTC:20231109T073000
CLASS:PUBLIC
PRIORITY:5
DTSTAMP:20231103T163728Z
TRANSP:OPAQUE
STATUS:CONFIRMED
SEQUENCE:0
LOCATION;LANGUAGE=en-US:06:00 UTC - ADIGO 1638 - *Registration* for Zoom: h
 ttps://icann.zoom.us/meeting/register/tJIrc-qupzkpG9RdAUQXl-wBSGO4vTp3Ganr
X-MICROSOFT-CDO-APPT-SEQUENCE:0
X-MICROSOFT-CDO-OWNERAPPTID:2121997943
X-MICROSOFT-CDO-BUSYSTATUS:TENTATIVE
X-MICROSOFT-CDO-INTENDEDSTATUS:BUSY
X-MICROSOFT-CDO-ALLDAYEVENT:FALSE
X-MICROSOFT-CDO-IMPORTANCE:1
X-MICROSOFT-CDO-INSTTYPE:0
X-MICROSOFT-DONOTFORWARDMEETING:FALSE
X-MICROSOFT-DISALLOW-COUNTER:FALSE
BEGIN:VALARM
DESCRIPTION:REMINDER
TRIGGER;RELATED=START:-PT15M
ACTION:DISPLAY
END:VALARM
END:VEVENT
END:VCALENDAR
