BEGIN:VCALENDAR
PRODID:-//Google Inc//Google Calendar 70.9054//EN
VERSION:2.0
CALSCALE:GREGORIAN
METHOD:REQUEST
BEGIN:VTIMEZONE
TZID:America/New_York
X-LIC-LOCATION:America/New_York
BEGIN:DAYLIGHT
TZOFFSETFROM:-0500
TZOFFSETTO:-0400
TZNAME:EDT
DTSTART:19700308T020000
RRULE:FREQ=YEARLY;BYMONTH=3;BYDAY=2SU
END:DAYLIGHT
BEGIN:STANDARD
TZOFFSETFROM:-0400
TZOFFSETTO:-0500
TZNAME:EST
DTSTART:19701101T020000
RRULE:FREQ=YEARLY;BYMONTH=11;BYDAY=1SU
END:STANDARD
END:VTIMEZONE
BEGIN:VEVENT
DTSTART;TZID=America/New_York:20260428T140000
DTEND;TZID=America/New_York:20260428T153000
DTSTAMP:20260422T051958Z
ORGANIZER;CN=Greg Shatan [NARALO]:mailto:gregshatanalac@gmail.com
UID:2rfp209csbjfk35847dcdjnt1a@google.com
ATTENDEE;CUTYPE=INDIVIDUAL;ROLE=REQ-PARTICIPANT;PARTSTAT=NEEDS-ACTION;RSVP=
 TRUE;CN=afri-discuss@icann.org;X-NUM-GUESTS=0:mailto:afri-discuss@icann.org
ATTENDEE;CUTYPE=INDIVIDUAL;ROLE=REQ-PARTICIPANT;PARTSTAT=NEEDS-ACTION;RSVP=
 TRUE;CN=euro-discuss@icann.org;X-NUM-GUESTS=0:mailto:euro-discuss@icann.org
ATTENDEE;CUTYPE=INDIVIDUAL;ROLE=REQ-PARTICIPANT;PARTSTAT=NEEDS-ACTION;RSVP=
 TRUE;CN=na-discuss@icann.org;X-NUM-GUESTS=0:mailto:na-discuss@icann.org
ATTENDEE;CUTYPE=INDIVIDUAL;ROLE=REQ-PARTICIPANT;PARTSTAT=NEEDS-ACTION;RSVP=
 TRUE;CN=siranush.vardanyan@icann.org;X-NUM-GUESTS=0:mailto:siranush.vardany
 an@icann.org
ATTENDEE;CUTYPE=INDIVIDUAL;ROLE=REQ-PARTICIPANT;PARTSTAT=NEEDS-ACTION;RSVP=
 TRUE;CN=staff@atlarge.icann.org;X-NUM-GUESTS=0:mailto:staff@atlarge.icann.o
 rg
ATTENDEE;CUTYPE=INDIVIDUAL;ROLE=REQ-PARTICIPANT;PARTSTAT=NEEDS-ACTION;RSVP=
 TRUE;CN=apac-discuss@icann.org;X-NUM-GUESTS=0:mailto:apac-discuss@icann.org
ATTENDEE;CUTYPE=INDIVIDUAL;ROLE=REQ-PARTICIPANT;PARTSTAT=NEEDS-ACTION;RSVP=
 TRUE;CN=lac-discuss-en@icann.org;X-NUM-GUESTS=0:mailto:lac-discuss-en@icann
 .org
ATTENDEE;CUTYPE=INDIVIDUAL;ROLE=REQ-PARTICIPANT;PARTSTAT=NEEDS-ACTION;RSVP=
 TRUE;CN=fernanda.iunes@icann.org;X-NUM-GUESTS=0:mailto:fernanda.iunes@icann
 .org
ATTENDEE;CUTYPE=INDIVIDUAL;ROLE=REQ-PARTICIPANT;PARTSTAT=ACCEPTED;RSVP=TRUE
 ;CN=Greg Shatan [NARALO];X-NUM-GUESTS=0:mailto:gregshatanalac@gmail.com
ATTENDEE;CUTYPE=INDIVIDUAL;ROLE=REQ-PARTICIPANT;PARTSTAT=NEEDS-ACTION;RSVP=
 TRUE;CN=alac-announce@icann.org;X-NUM-GUESTS=0:mailto:alac-announce@icann.o
 rg
X-MICROSOFT-CDO-OWNERAPPTID:-769884968
CREATED:20260422T051941Z
DESCRIPTION: \n\nYou are invited to participate in this At-Large Webinar: “
 ICANN Global Public Interest Framework (GPIF) and its Relevance to At-Large
 ” on Tuesday\, 28 April 2026 at 19:00 UTC for 75 mins\, to discuss the appl
 icability of the GPIF to the work of the At-Large in ICANN.\n\n\n“The role 
 of the ALAC shall be to consider and provide advice on the activities of IC
 ANN\, insofar as they relate to the interests of individual Internet users.
  This includes policies created through ICANN's Supporting Organizations\, 
 as well as the many other issues for which community input and advice is ap
 propriate.” ...
LAST-MODIFIED:20260422T051941Z
LOCATION:
SEQUENCE:0
STATUS:CONFIRMED
SUMMARY:[NA-Discuss] Meeting Invitation: At-Large Webinar: ICANN Global Pub
 lic Interest Framework (GPIF) and its Relevance to At-Large on Tuesday\, 28
  April 2026 at 19:00 UTC
TRANSP:OPAQUE
BEGIN:VALARM
ACTION:DISPLAY
DESCRIPTION:This is an event reminder
TRIGGER:-P0DT0H30M0S
END:VALARM
END:VEVENT
END:VCALENDAR
