BEGIN:VCALENDAR
PRODID:-//Google Inc//Google Calendar 70.9054//EN
VERSION:2.0
CALSCALE:GREGORIAN
METHOD:CANCEL
BEGIN:VEVENT
DTSTART:20260428T180000Z
DTEND:20260428T193000Z
DTSTAMP:20260422T052552Z
ORGANIZER;CN=Greg Shatan [NARALO]:mailto:gregshatanalac@gmail.com
UID:2rfp209csbjfk35847dcdjnt1a@google.com
ATTENDEE;CUTYPE=INDIVIDUAL;ROLE=REQ-PARTICIPANT;PARTSTAT=DECLINED;CN=apac-d
 iscuss@icann.org;X-NUM-GUESTS=0:mailto:apac-discuss@icann.org
CREATED:20260422T051941Z
DESCRIPTION: \n\nYou are invited to participate in this At-Large Webinar: “
 ICANN Global Public Interest Framework (GPIF) and its Relevance to At-Large
 ” on Tuesday\, 28 April 2026 at 19:00 UTC for 75 mins\, to discuss the appl
 icability of the GPIF to the work of the At-Large in ICANN.\n\n\n“The role 
 of the ALAC shall be to consider and provide advice on the activities of IC
 ANN\, insofar as they relate to the interests of individual Internet users.
  This includes policies created through ICANN's Supporting Organizations\, 
 as well as the many other issues for which community input and advice is ap
 propriate.” ...
LAST-MODIFIED:20260422T052545Z
LOCATION:
SEQUENCE:0
STATUS:CONFIRMED
SUMMARY:[NA-Discuss] Meeting Invitation: At-Large Webinar: ICANN Global Pub
 lic Interest Framework (GPIF) and its Relevance to At-Large on Tuesday\, 28
  April 2026 at 19:00 UTC
TRANSP:OPAQUE
END:VEVENT
END:VCALENDAR
