BEGIN:VCALENDAR
VERSION:2.0
PRODID:-//Microsoft Corporation//Outlook for Mac MIMEDIR//EN
METHOD:PUBLISH
BEGIN:VTIMEZONE
TZID:Coordinated Universal Time
X-ENTOURAGE-CFTIMEZONE:Etc/GMT
X-ENTOURAGE-TZID:160
BEGIN:STANDARD
TZOFFSETFROM:+0000
TZOFFSETTO:+0000
DTSTART:16010101T000000
END:STANDARD
END:VTIMEZONE
BEGIN:VEVENT
UID:040000008200E00074C5B7101A82E008000000001273996ECC94DA0100000000000000
 0010000000466766FFA1ABBF4C8C2664338A81AEF1
X-ENTOURAGE_UUID:8F84D908-FB18-4BC2-91C3-E92AEF695C60
X-MICROSOFT-EXCHANGE-ID:AAMkADFlMDNlNjQ5LTNjNTUtNDJkMC04ZTI0LWFiMTFkOTgwND
 JhMQBGAAAAAAAdZPIZTDF9SJl4Q9bAl0gQBwAFskP3JLIoSYZSK2rNBQTXAIjV8WqdAACjhqXC
 SbKVRZwH7aZE5XhKAAOHHYahAAA=
CATEGORIES:
X-MICROSOFT-EXCHANGE-CHANGEKEY:DwAAABYAAACjhqXCSbKVRZwH7aZE5XhKAAOHSAj4
DTSTAMP:20240422T174433Z
DTSTART;TZID="Coordinated Universal Time":20240425T060000
DTEND;TZID="Coordinated Universal Time":20240425T071500
LAST-MODIFIED:20240422T174433Z
SUMMARY:Fifth APRALO Policy Forum Fireside Chat: "Let's Talk About
  Internet Fragmentation
DESCRIPTION: \n\nFifth APRALO Policy Forum Fireside Chat: "Let���s Talk
  About Internet Fragmentation���\n\n \n\nThursday\, 25 April 2024 at
  06:00 UTC\n\n \n\nPLEASE REGISTER TO JOIN AND SHARE THIS INVITATION WITH
  ALL!\n\nZoom Registration:
  https://icann.zoom.us/meeting/register/tJwkfuCqpzgoGNeaggZfLOq5kqzmXf5pVF
 oB\n\n \n\nEnglish only\n\n \n\nIf you have any\, please let us have your
  questions on this topic in advance.  You can submit them by emailing
  staff or posting them as comments here:
  https://community.icann.org/x/pQK1E\n\n.\n\nOtherwise\, just come along
  and ask your questions during the event.\n\n\nDear All\,\n\nYou are
  invited to participate the fifth APRALO Policy Forum Fireside Chat:
  "Let's Talk About Internet Fragmentation" on Thursday\, 25 April 2024 at
  06:00 UTC for 60 minutes\, where Amrita Choudhury\, will be chatting
  with her guest speakers: Chris Buckridge\, Independent consultant on
  Internet Governance and Digital Policy & ICANN Board Member\, Anriette
  Esterhuysen\, Senior advisor on Global and Regional Internet Governance
  & Pablo Hinojosa\, APNIC.\n\n \n\n\n\nZOOM Registration:
  https://icann.zoom.us/meeting/register/tJwkfuCqpzgoGNeaggZfLOq5kqzmXf5pVF
 oB  (you MUST register to join!) \n\n\n\n*** After registering\, you will
  receive a confirmation e-mail containing information about joining the
  meeting.***\n\n \nAnd if you have any\, please let us have your
  questions for our guest speaker on this topic ahead of the chat\, you
  can submit them by emailing staff or posting them as comments here:
  https://community.icann.org/x/hQQVD. Otherwise\, just come along and ask
  your questions during the event.\n \nAgenda and joining details:
  https://community.icann.org/x/ZgCLEw\n\nAPRALO Fireside Chats Wiki page:
  https://community.icann.org/x/TQ3CCw\n\nAPRALO Policy Forum Wiki page:
  https://community.icann.org/x/TwDQC\n\nIf you require a dial-out please
  contact At-Large staff at staff@atlarge.icann.org with your preferred
  number.\n\nThank you.\n\nKind Regards\,\n\n \n\nAt-Large Staff\n\nICANN
  Policy Staff in support of the At-Large Community\n\nWebsite:
  atlarge.icann.org\n\nFacebook: facebook.com/icannatlarge\n\nTwitter:
  @ICANNAtLarge\n\n\n\n
LOCATION:06:00 UTC: Adigo: 1638 - Zoom Registration Link:
  https://icann.zoom.us/meeting/register/tJwkfuCqpzgoGNeaggZfLOq5kqzmXf5pVF
 oB
ORGANIZER:MAILTO:PolicyCalendar@icann.org
SEQUENCE:0
ATTENDEE;ROLE=REQ-PARTICIPANT;RSVP=FALSE;CN="Heidi
  Ullrich";PARTSTAT=NEEDS-ACTION:MAILTO:Heidi.Ullrich@icann.org
ATTENDEE;ROLE=REQ-PARTICIPANT;RSVP=FALSE;CN="Gisella
  Gruber";PARTSTAT=NEEDS-ACTION:MAILTO:Gisella.Gruber@icann.org
ATTENDEE;ROLE=REQ-PARTICIPANT;RSVP=FALSE;CN="Yesim
  Saglam";PARTSTAT=NEEDS-ACTION:MAILTO:yesim.nazlar@icann.org
ATTENDEE;ROLE=REQ-PARTICIPANT;RSVP=FALSE;CN="Claudia
  Ruiz";PARTSTAT=NEEDS-ACTION:MAILTO:claudia.ruiz@icann.org
ATTENDEE;ROLE=REQ-PARTICIPANT;RSVP=FALSE;CN="Silvia
  Vivanco";PARTSTAT=NEEDS-ACTION:MAILTO:silvia.vivanco@icann.org
ATTENDEE;ROLE=REQ-PARTICIPANT;RSVP=FALSE;CN="Andrew
  Chen";PARTSTAT=NEEDS-ACTION:MAILTO:andrew.chen@icann.org
ATTENDEE;ROLE=REQ-PARTICIPANT;RSVP=FALSE;CN="Michelle
  DeSmyter";PARTSTAT=NEEDS-ACTION:MAILTO:michelle.desmyter@icann.org
ATTENDEE;ROLE=REQ-PARTICIPANT;RSVP=FALSE;CN=apac-discuss@atlarge-lists.ica
 nn.org;PARTSTAT=NEEDS-ACTION:MAILTO:apac-discuss@atlarge-lists.icann.org
ATTENDEE;ROLE=REQ-PARTICIPANT;RSVP=FALSE;CN=apralo-policy@icann.org;PARTST
 AT=NEEDS-ACTION:MAILTO:apralo-policy@icann.org
ATTENDEE;ROLE=REQ-PARTICIPANT;RSVP=FALSE;CN="Jia Rong
  Low";PARTSTAT=NEEDS-ACTION:MAILTO:jiarong.low@icann.org
ATTENDEE;ROLE=REQ-PARTICIPANT;RSVP=FALSE;CN="Athena
  Foo";PARTSTAT=NEEDS-ACTION:MAILTO:athena.foo@icann.org
ATTENDEE;ROLE=REQ-PARTICIPANT;RSVP=FALSE;CN=pablo@apnic.net;PARTSTAT=NEEDS
 -ACTION:MAILTO:pablo@apnic.net
ATTENDEE;ROLE=REQ-PARTICIPANT;RSVP=FALSE;CN=anriette@apc.org;PARTSTAT=NEED
 S-ACTION:MAILTO:anriette@apc.org
ATTENDEE;ROLE=REQ-PARTICIPANT;RSVP=FALSE;CN=amritachoudhury@ccaoi.in;PARTS
 TAT=NEEDS-ACTION:MAILTO:amritachoudhury@ccaoi.in
ATTENDEE;ROLE=REQ-PARTICIPANT;RSVP=FALSE;CN=chrisbuckridge@gmail.com;PARTS
 TAT=NEEDS-ACTION:MAILTO:chrisbuckridge@gmail.com
X-MICROSOFT-CDO-BUSYSTATUS:BUSY
X-MICROSOFT-CDO-ALLDAYEVENT:FALSE
X-MICROSOFT-DISALLOW-COUNTER:FALSE
X-MICROSOFT-DONOTFORWARDMEETING:FALSE
X-MICROSOFT-CDO-INSTTYPE:0
BEGIN:VALARM
ACTION:DISPLAY
DESCRIPTION:REMINDER
TRIGGER;RELATED=START:-PT00H15M00S
END:VALARM
END:VEVENT
END:VCALENDAR
