BEGIN:VCALENDAR
METHOD:REQUEST
PRODID:Microsoft Exchange Server 2010
VERSION:2.0
BEGIN:VTIMEZONE
TZID:UTC
BEGIN:STANDARD
DTSTART:16010101T000000
TZOFFSETFROM:+0000
TZOFFSETTO:+0000
END:STANDARD
BEGIN:DAYLIGHT
DTSTART:16010101T000000
TZOFFSETFROM:+0000
TZOFFSETTO:+0000
END:DAYLIGHT
END:VTIMEZONE
BEGIN:VEVENT
ORGANIZER;CN=ICANN Policy Calendar:MAILTO:PolicyCalendar@icann.org
ATTENDEE;ROLE=REQ-PARTICIPANT;PARTSTAT=NEEDS-ACTION;RSVP=TRUE;CN=Heidi Ullr
 ich:MAILTO:Heidi.Ullrich@icann.org
ATTENDEE;ROLE=REQ-PARTICIPANT;PARTSTAT=NEEDS-ACTION;RSVP=TRUE;CN=Silvia Viv
 anco:MAILTO:silvia.vivanco@icann.org
ATTENDEE;ROLE=REQ-PARTICIPANT;PARTSTAT=NEEDS-ACTION;RSVP=TRUE;CN=Gisella Gr
 uber:MAILTO:Gisella.Gruber@icann.org
ATTENDEE;ROLE=REQ-PARTICIPANT;PARTSTAT=NEEDS-ACTION;RSVP=TRUE;CN=Andrew Che
 n:MAILTO:andrew.chen@icann.org
ATTENDEE;ROLE=REQ-PARTICIPANT;PARTSTAT=NEEDS-ACTION;RSVP=TRUE;CN=Michelle D
 eSmyter:MAILTO:michelle.desmyter@icann.org
ATTENDEE;ROLE=REQ-PARTICIPANT;PARTSTAT=NEEDS-ACTION;RSVP=TRUE;CN=Brenda Bre
 wer:MAILTO:brenda.brewer@icann.org
ATTENDEE;ROLE=REQ-PARTICIPANT;PARTSTAT=NEEDS-ACTION;RSVP=TRUE;CN=yesim.sagl
 am@icann.org:MAILTO:yesim.saglam@icann.org
ATTENDEE;ROLE=REQ-PARTICIPANT;PARTSTAT=NEEDS-ACTION;RSVP=TRUE;CN=apac-discu
 ss@icann.org:MAILTO:apac-discuss@icann.org
ATTENDEE;ROLE=REQ-PARTICIPANT;PARTSTAT=NEEDS-ACTION;RSVP=TRUE;CN=Cheryl Lan
 gdon Orr:MAILTO:langdonorr@gmail.com
ATTENDEE;ROLE=REQ-PARTICIPANT;PARTSTAT=NEEDS-ACTION;RSVP=TRUE;CN=Satish Bab
 u:MAILTO:sbabu@ieee.org
ATTENDEE;ROLE=REQ-PARTICIPANT;PARTSTAT=NEEDS-ACTION;RSVP=TRUE;CN=jen@dot.as
 ia:MAILTO:jen@dot.asia
ATTENDEE;ROLE=REQ-PARTICIPANT;PARTSTAT=NEEDS-ACTION;RSVP=TRUE;CN=kristina.h
 akobyan@isoc.am:MAILTO:kristina.hakobyan@isoc.am
ATTENDEE;ROLE=REQ-PARTICIPANT;PARTSTAT=NEEDS-ACTION;RSVP=TRUE;CN=Yien Chyn 
 Tan:MAILTO:yienchyn.tan@icann.org
ATTENDEE;ROLE=REQ-PARTICIPANT;PARTSTAT=NEEDS-ACTION;RSVP=TRUE;CN=annaliese.
 williams@auda.org.au:MAILTO:annaliese.williams@auda.org.au
ATTENDEE;ROLE=REQ-PARTICIPANT;PARTSTAT=NEEDS-ACTION;RSVP=TRUE;CN=Einas Al S
 haikh:MAILTO:einas.alshaikh@gmail.com
ATTACH:CID:image001.png@01DB9A5D.F95A43C0
DESCRIPTION;LANGUAGE=en-US:**If you require a dial-out or need to state an 
 apology\, please contact At-Large staff at staff@atlarge.icann.org<mailto:
 staff@atlarge.icann.org> with your preferred number.**\n\n** Please regist
 er for Zoom **\n\n*Registration* for Zoom:  https://icann.zoom.us/meeting/
 register/p587CtffQI62tQ1EWsFNFg\n\nPlease join us and spread the word!\n\n
 Dear All\,\n\nYou are invited to participate in the interactive ICANN82 Re
 ad-out organized by the APRALO Policy Forum on Thursday\, 03 April 2025 at
  06:00 UTC for 90 minutes\, featuring At-Large\, GAC\, GNSO\, ccNSO and IC
 ANN82 Fellow panellists from the APAC region.\n\nPanellists will discuss t
 heir respective key takeaways from ICANN82 and participants are welcomed t
 o join in the conversation aimed at identifying where and how end-users ma
 y play a role in any next steps to each of those takeaways.\n\nFor other t
 imes: https://tinyurl.com/564bu4tc\n\nThe full agenda with panellists and 
 moderator profiles can be found at: https://icann-community.atlassian.net/
 wiki/x/JoDFC\n\nAPRALO Policy Forum Wiki Workspace: https://icann-communit
 y.atlassian.net/wiki/x/OOrdBg\n\n*Registration* for Zoom: https://icann.zo
 om.us/meeting/register/p587CtffQI62tQ1EWsFNFg\n\n\nThank you.\nKind Regard
 s\,\n\nAt-Large Staff\nICANN Policy Staff in support of the At-Large Commu
 nity\nWebsite: atlarge.icann.org<https://atlarge.icann.org/>\nFacebook: fa
 cebook.com/icann<https://www.facebook.com/icannatlarge>atlarge<https://www
 .facebook.com/icannatlarge>\nTwitter: @<https://twitter.com/ICANNAtLarge>I
 CANNAtLarge<https://twitter.com/ICANNAtLarge>\n\n\n
UID:851226DA-20EC-4D96-B0D5-931659BFED03
SUMMARY;LANGUAGE=en-US:APRALO ICANN82 Read-out
DTSTART;TZID=UTC:20250403T060000
DTEND;TZID=UTC:20250403T073000
CLASS:PUBLIC
PRIORITY:5
DTSTAMP:20250321T093725Z
TRANSP:OPAQUE
STATUS:CONFIRMED
SEQUENCE:0
LOCATION;LANGUAGE=en-US:06:00 UTC - Zoom Registration Link: https://icann.z
 oom.us/meeting/register/p587CtffQI62tQ1EWsFNFg 
X-MICROSOFT-CDO-APPT-SEQUENCE:0
X-MICROSOFT-CDO-OWNERAPPTID:2123607336
X-MICROSOFT-CDO-BUSYSTATUS:TENTATIVE
X-MICROSOFT-CDO-INTENDEDSTATUS:BUSY
X-MICROSOFT-CDO-ALLDAYEVENT:FALSE
X-MICROSOFT-CDO-IMPORTANCE:1
X-MICROSOFT-CDO-INSTTYPE:0
X-MICROSOFT-DONOTFORWARDMEETING:FALSE
X-MICROSOFT-DISALLOW-COUNTER:FALSE
BEGIN:VALARM
DESCRIPTION:REMINDER
TRIGGER;RELATED=START:-PT15M
ACTION:DISPLAY
END:VALARM
END:VEVENT
END:VCALENDAR
