BEGIN:VCALENDAR
METHOD:REQUEST
PRODID:Microsoft Exchange Server 2010
VERSION:2.0
BEGIN:VTIMEZONE
TZID:UTC
BEGIN:STANDARD
DTSTART:16010101T000000
TZOFFSETFROM:+0000
TZOFFSETTO:+0000
END:STANDARD
BEGIN:DAYLIGHT
DTSTART:16010101T000000
TZOFFSETFROM:+0000
TZOFFSETTO:+0000
END:DAYLIGHT
END:VTIMEZONE
BEGIN:VEVENT
ORGANIZER;CN=ICANN Policy Calendar:MAILTO:PolicyCalendar@icann.org
ATTENDEE;ROLE=REQ-PARTICIPANT;PARTSTAT=NEEDS-ACTION;RSVP=FALSE;CN=ICANN At-
 Large Staff:MAILTO:staff@atlarge.icann.org
ATTENDEE;ROLE=REQ-PARTICIPANT;PARTSTAT=NEEDS-ACTION;RSVP=FALSE;CN=ALAC-Anno
 unce@icann.org:MAILTO:ALAC-Announce@icann.org
ATTENDEE;ROLE=REQ-PARTICIPANT;PARTSTAT=NEEDS-ACTION;RSVP=FALSE;CN=LAC Discu
 ss:MAILTO:lac-discuss-en@atlarge-lists.icann.org
ATTENDEE;ROLE=REQ-PARTICIPANT;PARTSTAT=NEEDS-ACTION;RSVP=FALSE;CN= APAC-Dis
 cuss:MAILTO:apac-discuss@icann.org
ATTENDEE;ROLE=REQ-PARTICIPANT;PARTSTAT=NEEDS-ACTION;RSVP=FALSE;CN=na-discus
 s@icann.org:MAILTO:na-discuss@icann.org
ATTENDEE;ROLE=REQ-PARTICIPANT;PARTSTAT=NEEDS-ACTION;RSVP=FALSE;CN=afri-disc
 uss@icann.org:MAILTO:afri-discuss@icann.org
ATTENDEE;ROLE=REQ-PARTICIPANT;PARTSTAT=NEEDS-ACTION;RSVP=FALSE;CN=euro-disc
 uss@icann.org:MAILTO:euro-discuss@icann.org
ATTENDEE;ROLE=REQ-PARTICIPANT;PARTSTAT=NEEDS-ACTION;RSVP=FALSE;CN=Siranush 
 Vardanyan:MAILTO:siranush.vardanyan@icann.org
ATTENDEE;ROLE=REQ-PARTICIPANT;PARTSTAT=NEEDS-ACTION;RSVP=FALSE;CN=Fernanda 
 Iunes:MAILTO:fernanda.iunes@icann.org
ATTACH:CID:image001.png@01DCD0CC.E52A4250
DESCRIPTION;LANGUAGE=en-US:\n\nYou are invited to participate in this At-La
 rge Webinar: “ICANN Global Public Interest Framework (GPIF) and its Rele
 vance to At-Large” on Tuesday\, 28 April 2026 at 19:00 UTC for 75 mins\,
  to discuss the applicability of the GPIF to the work of the At-Large in I
 CANN.\n\n“The role of the ALAC shall be to consider and provide advice o
 n the activities of ICANN\, insofar as they relate to the interests of ind
 ividual Internet users. This includes policies created through ICANN's Sup
 porting Organizations\, as well as the many other issues for which communi
 ty input and advice is appropriate.”\n– ICANN Bylaws\, Article 12\, Se
 ction 12.2(d)(i)\n\nIn advocating for the interests of individual Internet
  users\, the ALAC and At-Large community’s engagement in ICANN ought to 
 include the consideration of the global public interest. This webinar aims
  to establish a common understanding of the ICANN Global Public Interest F
 ramework to inform a discussion on its relevance and applicability to the 
 ALAC and At-Large community’s engagement in ICANN.\n\nJoin us to learn m
 ore and to offer your input to our agenda on global public interest!\n\n\n
 \nThis webinar is part of the FY2026 At-Large Capacity Development Initiat
 ives<https://docs.google.com/document/d/1Hnv5EnPAOu99Narg13yTc1kOjozDArg_m
 6g_KQyXuMo/edit?tab=t.0>\n\nInterpretation will be available in English\, 
 French\, and Spanish.\n\nFor other times: Click Here<https://urldefense.co
 m/v3/__https:/www.timeanddate.com/worldclock/fixedtime.html?msg=At-Large*W
 ebinar*3A*ICANN*Global*Public*Interest*Framework**A28GPIF*29*and*its*Relev
 ance*to*At-Large&iso=20260428T17&p1=1440&ah=1&am=15__\;KyUrKysrKyslJSsrKys
 r!!PtGJab4!-X-IdDuEE9WyqtMagLa3o95zMsl6JmqV_Hf8SrZmmbT-N3_wgxiKIId9j3ONPDs
 9qFLV3xr3NUDMBJhmFcyGV4H8mVOdOz_6Dc92PA$>\n\nThe agenda (to be updated) an
 d call details can be found at: https://icann-community.atlassian.net/wiki
 /x/AYCOPg<https://urldefense.com/v3/__https:/icann-community.atlassian.net
 /wiki/x/AYCOPg__\;!!PtGJab4!-X-IdDuEE9WyqtMagLa3o95zMsl6JmqV_Hf8SrZmmbT-N3
 _wgxiKIId9j3ONPDs9qFLV3xr3NUDMBJhmFcyGV4H8mVOdOz8xU0WvgQ$>\n\nZoom Registr
 ation: https://icann.zoom.us/meeting/register/yTfe4KY4T9CNSXP6u7LKfQ<https
 ://urldefense.com/v3/__https:/icann.zoom.us/meeting/register/yTfe4KY4T9CNS
 XP6u7LKfQ__\;!!PtGJab4!-X-IdDuEE9WyqtMagLa3o95zMsl6JmqV_Hf8SrZmmbT-N3_wgxi
 KIId9j3ONPDs9qFLV3xr3NUDMBJhmFcyGV4H8mVOdOz_QBMKs6g$> You must register to
  join.\nPassword: #gpif2026!\n\nThank you.\nKind regards\,\n\nAt-Large Sta
 ff\nICANN Policy Staff in support of the At-Large Community\nwww.icann.org
 <http://www.icann.org>\n\n
UID:BFF13C63-E346-40C5-8642-A4D958CC6360
SUMMARY;LANGUAGE=en-US:At-Large Webinar: ICANN Global Public Interest Frame
 work (GPIF) and its Relevance to At-Large
DTSTART;TZID=UTC:20260428T190000
DTEND;TZID=UTC:20260428T201500
CLASS:PUBLIC
PRIORITY:5
DTSTAMP:20260420T175216Z
TRANSP:OPAQUE
STATUS:CONFIRMED
SEQUENCE:3
LOCATION;LANGUAGE=en-US:19:00 UTC | https://icann.zoom.us/meeting/register/
 yTfe4KY4T9CNSXP6u7LKfQ 
X-MICROSOFT-CDO-APPT-SEQUENCE:3
X-MICROSOFT-CDO-OWNERAPPTID:2124681818
X-MICROSOFT-CDO-BUSYSTATUS:TENTATIVE
X-MICROSOFT-CDO-INTENDEDSTATUS:BUSY
X-MICROSOFT-CDO-ALLDAYEVENT:FALSE
X-MICROSOFT-CDO-IMPORTANCE:1
X-MICROSOFT-CDO-INSTTYPE:0
X-MICROSOFT-DONOTFORWARDMEETING:FALSE
X-MICROSOFT-DISALLOW-COUNTER:TRUE
BEGIN:VALARM
DESCRIPTION:REMINDER
TRIGGER;RELATED=START:-PT15M
ACTION:DISPLAY
END:VALARM
END:VEVENT
END:VCALENDAR
