BEGIN:VCALENDAR
METHOD:Reply
PRODID:-//Tencent Corporation//Foxmail
CALSCALE:GREGORIAN
VERSION:2.0
BEGIN:VEVENT
UID:85B54C5B-0212-4670-A6E3-050A61DBFBE4
DTSTAMP:20240816T065851Z
CREATED:20240816T072331Z
LAST-MODIFIED:20240816T072331Z
LOCATION:https://icann.zoom.us/j/95343564290?pwd=s4XExjPzsgl74t9I5pbfc7LzT
 5oWNS.1
SUMMARY:������:[Ccnso-pgawg] Policy Gap Analysis Working Group (PGA WG) | 27 A
 ugust 2024 at 20:00 UTC
DESCRIPTION:zhupengyu@cnnic.cn������������������������������
DTSTART:20240827T200000Z
DTEND:20240827T210000Z
CLASS:PUBLIC
ATTENDEE;CN=zhupengyu@cnnic.cn;RSVP=TRUE;PARTSTAT=ACCEPTED:MAILTO:zhupengy
 u@cnnic.cn
END:VEVENT
END:VCALENDAR
