BEGIN:VCALENDAR
METHOD:REQUEST
PRODID:Microsoft Exchange Server 2010
VERSION:2.0
BEGIN:VTIMEZONE
TZID:UTC
BEGIN:STANDARD
DTSTART:16010101T000000
TZOFFSETFROM:+0000
TZOFFSETTO:+0000
END:STANDARD
BEGIN:DAYLIGHT
DTSTART:16010101T000000
TZOFFSETFROM:+0000
TZOFFSETTO:+0000
END:DAYLIGHT
END:VTIMEZONE
BEGIN:VEVENT
ORGANIZER;CN=Claudia Ruiz:MAILTO:claudia.ruiz@icann.org
ATTENDEE;ROLE=REQ-PARTICIPANT;PARTSTAT=NEEDS-ACTION;RSVP=TRUE;CN=ccNSO-PGAW
 G@icann.org:MAILTO:ccNSO-PGAWG@icann.org
ATTENDEE;ROLE=OPT-PARTICIPANT;PARTSTAT=NEEDS-ACTION;RSVP=TRUE;CN=Diego Erne
 sto Luna Quevedo:MAILTO:dlunaq@mintic.gov.co
ATTENDEE;ROLE=OPT-PARTICIPANT;PARTSTAT=NEEDS-ACTION;RSVP=TRUE;CN=Peter Van 
 Roste:MAILTO:peter@centr.org
ATTENDEE;ROLE=OPT-PARTICIPANT;PARTSTAT=NEEDS-ACTION;RSVP=TRUE;CN=Kim Davies
 :MAILTO:kim.davies@iana.org
ATTENDEE;ROLE=OPT-PARTICIPANT;PARTSTAT=NEEDS-ACTION;RSVP=TRUE;CN=Jordan Car
 ter:MAILTO:jordan.carter@auda.org.au
ATTENDEE;ROLE=OPT-PARTICIPANT;PARTSTAT=NEEDS-ACTION;RSVP=TRUE;CN=Declan McD
 ermott:MAILTO:dmcdermott@weare.ie
ATTENDEE;ROLE=OPT-PARTICIPANT;PARTSTAT=NEEDS-ACTION;RSVP=TRUE;CN=Selina Har
 rington:MAILTO:selina.harrington@iana.org
ATTENDEE;ROLE=OPT-PARTICIPANT;PARTSTAT=NEEDS-ACTION;RSVP=TRUE;CN=Irina Dane
 lia:MAILTO:i.danelia@cctld.ru
ATTENDEE;ROLE=OPT-PARTICIPANT;PARTSTAT=NEEDS-ACTION;RSVP=TRUE;CN=lpyadav:MA
 ILTO:lpyadav@nepal.gov.np
ATTENDEE;ROLE=OPT-PARTICIPANT;PARTSTAT=NEEDS-ACTION;RSVP=TRUE;CN=s.lobanova
 @cctld.ru:MAILTO:s.lobanova@cctld.ru
ATTENDEE;ROLE=OPT-PARTICIPANT;PARTSTAT=NEEDS-ACTION;RSVP=TRUE;CN=Joke Braek
 en:MAILTO:joke.braeken@icann.org
ATTENDEE;ROLE=OPT-PARTICIPANT;PARTSTAT=NEEDS-ACTION;RSVP=TRUE;CN=Bart Boswi
 nkel:MAILTO:bart.boswinkel@icann.org
ATTENDEE;ROLE=OPT-PARTICIPANT;PARTSTAT=NEEDS-ACTION;RSVP=TRUE;CN=Chris Diss
 pain:MAILTO:chris.disspain@identity.digital
DESCRIPTION;LANGUAGE=en-US:***REMINDER***\n\nDear all\,\n\nThe next Policy 
 Gap Analysis Working Group teleconference is scheduled for 26 November 202
 4 at 04:00 UTC.\n\nPlease find the call details below:\n\nJoin Zoom Meetin
 g\nhttps://icann.zoom.us/j/95343564290?pwd=s4XExjPzsgl74t9I5pbfc7LzT5oWNS.
 1\n\nMeeting ID: 953 4356 4290\nPasscode: PGAWG#2024\n\nWiki: https://comm
 unity.icann.org/x/swFEFw\n\n\nThank you!\n\n\n\n
UID:10A23CA8-451B-4DE4-A139-91321092778F
SUMMARY;LANGUAGE=en-US:Policy Gap Analysis Working Group (PGA WG) | 26  Nov
 ember 2024 at 04:00 UTC 
DTSTART;TZID=UTC:20241126T040000
DTEND;TZID=UTC:20241126T050000
CLASS:PUBLIC
PRIORITY:5
DTSTAMP:20241125T195045Z
TRANSP:OPAQUE
STATUS:CONFIRMED
SEQUENCE:2
LOCATION;LANGUAGE=en-US:https://icann.zoom.us/j/95343564290?pwd=s4XExjPzsgl
 74t9I5pbfc7LzT5oWNS.1
X-MICROSOFT-CDO-APPT-SEQUENCE:2
X-MICROSOFT-CDO-OWNERAPPTID:2123069558
X-MICROSOFT-CDO-BUSYSTATUS:TENTATIVE
X-MICROSOFT-CDO-INTENDEDSTATUS:BUSY
X-MICROSOFT-CDO-ALLDAYEVENT:FALSE
X-MICROSOFT-CDO-IMPORTANCE:1
X-MICROSOFT-CDO-INSTTYPE:0
X-MICROSOFT-DONOTFORWARDMEETING:FALSE
X-MICROSOFT-DISALLOW-COUNTER:FALSE
BEGIN:VALARM
DESCRIPTION:REMINDER
TRIGGER;RELATED=START:-PT15M
ACTION:DISPLAY
END:VALARM
END:VEVENT
END:VCALENDAR
