BEGIN:VCALENDAR
METHOD:REQUEST
PRODID:Microsoft Exchange Server 2010
VERSION:2.0
BEGIN:VTIMEZONE
TZID:UTC
BEGIN:STANDARD
DTSTART:16010101T000000
TZOFFSETFROM:+0000
TZOFFSETTO:+0000
END:STANDARD
BEGIN:DAYLIGHT
DTSTART:16010101T000000
TZOFFSETFROM:+0000
TZOFFSETTO:+0000
END:DAYLIGHT
END:VTIMEZONE
BEGIN:VEVENT
ORGANIZER;CN=Claudia Ruiz:MAILTO:claudia.ruiz@icann.org
ATTENDEE;ROLE=REQ-PARTICIPANT;PARTSTAT=NEEDS-ACTION;RSVP=TRUE;CN=ccNSO-PGAW
 G@icann.org:MAILTO:ccNSO-PGAWG@icann.org
DESCRIPTION;LANGUAGE=en-US:Dear all\,\n\nThe next Policy Gap Analysis Worki
 ng Group teleconference is scheduled for 10 September 2024 at 20:00 UTC.\n
 \nAn agenda will be circulated prior to the call.\n\nPlease find the call 
 details below:\n\nJoin Zoom Meeting\nhttps://icann.zoom.us/j/95343564290?p
 wd=s4XExjPzsgl74t9I5pbfc7LzT5oWNS.1\n\nMeeting ID: 953 4356 4290\nPasscode
 : PGAWG#2024\n\nWiki: https://community.icann.org/x/VQEiFg\n\n\n\n\n
UID:3813078A-6DCF-462B-B174-59A5108460EB
SUMMARY;LANGUAGE=en-US:Policy Gap Analysis Working Group (PGA WG) | 10 Sept
 ember 2024 at 20:00 UTC 
DTSTART;TZID=UTC:20240910T200000
DTEND;TZID=UTC:20240910T210000
CLASS:PUBLIC
PRIORITY:5
DTSTAMP:20240904T171936Z
TRANSP:OPAQUE
STATUS:CONFIRMED
SEQUENCE:0
LOCATION;LANGUAGE=en-US:https://icann.zoom.us/j/95343564290?pwd=s4XExjPzsgl
 74t9I5pbfc7LzT5oWNS.1
X-MICROSOFT-CDO-APPT-SEQUENCE:0
X-MICROSOFT-CDO-OWNERAPPTID:2122917659
X-MICROSOFT-CDO-BUSYSTATUS:TENTATIVE
X-MICROSOFT-CDO-INTENDEDSTATUS:BUSY
X-MICROSOFT-CDO-ALLDAYEVENT:FALSE
X-MICROSOFT-CDO-IMPORTANCE:1
X-MICROSOFT-CDO-INSTTYPE:0
X-MICROSOFT-DONOTFORWARDMEETING:FALSE
X-MICROSOFT-DISALLOW-COUNTER:FALSE
BEGIN:VALARM
DESCRIPTION:REMINDER
TRIGGER;RELATED=START:-PT15M
ACTION:DISPLAY
END:VALARM
END:VEVENT
END:VCALENDAR
