BEGIN:VCALENDAR
METHOD:REQUEST
PRODID:Microsoft Exchange Server 2010
VERSION:2.0
BEGIN:VTIMEZONE
TZID:UTC
BEGIN:STANDARD
DTSTART:16010101T000000
TZOFFSETFROM:+0000
TZOFFSETTO:+0000
END:STANDARD
BEGIN:DAYLIGHT
DTSTART:16010101T000000
TZOFFSETFROM:+0000
TZOFFSETTO:+0000
END:DAYLIGHT
END:VTIMEZONE
BEGIN:VEVENT
ORGANIZER;CN=ccNSO Calendar:MAILTO:ccnso-calendar@icann.org
ATTENDEE;ROLE=REQ-PARTICIPANT;PARTSTAT=NEEDS-ACTION;RSVP=TRUE;CN=ccnso-pgaw
 g@icann.org:MAILTO:ccnso-pgawg@icann.org
ATTENDEE;ROLE=REQ-PARTICIPANT;PARTSTAT=NEEDS-ACTION;RSVP=TRUE;CN=Bart Boswi
 nkel:MAILTO:bart.boswinkel@icann.org
ATTENDEE;ROLE=REQ-PARTICIPANT;PARTSTAT=NEEDS-ACTION;RSVP=TRUE;CN=Joke Braek
 en:MAILTO:joke.braeken@icann.org
ATTENDEE;ROLE=REQ-PARTICIPANT;PARTSTAT=NEEDS-ACTION;RSVP=TRUE;CN=Claudia Ru
 iz:MAILTO:claudia.ruiz@icann.org
DESCRIPTION;LANGUAGE=en-US:Dear all\,\n\nThe next Policy Gap Analysis Worki
 ng Group teleconference is scheduled for 18 February 2025 at 20:00 UTC.\n\
 nPlease find the call details below:\n\nJoin Zoom Meeting\nhttps://icann.z
 oom.us/j/95343564290?pwd=s4XExjPzsgl74t9I5pbfc7LzT5oWNS.1\n\nMeeting ID: 9
 53 4356 4290\nPasscode: PGAWG#2024\n\nWiki: https://community.icann.org/x/
 FACxG\n\nThank you!\n\n\n
UID:6C17BF83-D14E-4B5E-B86C-312D5C27EE36
SUMMARY;LANGUAGE=en-US:Policy Gap Analysis Working Group (PGA WG) | 18 Febr
 uary 2025 at 20:00 UTC
DTSTART;TZID=UTC:20250218T200000
DTEND;TZID=UTC:20250218T210000
CLASS:PUBLIC
PRIORITY:5
DTSTAMP:20250210T052648Z
TRANSP:OPAQUE
STATUS:CONFIRMED
SEQUENCE:0
LOCATION;LANGUAGE=en-US:https://icann.zoom.us/j/95343564290?pwd=s4XExjPzsgl
 74t9I5pbfc7LzT5oWNS.1
X-MICROSOFT-CDO-APPT-SEQUENCE:0
X-MICROSOFT-CDO-OWNERAPPTID:2123516821
X-MICROSOFT-CDO-BUSYSTATUS:TENTATIVE
X-MICROSOFT-CDO-INTENDEDSTATUS:BUSY
X-MICROSOFT-CDO-ALLDAYEVENT:FALSE
X-MICROSOFT-CDO-IMPORTANCE:1
X-MICROSOFT-CDO-INSTTYPE:0
X-MICROSOFT-DONOTFORWARDMEETING:FALSE
X-MICROSOFT-DISALLOW-COUNTER:FALSE
BEGIN:VALARM
DESCRIPTION:REMINDER
TRIGGER;RELATED=START:-PT15M
ACTION:DISPLAY
END:VALARM
END:VEVENT
END:VCALENDAR
