BEGIN:VCALENDAR
METHOD:REQUEST
PRODID:Microsoft Exchange Server 2010
VERSION:2.0
BEGIN:VTIMEZONE
TZID:UTC
BEGIN:STANDARD
DTSTART:16010101T000000
TZOFFSETFROM:+0000
TZOFFSETTO:+0000
END:STANDARD
BEGIN:DAYLIGHT
DTSTART:16010101T000000
TZOFFSETFROM:+0000
TZOFFSETTO:+0000
END:DAYLIGHT
END:VTIMEZONE
BEGIN:VEVENT
ORGANIZER;CN=Claudia Ruiz:MAILTO:claudia.ruiz@icann.org
ATTENDEE;ROLE=REQ-PARTICIPANT;PARTSTAT=NEEDS-ACTION;RSVP=TRUE;CN=CCNSO-PGAW
 G@icann.org:MAILTO:CCNSO-PGAWG@icann.org
DESCRIPTION;LANGUAGE=en-US:ICANN81 - ccNSO: Policy Gap Analysis Working Gro
 up<https://icann81.sched.com/>\n\nSaturday November 9\, 2024 10:30 - 12:00
  GMT&#43\;03\n3B01<https://icann81.sched.com/venue/3B01>\n10:30 Turkey (UT
 C &#43\;3)\, 9 November 2024\n07:30 UTC\, 9 November 2024.\n3B01\nID# 1603
 7.\n\nParticipation Links\nTo help reduce session disruptions\, please do 
 not share Zoom participation links on social media. However\, we encourage
  you to share YouTube livestream links (when available) on social media.\n
 \nTo ensure transparency of participation in ICANN’s multistakeholder mo
 del\, please remember to sign in to Zoom sessions using your full name (e.
 g. First Name &#43\; Last Name/Surname).\n\n• Zoom Meeting Link: https:/
 /icann.zoom.us/j/91017066669?pwd=w6oDPuIq14Dk8173FP2crNjW2Nc38n.1\n• Zoo
 m Meeting ID: 910 1706 6669\n• Zoom Meeting Passcode: ad#tEek1a@\n• Zo
 om International Dial-In Numbers: https://icann.zoom.us/u/ac7QJvXUGO\n• 
 Zoom Phone Passcode: 631 217 8587\n\nInterpretation Service\n• Languages
  Available: English\n\nSession Details\nThe ccNSO Policy Gap Analysis Work
 ing Group (PGA WG) will hold an internal work session.\nThe objective of t
 he PGA WG is to identify\, analyze\, and advise Council if and how to addr
 ess gaps in existing ccNSO policies policies\, guidance or practices perta
 ining to the delegation\, transfer\, revocation and retirement of ccTLDs\,
  and other related IANA Naming Functions for ccTLDs.\nRead more: https://c
 ommunity.icann.org/x/IgDyF\n\nSession Leader: Bart Boswinkel\nStaff Facili
 tator: Claudia Ruiz\n\n
UID:31F1D636-49C1-4E6C-9859-F9E468CD20D9
SUMMARY;LANGUAGE=en-US:ICANN81 - PGA WG 
DTSTART;TZID=UTC:20241108T073000
DTEND;TZID=UTC:20241108T090000
CLASS:PUBLIC
PRIORITY:5
DTSTAMP:20241108T221710Z
TRANSP:OPAQUE
STATUS:CONFIRMED
SEQUENCE:0
LOCATION;LANGUAGE=en-US:ROOM 3B01 
X-MICROSOFT-CDO-APPT-SEQUENCE:0
X-MICROSOFT-CDO-OWNERAPPTID:2123058598
X-MICROSOFT-CDO-BUSYSTATUS:TENTATIVE
X-MICROSOFT-CDO-INTENDEDSTATUS:BUSY
X-MICROSOFT-CDO-ALLDAYEVENT:FALSE
X-MICROSOFT-CDO-IMPORTANCE:1
X-MICROSOFT-CDO-INSTTYPE:0
X-MICROSOFT-DONOTFORWARDMEETING:FALSE
X-MICROSOFT-DISALLOW-COUNTER:FALSE
BEGIN:VALARM
DESCRIPTION:REMINDER
TRIGGER;RELATED=START:-PT15M
ACTION:DISPLAY
END:VALARM
END:VEVENT
END:VCALENDAR
