BEGIN:VCALENDAR
VERSION:2.0
PRODID:-//Microsoft Corporation//Outlook for Mac MIMEDIR//EN
METHOD:PUBLISH
BEGIN:VTIMEZONE
TZID:UTC
X-ENTOURAGE-CFTIMEZONE:Etc/GMT
X-ENTOURAGE-TZID:160
BEGIN:STANDARD
TZOFFSETFROM:+0000
TZOFFSETTO:+0000
DTSTART:16010101T000000
END:STANDARD
END:VTIMEZONE
BEGIN:VEVENT
UID:B2BB97AC-9F08-44DD-BA47-170FF9220440
X-ENTOURAGE_UUID:B2BB97AC-9F08-44DD-BA47-170FF9220440
X-MICROSOFT-EXCHANGE-ID:AQMkAGRjZjZhMTI2LTA0NmItNGUzNC04MGRlLThiZWQ0NzBlYT
 YyYQBGAAADjV6+DI/FgU2jfrRdDFNKCwcANYV1Vz6LwUetjcAwunqp9QAAAgENAAAAjxZb2Mh7
 JEuN+hQQPMfhqgAD0KOCHwAAAA==
CATEGORIES:
X-MICROSOFT-EXCHANGE-CHANGEKEY:DwAAABYAAACPFlvYyHskS436FBA8x+GqAAPQ6nv3
DTSTAMP:20240912T204132Z
DTSTART;TZID=UTC:20240924T040000
DTEND;TZID=UTC:20240924T050000
LAST-MODIFIED:20240912T204132Z
SUMMARY:Policy Gap Analysis Working Group (PGA WG) | 24 September 2024 at
  04:00 UTC 
DESCRIPTION:Dear all\, \n\n \n\nThe next Policy Gap Analysis Working Group
  teleconference is scheduled for 24 September 2024 at 04:00 UTC.\n\n
  \n\nAn agenda will be circulated prior to the call.\n\n \n\nPlease find
  the call details below:\n\n \n\nJoin Zoom
  Meeting\n\nhttps://icann.zoom.us/j/95343564290?pwd=s4XExjPzsgl74t9I5pbfc7
 LzT5oWNS.1\n\n \n\nMeeting ID: 953 4356 4290\n\nPasscode: PGAWG#2024\n\n
  \n\nWiki: https://community.icann.org/x/gwBoFg \n\n \n\n \n\n \n\n \n\n
  \n
LOCATION:https://icann.zoom.us/j/95343564290?pwd=s4XExjPzsgl74t9I5pbfc7LzT
 5oWNS.1
ORGANIZER:MAILTO:Claudia.Ruiz@icann.org
SEQUENCE:0
ATTENDEE;ROLE=REQ-PARTICIPANT;RSVP=FALSE;CN=ccNSO-PGAWG@icann.org;PARTSTAT
 =NEEDS-ACTION:MAILTO:ccNSO-PGAWG@icann.org
ATTENDEE;ROLE=REQ-PARTICIPANT;RSVP=FALSE;CN="Abdalmonem
  Galila";PARTSTAT=NEEDS-ACTION:MAILTO:atharwat@tra.gov.eg
ATTENDEE;ROLE=REQ-PARTICIPANT;RSVP=FALSE;CN="Joke
  Braeken";PARTSTAT=NEEDS-ACTION:MAILTO:joke.braeken@icann.org
ATTENDEE;ROLE=REQ-PARTICIPANT;RSVP=FALSE;CN="Selina
  Harrington";PARTSTAT=NEEDS-ACTION:MAILTO:selina.harrington@iana.org
ATTENDEE;ROLE=REQ-PARTICIPANT;RSVP=FALSE;CN="Peter Van
  Roste";PARTSTAT=NEEDS-ACTION:MAILTO:peter@centr.org
ATTENDEE;ROLE=REQ-PARTICIPANT;RSVP=FALSE;CN="Nick
  Wenban-Smith";PARTSTAT=NEEDS-ACTION:MAILTO:Nick.Wenban-Smith@nominet.uk
ATTENDEE;ROLE=REQ-PARTICIPANT;RSVP=FALSE;CN="Federica
  Tortorella";PARTSTAT=NEEDS-ACTION:MAILTO:federica@staff.lactld.org
ATTENDEE;ROLE=REQ-PARTICIPANT;RSVP=FALSE;CN="Diego Ernesto Luna
  Quevedo";PARTSTAT=NEEDS-ACTION:MAILTO:dlunaq@mintic.gov.co
ATTENDEE;ROLE=REQ-PARTICIPANT;RSVP=FALSE;CN="Kim
  Davies";PARTSTAT=NEEDS-ACTION:MAILTO:kim.davies@iana.org
ATTENDEE;ROLE=REQ-PARTICIPANT;RSVP=FALSE;CN="Jordan
  Carter";PARTSTAT=NEEDS-ACTION:MAILTO:jordan.carter@auda.org.au
ATTENDEE;ROLE=REQ-PARTICIPANT;RSVP=FALSE;CN="Laura
  Margolis";PARTSTAT=NEEDS-ACTION:MAILTO:margolisl@gmail.com
ATTENDEE;ROLE=REQ-PARTICIPANT;RSVP=FALSE;CN="Declan
  McDermott";PARTSTAT=NEEDS-ACTION:MAILTO:dmcdermott@weare.ie
ATTENDEE;ROLE=REQ-PARTICIPANT;RSVP=FALSE;CN="Roc��o de la
  Fuente";PARTSTAT=NEEDS-ACTION:MAILTO:rocio@staff.lactld.org
ATTENDEE;ROLE=REQ-PARTICIPANT;RSVP=FALSE;CN="Pablo
  Rodriguez";PARTSTAT=NEEDS-ACTION:MAILTO:pablo@nic.pr
ATTENDEE;ROLE=REQ-PARTICIPANT;RSVP=FALSE;CN="Chris
  Disspain";PARTSTAT=NEEDS-ACTION:MAILTO:chris.disspain@identity.digital
ATTENDEE;ROLE=REQ-PARTICIPANT;RSVP=FALSE;CN="Irina
  Danelia";PARTSTAT=NEEDS-ACTION:MAILTO:i.danelia@cctld.ru
ATTENDEE;ROLE=REQ-PARTICIPANT;RSVP=FALSE;CN=lpyadav;PARTSTAT=NEEDS-ACTION:
 MAILTO:lpyadav@nepal.gov.np
X-MICROSOFT-CDO-BUSYSTATUS:BUSY
X-MICROSOFT-CDO-ALLDAYEVENT:FALSE
X-MICROSOFT-DISALLOW-COUNTER:FALSE
X-MICROSOFT-DONOTFORWARDMEETING:FALSE
X-MICROSOFT-CDO-INSTTYPE:0
BEGIN:VALARM
ACTION:DISPLAY
DESCRIPTION:REMINDER
TRIGGER;RELATED=START:-PT00H15M00S
END:VALARM
END:VEVENT
END:VCALENDAR
