BEGIN:VCALENDAR
METHOD:Reply
PRODID:-//Tencent Corporation//Foxmail
CALSCALE:GREGORIAN
VERSION:2.0
BEGIN:VEVENT
UID:3813078A-6DCF-462B-B174-59A5108460EB
DTSTAMP:20240904T171936Z
CREATED:20240905T085620Z
LAST-MODIFIED:20240905T085620Z
LOCATION:https://icann.zoom.us/j/95343564290?pwd=s4XExjPzsgl74t9I5pbfc7LzT
 5oWNS.1
SUMMARY:������:[Ccnso-pgawg] Policy Gap Analysis Working Group (PGA WG) | 10 S
 eptember 2024 at 20:00 UTC
DESCRIPTION:zhupengyu@cnnic.cn������������������������������
DTSTART:20240910T200000Z
DTEND:20240910T210000Z
CLASS:PUBLIC
ATTENDEE;CN=zhupengyu@cnnic.cn;RSVP=TRUE;PARTSTAT=DECLINED:MAILTO:zhupengy
 u@cnnic.cn
END:VEVENT
END:VCALENDAR
