BEGIN:VCALENDAR
METHOD:REQUEST
PRODID:Microsoft Exchange Server 2010
VERSION:2.0
BEGIN:VTIMEZONE
TZID:UTC
BEGIN:STANDARD
DTSTART:16010101T000000
TZOFFSETFROM:+0000
TZOFFSETTO:+0000
END:STANDARD
BEGIN:DAYLIGHT
DTSTART:16010101T000000
TZOFFSETFROM:+0000
TZOFFSETTO:+0000
END:DAYLIGHT
END:VTIMEZONE
BEGIN:VEVENT
ORGANIZER;CN=Claudia Ruiz:MAILTO:claudia.ruiz@icann.org
ATTENDEE;ROLE=REQ-PARTICIPANT;PARTSTAT=NEEDS-ACTION;RSVP=TRUE;CN=ccNSO-PGAW
 G@icann.org:MAILTO:ccNSO-PGAWG@icann.org
ATTENDEE;ROLE=OPT-PARTICIPANT;PARTSTAT=NEEDS-ACTION;RSVP=TRUE;CN=Diego Erne
 sto Luna Quevedo:MAILTO:dlunaq@mintic.gov.co
ATTENDEE;ROLE=OPT-PARTICIPANT;PARTSTAT=NEEDS-ACTION;RSVP=TRUE;CN=Maria Cami
 la Rojas Azula:MAILTO:mcrojas@mintic.gov.co
ATTENDEE;ROLE=OPT-PARTICIPANT;PARTSTAT=NEEDS-ACTION;RSVP=TRUE;CN=Selina Har
 rington:MAILTO:selina.harrington@iana.org
ATTENDEE;ROLE=OPT-PARTICIPANT;PARTSTAT=NEEDS-ACTION;RSVP=TRUE;CN=Federica T
 ortorella:MAILTO:federica@staff.lactld.org
ATTENDEE;ROLE=OPT-PARTICIPANT;PARTSTAT=NEEDS-ACTION;RSVP=TRUE;CN=Laura Marg
 olis:MAILTO:margolisl@gmail.com
ATTENDEE;ROLE=OPT-PARTICIPANT;PARTSTAT=NEEDS-ACTION;RSVP=TRUE;CN=Abdalmonem
  Galila:MAILTO:atharwat@tra.gov.eg
ATTENDEE;ROLE=OPT-PARTICIPANT;PARTSTAT=NEEDS-ACTION;RSVP=TRUE;CN=Peter Van 
 Roste:MAILTO:peter@centr.org
ATTENDEE;ROLE=OPT-PARTICIPANT;PARTSTAT=NEEDS-ACTION;RSVP=TRUE;CN=Chris Diss
 pain:MAILTO:chris.disspain@identity.digital
ATTENDEE;ROLE=OPT-PARTICIPANT;PARTSTAT=NEEDS-ACTION;RSVP=TRUE;CN=Declan McD
 ermott:MAILTO:dmcdermott@weare.ie
ATTENDEE;ROLE=OPT-PARTICIPANT;PARTSTAT=NEEDS-ACTION;RSVP=TRUE;CN=Bart Boswi
 nkel:MAILTO:bart.boswinkel@icann.org
ATTENDEE;ROLE=OPT-PARTICIPANT;PARTSTAT=NEEDS-ACTION;RSVP=TRUE;CN=Irina Dane
 lia:MAILTO:i.danelia@cctld.ru
ATTENDEE;ROLE=OPT-PARTICIPANT;PARTSTAT=NEEDS-ACTION;RSVP=TRUE;CN=Rocío de 
 la Fuente:MAILTO:rocio@staff.lactld.org
ATTENDEE;ROLE=OPT-PARTICIPANT;PARTSTAT=NEEDS-ACTION;RSVP=TRUE;CN=s.lobanova
 @cctld.ru:MAILTO:s.lobanova@cctld.ru
ATTENDEE;ROLE=OPT-PARTICIPANT;PARTSTAT=NEEDS-ACTION;RSVP=TRUE;CN=Kim Davies
 :MAILTO:kim.davies@iana.org
ATTENDEE;ROLE=OPT-PARTICIPANT;PARTSTAT=NEEDS-ACTION;RSVP=TRUE;CN=Pablo Rodr
 iguez:MAILTO:pablo@nic.pr
ATTENDEE;ROLE=OPT-PARTICIPANT;PARTSTAT=NEEDS-ACTION;RSVP=TRUE;CN=Eduardo To
 me:MAILTO:eduardo@rds.org.hn
ATTENDEE;ROLE=OPT-PARTICIPANT;PARTSTAT=NEEDS-ACTION;RSVP=TRUE;CN=Joke Braek
 en:MAILTO:joke.braeken@icann.org
ATTENDEE;ROLE=OPT-PARTICIPANT;PARTSTAT=NEEDS-ACTION;RSVP=TRUE;CN=Diana Marc
 ela Triana Sanchez:MAILTO:dtriana@mintic.gov.co
DESCRIPTION;LANGUAGE=en-US:***REMINDER***\n\nDear all\,\n\nThe next Policy 
 Gap Analysis Working Group teleconference is scheduled for 08 October 2024
  at 20:00 UTC.\n\nPlease find the call details below:\n\nJoin Zoom Meeting
 \nhttps://icann.zoom.us/j/95343564290?pwd=s4XExjPzsgl74t9I5pbfc7LzT5oWNS.1
 \n\nMeeting ID: 953 4356 4290\nPasscode: PGAWG#2024\n\nWiki: https://commu
 nity.icann.org/x/nICoFg\n\n\nThank you!\n\n
UID:93B26E25-21CE-492C-B41D-68782C409F47
SUMMARY;LANGUAGE=en-US:Policy Gap Analysis Working Group (PGA WG) | 08  Oct
 ober 2024 at 20:00 UTC 
DTSTART;TZID=UTC:20241008T200000
DTEND;TZID=UTC:20241008T210000
CLASS:PUBLIC
PRIORITY:5
DTSTAMP:20241008T161542Z
TRANSP:OPAQUE
STATUS:CONFIRMED
SEQUENCE:1
LOCATION;LANGUAGE=en-US:https://icann.zoom.us/j/95343564290?pwd=s4XExjPzsgl
 74t9I5pbfc7LzT5oWNS.1
X-MICROSOFT-CDO-APPT-SEQUENCE:1
X-MICROSOFT-CDO-OWNERAPPTID:2122975313
X-MICROSOFT-CDO-BUSYSTATUS:TENTATIVE
X-MICROSOFT-CDO-INTENDEDSTATUS:BUSY
X-MICROSOFT-CDO-ALLDAYEVENT:FALSE
X-MICROSOFT-CDO-IMPORTANCE:1
X-MICROSOFT-CDO-INSTTYPE:0
X-MICROSOFT-DONOTFORWARDMEETING:FALSE
X-MICROSOFT-DISALLOW-COUNTER:FALSE
BEGIN:VALARM
DESCRIPTION:REMINDER
TRIGGER;RELATED=START:-PT15M
ACTION:DISPLAY
END:VALARM
END:VEVENT
END:VCALENDAR
