BEGIN:VCALENDAR
PRODID:-//Google Inc//Google Calendar 70.9054//EN
VERSION:2.0
CALSCALE:GREGORIAN
METHOD:REQUEST
BEGIN:VEVENT
DTSTART:20211020T190000Z
DTEND:20211020T200000Z
DTSTAMP:20211020T051442Z
ORGANIZER;CN=tomwdale@gmail.com:mailto:tomwdale@gmail.com
UID:583A7863-729E-4112-8208-53ABA6E07A5A
ATTENDEE;CUTYPE=INDIVIDUAL;ROLE=REQ-PARTICIPANT;PARTSTAT=NEEDS-ACTION;RSVP=
 TRUE;CN=Steve Chan;X-NUM-GUESTS=0:mailto:steve.chan@icann.org
ATTENDEE;CUTYPE=INDIVIDUAL;ROLE=REQ-PARTICIPANT;PARTSTAT=NEEDS-ACTION;RSVP=
 TRUE;CN=Berry Cobb;X-NUM-GUESTS=0:mailto:berry.cobb@icann.org
ATTENDEE;CUTYPE=INDIVIDUAL;ROLE=REQ-PARTICIPANT;PARTSTAT=NEEDS-ACTION;RSVP=
 TRUE;CN=Julie Bisland;X-NUM-GUESTS=0:mailto:julie.bisland@icann.org
ATTENDEE;CUTYPE=INDIVIDUAL;ROLE=REQ-PARTICIPANT;PARTSTAT=NEEDS-ACTION;RSVP=
 TRUE;CN=Bart Boswinkel;X-NUM-GUESTS=0:mailto:bart.boswinkel@icann.org
ATTENDEE;CUTYPE=INDIVIDUAL;ROLE=REQ-PARTICIPANT;PARTSTAT=NEEDS-ACTION;RSVP=
 TRUE;CN=Marika Konings;X-NUM-GUESTS=0:mailto:marika.konings@icann.org
ATTENDEE;CUTYPE=INDIVIDUAL;ROLE=REQ-PARTICIPANT;PARTSTAT=NEEDS-ACTION;RSVP=
 TRUE;CN=Julie Hedlund;X-NUM-GUESTS=0:mailto:julie.hedlund@icann.org
ATTENDEE;CUTYPE=INDIVIDUAL;ROLE=REQ-PARTICIPANT;PARTSTAT=NEEDS-ACTION;RSVP=
 TRUE;CN=Terri Agnew;X-NUM-GUESTS=0:mailto:terri.agnew@icann.org
ATTENDEE;CUTYPE=INDIVIDUAL;ROLE=REQ-PARTICIPANT;PARTSTAT=NEEDS-ACTION;RSVP=
 TRUE;CN=Nathalie Peregrine;X-NUM-GUESTS=0:mailto:nathalie.peregrine@icann.o
 rg
ATTENDEE;CUTYPE=INDIVIDUAL;ROLE=REQ-PARTICIPANT;PARTSTAT=NEEDS-ACTION;RSVP=
 TRUE;CN=council@gnso.icann.org;X-NUM-GUESTS=0:mailto:council@gnso.icann.org
ATTENDEE;CUTYPE=INDIVIDUAL;ROLE=REQ-PARTICIPANT;PARTSTAT=NEEDS-ACTION;RSVP=
 TRUE;CN=Mary Wong;X-NUM-GUESTS=0:mailto:mary.wong@icann.org
ATTENDEE;CUTYPE=INDIVIDUAL;ROLE=REQ-PARTICIPANT;PARTSTAT=NEEDS-ACTION;RSVP=
 TRUE;CN=Joke Braeken;X-NUM-GUESTS=0:mailto:joke.braeken@icann.org
ATTENDEE;CUTYPE=INDIVIDUAL;ROLE=REQ-PARTICIPANT;PARTSTAT=NEEDS-ACTION;RSVP=
 TRUE;CN=Michelle DeSmyter;X-NUM-GUESTS=0:mailto:michelle.desmyter@icann.org
ATTENDEE;CUTYPE=INDIVIDUAL;ROLE=REQ-PARTICIPANT;PARTSTAT=NEEDS-ACTION;RSVP=
 TRUE;CN=Emily Barabas;X-NUM-GUESTS=0:mailto:emily.barabas@icann.org
ATTENDEE;CUTYPE=INDIVIDUAL;ROLE=REQ-PARTICIPANT;PARTSTAT=NEEDS-ACTION;RSVP=
 TRUE;CN=Kimberly Carlson;X-NUM-GUESTS=0:mailto:kimberly.carlson@icann.org
ATTENDEE;CUTYPE=INDIVIDUAL;ROLE=REQ-PARTICIPANT;PARTSTAT=NEEDS-ACTION;RSVP=
 TRUE;CN=Caitlin Tubergen;X-NUM-GUESTS=0:mailto:caitlin.tubergen@icann.org
ATTENDEE;CUTYPE=INDIVIDUAL;ROLE=REQ-PARTICIPANT;PARTSTAT=NEEDS-ACTION;RSVP=
 TRUE;CN=Ariel Liang;X-NUM-GUESTS=0:mailto:ariel.liang@icann.org
X-MICROSOFT-CDO-OWNERAPPTID:-1536906859
CREATED:20211020T051440Z
DESCRIPTION:Meeting: Joint Meeting with ccNSO and GNSO Councils\n\nDate/tim
 e: Wednesday\, 20 October 2021 at 19:00 UTC for 1 hour\n\n\n\nPlease click 
 the link below to join the webinar (recommended): https://icann.zoom.us/j/9
 4218282808?pwd=MThDeEpMT0NWVmdDclh4SUxqYmk4Zz09\n\nPasscode: 9nK?Xa*NHh\n\n
 \n\nObservers are welcome to join\, they will be in a read-only and listen-
 only mode.\n\n\n\n\n\nBefore joining the call:\n\nPlease be sure you have r
 ead the Expected Standards of Behavior\n\nVisit the Wiki agenda page: https
 ://community.icann.org/x/MgNyCg\n\nCheck your time zone:  https://tinyurl.c
 om/z8dkywa\n\nGNSO Councilors should notify the GNSO Secretariat in advance
  if they will not be able to attend and/or need a dial out call\, gnso-secs
 @icann.org\n\n\n\nOne tap mobile :\n\n    US: +19294362866\,\,94218282808#\
 ,\,\,\,*4929575289#  or +13017158592\,\,94218282808#\,\,\,\,*4929575289#\n\
 nWebinar ID: 942 1828 2808\n\nPasscode: 4929575289\n\n    International num
 bers available: https://icann.zoom.us/u/acVVG93Udj\n\n\n\n\nThank you.\n\nK
 ind Regards\,\n\n\n\nTerri\n\n\n\n\n\n\n\n\n-::~:~::~:~:~:~:~:~:~:~:~:~:~:~
 :~:~:~:~:~:~:~:~:~:~:~:~:~:~:~:~:~:~:~:~:~:~:~:~::~:~::-\nDo not edit this 
 section of the description.\n\nView your event at https://calendar.google.c
 om/calendar/event?action=VIEW&eid=XzZrczM2ZzluNzByMzZiOW42OHNrYWI5azY0b2o0Y
 jlvNjhvM2diOWw2ZDBrNGc5bThrbzNlZzlsODQgY291bmNpbEBnbnNvLmljYW5uLm9yZw&tok=M
 TgjdG9td2RhbGVAZ21haWwuY29tYmI0MWVmMDA1NmNmN2FhNjYxOGNjNWEyOTZmMTNiOTg5MGI0
 ODFiZA&ctz=Australia%2FSydney&hl=en&es=1.\n-::~:~::~:~:~:~:~:~:~:~:~:~:~:~:
 ~:~:~:~:~:~:~:~:~:~:~:~:~:~:~:~:~:~:~:~:~:~:~:~::~:~::-
LAST-MODIFIED:20211020T051442Z
LOCATION:19:00 UTC | https://icann.zoom.us/j/94218282808?pwd=MThDeEpMT0NWVm
 dDclh4SUxqYmk4Zz09 
SEQUENCE:0
STATUS:CONFIRMED
SUMMARY:Joint Meeting with ccNSO and GNSO Councils 
TRANSP:OPAQUE
BEGIN:VALARM
ACTION:DISPLAY
DESCRIPTION:This is an event reminder
TRIGGER:-P0DT0H15M0S
END:VALARM
END:VEVENT
END:VCALENDAR
