BEGIN:VCALENDAR
METHOD:REQUEST
PRODID:Microsoft Exchange Server 2010
VERSION:2.0
BEGIN:VTIMEZONE
TZID:UTC
BEGIN:STANDARD
DTSTART:16010101T000000
TZOFFSETFROM:+0000
TZOFFSETTO:+0000
END:STANDARD
BEGIN:DAYLIGHT
DTSTART:16010101T000000
TZOFFSETFROM:+0000
TZOFFSETTO:+0000
END:DAYLIGHT
END:VTIMEZONE
BEGIN:VEVENT
ORGANIZER;CN=ICANN Policy Calendar:MAILTO:PolicyCalendar@icann.org
ATTENDEE;ROLE=REQ-PARTICIPANT;PARTSTAT=NEEDS-ACTION;RSVP=FALSE;CN=council@g
 nso.icann.org:MAILTO:council@gnso.icann.org
ATTENDEE;ROLE=REQ-PARTICIPANT;PARTSTAT=NEEDS-ACTION;RSVP=FALSE;CN=Nathalie 
 Peregrine:MAILTO:nathalie.peregrine@icann.org
ATTENDEE;ROLE=REQ-PARTICIPANT;PARTSTAT=NEEDS-ACTION;RSVP=FALSE;CN=Michelle 
 DeSmyter:MAILTO:michelle.desmyter@icann.org
ATTENDEE;ROLE=REQ-PARTICIPANT;PARTSTAT=NEEDS-ACTION;RSVP=FALSE;CN=Julie Bis
 land:MAILTO:julie.bisland@icann.org
ATTENDEE;ROLE=REQ-PARTICIPANT;PARTSTAT=NEEDS-ACTION;RSVP=FALSE;CN=Andrea Gl
 andon:MAILTO:andrea.glandon@icann.org
ATTENDEE;ROLE=REQ-PARTICIPANT;PARTSTAT=NEEDS-ACTION;RSVP=FALSE;CN=Terri Agn
 ew:MAILTO:terri.agnew@icann.org
DESCRIPTION;LANGUAGE=en-US:Meeting: &nbsp\;Webinar on the Second Security\,
  Stability\, and Resiliency (SSR2) Review Team Final Report\n\nFrom:&nbsp\
 ;Theresa Swinehart\, Senior Vice President\, Global Domains & Strategy\n\n
 Date/time: Thursday\, 11 February 2021 at 15:00 UTC&nbsp\;to brief the com
 munity on its final recommendations.\n\n\n\n\n   *   Please join webinar v
 ia this&nbsp\;Zoom link:&nbsp\;&nbsp\;https://icann.zoom.us/j/97610425004?
 pwd=NUVNakJsVDczZDZ2bTFaNFgyRUpUUT09\n\n   *   By phone only:&nbsp\;&nbsp\
 ;One tap mobile\n\n        *   +13126266799\,\,97610425004#\,\,\,\,*780911
 1809# US (Chicago)\n\n        *   +19294362866\,\,97610425004#\,\,\,\,*780
 9111809# US (New York)\n\n        *   Find your local number:&nbsp\;https:
 //icann.zoom.us/u/aerfsCOBQc\n\n             *   Meeting ID: 976 1042 5004
 \n\n             *   Phone only passcode: 7809111809\n\n   *   If you requ
 ire a dial-out or would like a calendar invite\, contact&nbsp\;mssi-secret
 ariat@icann.org<mailto:mssi-secretariat@icann.org>\n\n\n\n\n\nParticipatio
 n details for the webinar\, and call materials can be found&nbsp\;here [r2
 0.rs6.net]<https://urldefense.com/v3/__http:/r20.rs6.net/tn.jsp?f=001pmx3w
 ordjxH3aJJrwwkxp3230wl0fhSG8TEj8uDClIh-fiJ_INLuDoV5J5jEG_NF1Qzbr0FdjutkDgG
 xcjrKOMTGoHpS478lwOO2Rnt0skiITEdLKqfKZIiXihNPBtGuJ-F97MsHAUC1wBb0UqQLZXfYw
 FO5E_qNhcMcLYCwKKTiFs6TkVM35S0NgYdfa_hIDx8SD1of1dLAF8p4BLJAkwYQZJBEe_CWMxW
 r6K3xA9EHGvMMCH8WxCI0J88Jw_9HvOCNgLzknhzEIn0AVevKnub129WlLp0-mcridXXRG70=&
 c=CF7qAY40IMrFx6n6vwpCfe1OX60LDjqTf5bUSok4_KB7m9Msi7p4Qw==&ch=mXSUhMAINyqg
 _3X60bovwBNN_Jpw3RnQimdm_GS1uDJaFiqcq6aeuQ==__\;!!PtGJab4!qZHrGQk_gsiPUcY_
 D1WAVcWi5i0MxT6w13CbYEYx-d6YAR89UXifuhwdv8aqx7DExMlVCRQ$>.\n\n\n\n\n\n\n
UID:0C927118-559A-4618-B2E2-FDA7FC848D74
SUMMARY;LANGUAGE=en-US:Webinar on the Second Security\, Stability\, and Res
 iliency (SSR2) Review Team Final Report
DTSTART;TZID=UTC:20210211T150000
DTEND;TZID=UTC:20210211T160000
CLASS:PUBLIC
PRIORITY:5
DTSTAMP:20210201T163058Z
TRANSP:OPAQUE
STATUS:CONFIRMED
SEQUENCE:0
LOCATION;LANGUAGE=en-US:15:00 UTC | https://icann.zoom.us/j/97610425004?pwd
 =NUVNakJsVDczZDZ2bTFaNFgyRUpUUT09
X-MICROSOFT-CDO-APPT-SEQUENCE:0
X-MICROSOFT-CDO-OWNERAPPTID:2119305674
X-MICROSOFT-CDO-BUSYSTATUS:TENTATIVE
X-MICROSOFT-CDO-INTENDEDSTATUS:BUSY
X-MICROSOFT-CDO-ALLDAYEVENT:FALSE
X-MICROSOFT-CDO-IMPORTANCE:1
X-MICROSOFT-CDO-INSTTYPE:0
X-MICROSOFT-DONOTFORWARDMEETING:FALSE
X-MICROSOFT-DISALLOW-COUNTER:TRUE
BEGIN:VALARM
DESCRIPTION:REMINDER
TRIGGER;RELATED=START:-PT15M
ACTION:DISPLAY
END:VALARM
END:VEVENT
END:VCALENDAR
