BEGIN:VCALENDAR
METHOD:REQUEST
PRODID:Microsoft Exchange Server 2010
VERSION:2.0
BEGIN:VTIMEZONE
TZID:UTC
BEGIN:STANDARD
DTSTART:16010101T000000
TZOFFSETFROM:+0000
TZOFFSETTO:+0000
END:STANDARD
BEGIN:DAYLIGHT
DTSTART:16010101T000000
TZOFFSETFROM:+0000
TZOFFSETTO:+0000
END:DAYLIGHT
END:VTIMEZONE
BEGIN:VEVENT
ORGANIZER;CN=ICANN Policy Calendar:MAILTO:PolicyCalendar@icann.org
ATTENDEE;ROLE=REQ-PARTICIPANT;PARTSTAT=NEEDS-ACTION;RSVP=FALSE;CN=council@g
 nso.icann.org:MAILTO:council@gnso.icann.org
ATTENDEE;ROLE=REQ-PARTICIPANT;PARTSTAT=NEEDS-ACTION;RSVP=FALSE;CN=Donna Aus
 tin:MAILTO:donnaaustin605@hotmail.com
ATTENDEE;ROLE=REQ-PARTICIPANT;PARTSTAT=NEEDS-ACTION;RSVP=FALSE;CN=justine.c
 hew.icann@gmail.com:MAILTO:justine.chew.icann@gmail.com
ATTENDEE;ROLE=REQ-PARTICIPANT;PARTSTAT=NEEDS-ACTION;RSVP=FALSE;CN=Roger D C
 arney:MAILTO:rcarney@godaddy.com
ATTENDEE;ROLE=REQ-PARTICIPANT;PARTSTAT=NEEDS-ACTION;RSVP=FALSE;CN=Mike Silb
 er:MAILTO:silber.mike@gmail.com
ATTENDEE;ROLE=REQ-PARTICIPANT;PARTSTAT=NEEDS-ACTION;RSVP=FALSE;CN=Nathalie 
 Peregrine:MAILTO:nathalie.peregrine@icann.org
ATTENDEE;ROLE=REQ-PARTICIPANT;PARTSTAT=NEEDS-ACTION;RSVP=FALSE;CN=Terri Agn
 ew:MAILTO:terri.agnew@icann.org
ATTENDEE;ROLE=REQ-PARTICIPANT;PARTSTAT=NEEDS-ACTION;RSVP=FALSE;CN=Devan Ree
 d:MAILTO:devan.reed@icann.org
ATTENDEE;ROLE=REQ-PARTICIPANT;PARTSTAT=NEEDS-ACTION;RSVP=FALSE;CN=Michelle 
 DeSmyter:MAILTO:michelle.desmyter@icann.org
ATTENDEE;ROLE=REQ-PARTICIPANT;PARTSTAT=NEEDS-ACTION;RSVP=FALSE;CN=Julie Bis
 land:MAILTO:julie.bisland@icann.org
DESCRIPTION;LANGUAGE=en-US:Meeting:  ICANN77 Prep-week GNSO Policy Webinar 
 - https://icann77.sched.com/event/1N5Yy/gnso-policy-update\nTime/Date: Tue
 sday\, 30 May 2023 at 22:00 UTC for 1 hour\n\n**Presenters: Make sure all 
 have registered for ICANN77– link below.\n\n\nParticipation Links\n\nZoo
 m participation links will be published 24 hours before the session starts
 . For more information on how to participate\, visit: https://meetings.ica
 nn.org/en/icann77\n\nPrep Week schedule: https://icann77.sched.com/\n
UID:5B894D90-4022-4FCE-8A11-7B265F34F35B
SUMMARY;LANGUAGE=en-US:ICANN77 Prep-week | GNSO Policy Webinar
DTSTART;TZID=UTC:20230530T220000
DTEND;TZID=UTC:20230530T230000
CLASS:PUBLIC
PRIORITY:5
DTSTAMP:20230515T184310Z
TRANSP:OPAQUE
STATUS:CONFIRMED
SEQUENCE:1
LOCATION;LANGUAGE=en-US:22:00 UTC
X-MICROSOFT-CDO-APPT-SEQUENCE:1
X-MICROSOFT-CDO-OWNERAPPTID:2121603669
X-MICROSOFT-CDO-BUSYSTATUS:TENTATIVE
X-MICROSOFT-CDO-INTENDEDSTATUS:BUSY
X-MICROSOFT-CDO-ALLDAYEVENT:FALSE
X-MICROSOFT-CDO-IMPORTANCE:1
X-MICROSOFT-CDO-INSTTYPE:0
X-MICROSOFT-DONOTFORWARDMEETING:FALSE
X-MICROSOFT-DISALLOW-COUNTER:TRUE
BEGIN:VALARM
DESCRIPTION:REMINDER
TRIGGER;RELATED=START:-PT15M
ACTION:DISPLAY
END:VALARM
END:VEVENT
END:VCALENDAR
