BEGIN:VCALENDAR
VERSION:2.0
PRODID:-//Microsoft Corporation//Outlook for Mac MIMEDIR//EN
METHOD:PUBLISH
BEGIN:VTIMEZONE
TZID:Coordinated Universal Time
X-ENTOURAGE-CFTIMEZONE:UTC
X-ENTOURAGE-TZID:93
BEGIN:STANDARD
TZOFFSETFROM:+0000
TZOFFSETTO:+0000
DTSTART:16010101T000000
END:STANDARD
END:VTIMEZONE
BEGIN:VEVENT
UID:AC6506A1-0A0F-487F-985B-0E1F4680B532
X-ENTOURAGE_UUID:AC6506A1-0A0F-487F-985B-0E1F4680B532
X-MICROSOFT-EXCHANGE-ID:AAMkADFlMDNlNjQ5LTNjNTUtNDJkMC04ZTI0LWFiMTFkOTgwND
 JhMQBGAAAAAAAdZPIZTDF9SJl4Q9bAl0gQBwAFskP3JLIoSYZSK2rNBQTXAIjV8WqdAACjhqXC
 SbKVRZwH7aZE5XhKAADRucFSAAA=
X-MICROSOFT-EXCHANGE-CHANGEKEY:DwAAABYAAACjhqXCSbKVRZwH7aZE5XhKAADRwc+9
DTSTAMP:20210524T164814Z
DTSTART;TZID="Coordinated Universal Time":20210525T150000
DTEND;TZID="Coordinated Universal Time":20210525T160000
LAST-MODIFIED:20210524T164818Z
SUMMARY:Implementing Work Stream 2 Recommendations - REGISTRATION is
  required
DESCRIPTION:**Please register [r20.rs6.net] in advance to receive details
  on how to join the webinar.\n\n \n\nMeeting: Work Stream 2
  Webinar\n\nDate/time: Tuesday\, 25 May 2021 at 15:00 UTC\n\n \n\nICANN
  org will host a webinar at 15:00 UTC on Tuesday\, 25 May 2021 providing
  an update on the implementation [r20.rs6.net] of over 100 consensus
  recommendations contained in the Cross-Community Working Group on
  Enhancing ICANN Accountability Work Stream 2 Final Report
  [r20.rs6.net].\n\n \n\nPlease register [r20.rs6.net] in advance to
  receive details on how to join the webinar.\n\n \n
LOCATION:15:00 UTC - REGISTRATION is required
ORGANIZER:MAILTO:PolicyCalendar@icann.org
SEQUENCE:0
ATTENDEE;ROLE=REQ-PARTICIPANT;RSVP=FALSE;PARTSTAT=NEEDS-ACTION:MAILTO:coun
 cil@gnso.icann.org
X-MICROSOFT-CDO-BUSYSTATUS:BUSY
X-MICROSOFT-CDO-ALLDAYEVENT:FALSE
X-MICROSOFT-DISALLOW-COUNTER:TRUE
X-MICROSOFT-DONOTFORWARDMEETING:FALSE
X-MICROSOFT-CDO-INSTTYPE:0
BEGIN:VALARM
ACTION:DISPLAY
DESCRIPTION:REMINDER
TRIGGER;RELATED=START:-PT00H15M00S
END:VALARM
END:VEVENT
END:VCALENDAR
