BEGIN:VCALENDAR
METHOD:REQUEST
PRODID:Microsoft Exchange Server 2010
VERSION:2.0
BEGIN:VTIMEZONE
TZID:UTC
BEGIN:STANDARD
DTSTART:16010101T000000
TZOFFSETFROM:+0000
TZOFFSETTO:+0000
END:STANDARD
BEGIN:DAYLIGHT
DTSTART:16010101T000000
TZOFFSETFROM:+0000
TZOFFSETTO:+0000
END:DAYLIGHT
END:VTIMEZONE
BEGIN:VEVENT
ORGANIZER;CN=ICANN Policy Calendar:MAILTO:PolicyCalendar@icann.org
ATTENDEE;ROLE=REQ-PARTICIPANT;PARTSTAT=NEEDS-ACTION;RSVP=FALSE;CN=council@g
 nso.icann.org:MAILTO:council@gnso.icann.org
ATTENDEE;ROLE=REQ-PARTICIPANT;PARTSTAT=NEEDS-ACTION;RSVP=FALSE;CN=Marika Ko
 nings:MAILTO:marika.konings@icann.org
ATTENDEE;ROLE=REQ-PARTICIPANT;PARTSTAT=NEEDS-ACTION;RSVP=FALSE;CN=Steve Cha
 n:MAILTO:steve.chan@icann.org
ATTENDEE;ROLE=REQ-PARTICIPANT;PARTSTAT=NEEDS-ACTION;RSVP=FALSE;CN=Ariel Lia
 ng:MAILTO:ariel.liang@icann.org
ATTENDEE;ROLE=REQ-PARTICIPANT;PARTSTAT=NEEDS-ACTION;RSVP=FALSE;CN=Caitlin T
 ubergen:MAILTO:caitlin.tubergen@icann.org
ATTENDEE;ROLE=REQ-PARTICIPANT;PARTSTAT=NEEDS-ACTION;RSVP=FALSE;CN=Julie Hed
 lund:MAILTO:julie.hedlund@icann.org
ATTENDEE;ROLE=REQ-PARTICIPANT;PARTSTAT=NEEDS-ACTION;RSVP=FALSE;CN=Berry Cob
 b:MAILTO:Berry.Cobb@icann.org
ATTENDEE;ROLE=REQ-PARTICIPANT;PARTSTAT=NEEDS-ACTION;RSVP=FALSE;CN=Emily Bar
 abas:MAILTO:emily.barabas@icann.org
ATTENDEE;ROLE=REQ-PARTICIPANT;PARTSTAT=NEEDS-ACTION;RSVP=FALSE;CN=Mary Wong
 :MAILTO:mary.wong@icann.org
ATTENDEE;ROLE=REQ-PARTICIPANT;PARTSTAT=NEEDS-ACTION;RSVP=FALSE;CN=David Oli
 ve:MAILTO:david.olive@icann.org
ATTENDEE;ROLE=REQ-PARTICIPANT;PARTSTAT=NEEDS-ACTION;RSVP=FALSE;CN=Dennis Ch
 ang:MAILTO:dennis.chang@icann.org
ATTENDEE;ROLE=REQ-PARTICIPANT;PARTSTAT=NEEDS-ACTION;RSVP=FALSE;CN=Chantelle
  Doerksen:MAILTO:chantelle.doerksen@icann.org
ATTENDEE;ROLE=REQ-PARTICIPANT;PARTSTAT=NEEDS-ACTION;RSVP=FALSE;CN=Nathalie 
 Peregrine:MAILTO:nathalie.peregrine@icann.org
ATTENDEE;ROLE=REQ-PARTICIPANT;PARTSTAT=NEEDS-ACTION;RSVP=FALSE;CN=Michelle 
 DeSmyter:MAILTO:michelle.desmyter@icann.org
ATTENDEE;ROLE=REQ-PARTICIPANT;PARTSTAT=NEEDS-ACTION;RSVP=FALSE;CN=Julie Bis
 land:MAILTO:julie.bisland@icann.org
ATTENDEE;ROLE=REQ-PARTICIPANT;PARTSTAT=NEEDS-ACTION;RSVP=FALSE;CN=Devan Ree
 d:MAILTO:devan.reed@icann.org
ATTENDEE;ROLE=REQ-PARTICIPANT;PARTSTAT=NEEDS-ACTION;RSVP=FALSE;CN=Terri Agn
 ew:MAILTO:terri.agnew@icann.org
DESCRIPTION;LANGUAGE=en-US:Meeting: GNSO Extraordinary Council meeting with
  SubPro Pending Recommendations Small Team\nDate/time: Thursday\, 04 May 2
 023 at 13:00 UTC for 2 hours\n\nBefore joining the call:\nPlease be sure y
 ou have read the Expected Standards of Behavior <https://urldefense.proofp
 oint.com/v2/url?u=https-3A__www.icann.org_resources_pages_expected-2Dstand
 ards-2D2016-2D06-2D28-2Den&d=DwMGaQ&c=FmY1u3PJp6wrcrwll3mSVzgfkbPSS6sJms7x
 cl4I5cM&r=DRa2dXAvSFpCIgmkXhFzL7ar9Qfqa0AIgn-H4xR2EBk&m=Q2CoD1pIwCmm4slfY7
 2x_Xyw25Rd2h1hba3UF0qUYV8&s=mp7QxpMBFJ5C_S_xAdAd4-kLGXmGVphmAi57mIgVwjg&e=
 >\nVisit the Wiki Agenda page:  https://community.icann.org/x/V4RXDg\nChec
 k your time zone:  ​​ https://tinyurl.com/azj3xezf\n\nCouncilors shoul
 d notify the GNSO Secretariat in advance if they will not be able to atten
 d and/or need a dial out call\, gnso-secs@icann.org<mailto:gnso-secs@icann
 .org>\n\nPlease click the link below to join the webinar: https://icann.zo
 om.us/j/97891627902?pwd=RURCTitiNEVwd2UySEk1QkRESmlFZz09 <https://urldefen
 se.com/v3/__https:/icann.zoom.us/j/97891627902?pwd=RURCTitiNEVwd2UySEk1QkR
 ESmlFZz09__\;!!PtGJab4!4gILwNgY4YtMtUh4LVSXmL58L_VnXDWQYAYnRuDZxHBUEs0aVq7
 5ZgFXiCQa8VEH-AVYzPgewFnGU2b7aexD7tMDaA$>\nPasscode: 5d$X0$^0L2\n\nIf join
 ing Zoom via Zoom App the following will be required:\nWebinar ID: 978 916
 2 7902\nPasscode: 9844091488\n\nOne tap mobile :\n   US: &#43\;13126266799
 \,\,97891627902#\,\,\,\,*9844091488#  or &#43\;13017158592\,\,97891627902#
 \,\,\,\,*9844091488#\n\nIf you are joining via audio only:\nDial(for highe
 r quality\, dial a number based on your current location):\n        US: &#
 43\;1 312 626 6799  or &#43\;1 301 715 8592  or &#43\;1 929 436 2866  or &
 #43\;1 253 215 8782  or &#43\;1 346 248 7799  or &#43\;1 669 900 6833  or 
 877 853 5247 (Toll Free) or 888 788 0099 (Toll Free) or 833 548 0276 (Toll
  Free) or 833 548 0282 (Toll Free)\n\nInternational numbers available: htt
 ps://icann.zoom.us/u/abaexQvkCI <https://urldefense.com/v3/__https:/icann.
 zoom.us/u/abaexQvkCI__\;!!PtGJab4!4gILwNgY4YtMtUh4LVSXmL58L_VnXDWQYAYnRuDZ
 xHBUEs0aVq75ZgFXiCQa8VEH-AVYzPgewFnGU2b7aex7RDGSAw$>\n\n      Observers ar
 e welcome to join\, they will be in a read-only and listen-only mode.\n\nP
 lease note that all documents<https://community.icann.org/x/VYRXDg> refere
 nced in the agenda will be gathered on a Wiki page for convenient and easy
  access.\n\n\n
UID:E18B70D9-01C0-4BA9-A6C3-EFC32689F4E6
SUMMARY;LANGUAGE=en-US:GNSO Extraordinary Council meeting with SubPro Pendi
 ng Recommendations Small Team 
DTSTART;TZID=UTC:20230504T130000
DTEND;TZID=UTC:20230504T150000
CLASS:PUBLIC
PRIORITY:5
DTSTAMP:20230418T175628Z
TRANSP:OPAQUE
STATUS:CONFIRMED
SEQUENCE:0
LOCATION;LANGUAGE=en-US:13:00 UTC | https://icann.zoom.us/j/97891627902?pwd
 =RURCTitiNEVwd2UySEk1QkRESmlFZz09  
X-MICROSOFT-CDO-APPT-SEQUENCE:0
X-MICROSOFT-CDO-OWNERAPPTID:2121568643
X-MICROSOFT-CDO-BUSYSTATUS:TENTATIVE
X-MICROSOFT-CDO-INTENDEDSTATUS:BUSY
X-MICROSOFT-CDO-ALLDAYEVENT:FALSE
X-MICROSOFT-CDO-IMPORTANCE:1
X-MICROSOFT-CDO-INSTTYPE:0
X-MICROSOFT-DONOTFORWARDMEETING:FALSE
X-MICROSOFT-DISALLOW-COUNTER:TRUE
BEGIN:VALARM
DESCRIPTION:REMINDER
TRIGGER;RELATED=START:-PT15M
ACTION:DISPLAY
END:VALARM
END:VEVENT
END:VCALENDAR
