BEGIN:VCALENDAR
METHOD:REQUEST
PRODID:Microsoft Exchange Server 2010
VERSION:2.0
BEGIN:VTIMEZONE
TZID:UTC
BEGIN:STANDARD
DTSTART:16010101T000000
TZOFFSETFROM:+0000
TZOFFSETTO:+0000
END:STANDARD
BEGIN:DAYLIGHT
DTSTART:16010101T000000
TZOFFSETFROM:+0000
TZOFFSETTO:+0000
END:DAYLIGHT
END:VTIMEZONE
BEGIN:VEVENT
ORGANIZER;CN=ICANN Policy Calendar:MAILTO:PolicyCalendar@icann.org
ATTENDEE;ROLE=REQ-PARTICIPANT;PARTSTAT=NEEDS-ACTION;RSVP=FALSE;CN=GNSO Coun
 cil List:MAILTO:council@gnso.icann.org
ATTENDEE;ROLE=REQ-PARTICIPANT;PARTSTAT=NEEDS-ACTION;RSVP=FALSE;CN=Board Cal
 endaring:MAILTO:Board-Calendaring@icann.org
ATTENDEE;ROLE=REQ-PARTICIPANT;PARTSTAT=NEEDS-ACTION;RSVP=FALSE;CN=becky.bur
 r@board.icann.org:MAILTO:becky.burr@board.icann.org
ATTENDEE;ROLE=REQ-PARTICIPANT;PARTSTAT=NEEDS-ACTION;RSVP=FALSE;CN=maarten.b
 otterman@board.icann.org:MAILTO:maarten.botterman@board.icann.org
ATTENDEE;ROLE=REQ-PARTICIPANT;PARTSTAT=NEEDS-ACTION;RSVP=FALSE;CN=alan.barr
 ett@board.icann.org:MAILTO:alan.barrett@board.icann.org
ATTENDEE;ROLE=REQ-PARTICIPANT;PARTSTAT=NEEDS-ACTION;RSVP=FALSE;CN=nico.caba
 llero@board.icann.org:MAILTO:nico.caballero@board.icann.org
ATTENDEE;ROLE=REQ-PARTICIPANT;PARTSTAT=NEEDS-ACTION;RSVP=FALSE;CN=patricio.
 poblete@board.icann.org:MAILTO:patricio.poblete@board.icann.org
ATTENDEE;ROLE=REQ-PARTICIPANT;PARTSTAT=NEEDS-ACTION;RSVP=FALSE;CN=Becky Bur
 r:MAILTO:BBurr@hwglaw.com
ATTENDEE;ROLE=REQ-PARTICIPANT;PARTSTAT=NEEDS-ACTION;RSVP=FALSE;CN=Steve Cha
 n:MAILTO:steve.chan@icann.org
ATTENDEE;ROLE=REQ-PARTICIPANT;PARTSTAT=NEEDS-ACTION;RSVP=FALSE;CN=Caitlin T
 ubergen:MAILTO:caitlin.tubergen@icann.org
ATTENDEE;ROLE=REQ-PARTICIPANT;PARTSTAT=NEEDS-ACTION;RSVP=FALSE;CN=Julie Hed
 lund:MAILTO:julie.hedlund@icann.org
ATTENDEE;ROLE=REQ-PARTICIPANT;PARTSTAT=NEEDS-ACTION;RSVP=FALSE;CN=Saewon Le
 e:MAILTO:saewon.lee@icann.org
ATTENDEE;ROLE=REQ-PARTICIPANT;PARTSTAT=NEEDS-ACTION;RSVP=FALSE;CN=Feodora H
 amza:MAILTO:feodora.hamza@icann.org
ATTENDEE;ROLE=REQ-PARTICIPANT;PARTSTAT=NEEDS-ACTION;RSVP=FALSE;CN=John Emer
 y:MAILTO:john.emery@icann.org
ATTENDEE;ROLE=REQ-PARTICIPANT;PARTSTAT=NEEDS-ACTION;RSVP=FALSE;CN=Berry Cob
 b:MAILTO:Berry.Cobb@icann.org
ATTENDEE;ROLE=REQ-PARTICIPANT;PARTSTAT=NEEDS-ACTION;RSVP=FALSE;CN=Mary Wong
 :MAILTO:mary.wong@icann.org
ATTENDEE;ROLE=REQ-PARTICIPANT;PARTSTAT=NEEDS-ACTION;RSVP=FALSE;CN=Terri Agn
 ew:MAILTO:terri.agnew@icann.org
ATTENDEE;ROLE=REQ-PARTICIPANT;PARTSTAT=NEEDS-ACTION;RSVP=FALSE;CN=Julie Bis
 land:MAILTO:julie.bisland@icann.org
ATTENDEE;ROLE=REQ-PARTICIPANT;PARTSTAT=NEEDS-ACTION;RSVP=FALSE;CN=Devan Ree
 d:MAILTO:devan.reed@icann.org
ATTENDEE;ROLE=REQ-PARTICIPANT;PARTSTAT=NEEDS-ACTION;RSVP=FALSE;CN=Russ Wein
 stein:MAILTO:russ.weinstein@icann.org
DESCRIPTION;LANGUAGE=en-US:Meeting: Dialogue with GAC\, GNSO Council\, and 
 Board on EPDP Phase 1 Recommendation 18 (Urgent Requests)\nDate/Time: Wedn
 esday\, 12 February 2025 at 13:00 UTC for 60 minutes.\n\nThis meeting will
  be recorded for those who are unable to make it.\n\nBefore joining the ca
 ll:\nPlease be sure you have read the Expected Standards of Behavior <http
 s://urldefense.proofpoint.com/v2/url?u=https-3A__www.icann.org_resources_p
 ages_expected-2Dstandards-2D2016-2D06-2D28-2Den&d=DwMGaQ&c=FmY1u3PJp6wrcrw
 ll3mSVzgfkbPSS6sJms7xcl4I5cM&r=DRa2dXAvSFpCIgmkXhFzL7ar9Qfqa0AIgn-H4xR2EBk
 &m=Q2CoD1pIwCmm4slfY72x_Xyw25Rd2h1hba3UF0qUYV8&s=mp7QxpMBFJ5C_S_xAdAd4-kLG
 XmGVphmAi57mIgVwjg&e=> and the ICANN Community Anti-Harassment Policy<http
 s://www.icann.org/resources/pages/community-anti-harassment-policy-2017-03
 -24-en>\nVisit the Wiki Agenda page:  https://community.icann.org/x/KAD5HQ
 \nCheck your time zone:   https://tinyurl.com/26ke7b9z\n\n\nJoin Zoom Meet
 ing\nhttps://icann.zoom.us/j/96611661142?pwd=K2VpaHlzNkNuY1J6YzRYcW1sd0VjU
 T09\n\nMeeting ID: 966 1166 1142\nPasscode: Z4B3SUR!U&amp\;\n\n---\nOne ta
 p mobile\n&#43\;13126266799\,\,96611661142#\,\,\,\,*0505103780# US (Chicag
 o)\n&#43\;13462487799\,\,96611661142#\,\,\,\,*0505103780# US (Houston)\n\n
 Meeting ID: 966 1166 1142\nPasscode: 0505103780\n\nFind your local number:
  https://icann.zoom.us/u/actl7q9Q9B\n\n
UID:7C224340-FAB6-4A10-9D83-37EDB82492CA
SUMMARY;LANGUAGE=en-US:Dialogue with GAC\, GNSO Council\, and Board on EPDP
  Phase 1 Recommendation 18 (Urgent Requests) 
DTSTART;TZID=UTC:20250212T130000
DTEND;TZID=UTC:20250212T140000
CLASS:PUBLIC
PRIORITY:5
DTSTAMP:20250124T160138Z
TRANSP:OPAQUE
STATUS:CONFIRMED
SEQUENCE:1
LOCATION;LANGUAGE=en-US:13:00 UTC | https://icann.zoom.us/j/96611661142?pwd
 =K2VpaHlzNkNuY1J6YzRYcW1sd0VjUT09
X-MICROSOFT-CDO-APPT-SEQUENCE:1
X-MICROSOFT-CDO-OWNERAPPTID:2123481160
X-MICROSOFT-CDO-BUSYSTATUS:TENTATIVE
X-MICROSOFT-CDO-INTENDEDSTATUS:BUSY
X-MICROSOFT-CDO-ALLDAYEVENT:FALSE
X-MICROSOFT-CDO-IMPORTANCE:1
X-MICROSOFT-CDO-INSTTYPE:0
X-MICROSOFT-DONOTFORWARDMEETING:FALSE
X-MICROSOFT-DISALLOW-COUNTER:TRUE
BEGIN:VALARM
DESCRIPTION:REMINDER
TRIGGER;RELATED=START:-PT15M
ACTION:DISPLAY
END:VALARM
END:VEVENT
END:VCALENDAR
