BEGIN:VCALENDAR
METHOD:REQUEST
PRODID:Microsoft Exchange Server 2010
VERSION:2.0
BEGIN:VTIMEZONE
TZID:UTC
BEGIN:STANDARD
DTSTART:16010101T000000
TZOFFSETFROM:+0000
TZOFFSETTO:+0000
END:STANDARD
BEGIN:DAYLIGHT
DTSTART:16010101T000000
TZOFFSETFROM:+0000
TZOFFSETTO:+0000
END:DAYLIGHT
END:VTIMEZONE
BEGIN:VEVENT
ORGANIZER;CN=ICANN Policy Calendar:MAILTO:PolicyCalendar@icann.org
ATTENDEE;ROLE=REQ-PARTICIPANT;PARTSTAT=NEEDS-ACTION;RSVP=FALSE;CN=COUNCIL@G
 NSO.ICANN.ORG:MAILTO:COUNCIL@GNSO.ICANN.ORG
ATTENDEE;ROLE=REQ-PARTICIPANT;PARTSTAT=NEEDS-ACTION;RSVP=FALSE;CN=Bruna Mar
 tins dos Santos:MAILTO:bruna.mrtns@gmail.com
ATTENDEE;ROLE=REQ-PARTICIPANT;PARTSTAT=NEEDS-ACTION;RSVP=FALSE;CN=plommer@g
 mail.com:MAILTO:plommer@gmail.com
ATTENDEE;ROLE=REQ-PARTICIPANT;PARTSTAT=NEEDS-ACTION;RSVP=FALSE;CN=benakin@g
 mail.com:MAILTO:benakin@gmail.com
ATTENDEE;ROLE=REQ-PARTICIPANT;PARTSTAT=NEEDS-ACTION;RSVP=FALSE;CN=chair@rys
 g.info:MAILTO:chair@rysg.info
ATTENDEE;ROLE=REQ-PARTICIPANT;PARTSTAT=NEEDS-ACTION;RSVP=FALSE;CN=secretari
 at@rysg.info:MAILTO:secretariat@rysg.info
ATTENDEE;ROLE=REQ-PARTICIPANT;PARTSTAT=NEEDS-ACTION;RSVP=FALSE;CN=aheineman
 @godaddy.com:MAILTO:aheineman@godaddy.com
ATTENDEE;ROLE=REQ-PARTICIPANT;PARTSTAT=NEEDS-ACTION;RSVP=FALSE;CN=secretari
 at@icannregistrars.org:MAILTO:secretariat@icannregistrars.org
ATTENDEE;ROLE=REQ-PARTICIPANT;PARTSTAT=NEEDS-ACTION;RSVP=FALSE;CN=mcole@per
 kinscoie.com:MAILTO:mcole@perkinscoie.com
ATTENDEE;ROLE=REQ-PARTICIPANT;PARTSTAT=NEEDS-ACTION;RSVP=FALSE;CN=lschulman
 @inta.org:MAILTO:lschulman@inta.org
ATTENDEE;ROLE=REQ-PARTICIPANT;PARTSTAT=NEEDS-ACTION;RSVP=FALSE;CN=Wolf-Ulri
 ch.Knoben@t-online.de:MAILTO:Wolf-Ulrich.Knoben@t-online.de
ATTENDEE;ROLE=REQ-PARTICIPANT;PARTSTAT=NEEDS-ACTION;RSVP=FALSE;CN=Brenda Br
 ewer:MAILTO:brenda.brewer@icann.org
ATTENDEE;ROLE=REQ-PARTICIPANT;PARTSTAT=NEEDS-ACTION;RSVP=FALSE;CN=Andrea Gl
 andon:MAILTO:andrea.glandon@icann.org
ATTENDEE;ROLE=REQ-PARTICIPANT;PARTSTAT=NEEDS-ACTION;RSVP=FALSE;CN=John McEl
 waine:MAILTO:john.mcelwaine@nelsonmullins.com
ATTENDEE;ROLE=REQ-PARTICIPANT;PARTSTAT=NEEDS-ACTION;RSVP=FALSE;CN=m.alzoba@
 gmail.com:MAILTO:m.alzoba@gmail.com
ATTENDEE;ROLE=REQ-PARTICIPANT;PARTSTAT=NEEDS-ACTION;RSVP=FALSE;CN=Stephanie
  Perrin:MAILTO:stephanie.perrin@mail.utoronto.ca
ATTENDEE;ROLE=REQ-PARTICIPANT;PARTSTAT=NEEDS-ACTION;RSVP=FALSE;CN=antonia.c
 n@alibaba-inc.com:MAILTO:antonia.cn@alibaba-inc.com
ATTENDEE;ROLE=REQ-PARTICIPANT;PARTSTAT=NEEDS-ACTION;RSVP=FALSE;CN=Thomas Ri
 ckert | rickert.law:MAILTO:thomas@rickert.law
ATTENDEE;ROLE=REQ-PARTICIPANT;PARTSTAT=NEEDS-ACTION;RSVP=FALSE;CN=Steve Del
 Bianco:MAILTO:sdelbianco@netchoice.org
ATTENDEE;ROLE=REQ-PARTICIPANT;PARTSTAT=NEEDS-ACTION;RSVP=FALSE;CN=Chris Dis
 spain:MAILTO:chris@disspain.uk
ATTENDEE;ROLE=REQ-PARTICIPANT;PARTSTAT=NEEDS-ACTION;RSVP=FALSE;CN="Mohr, Sus
 an":MAILTO:Susan.Mohr@CenturyLink.com
ATTENDEE;ROLE=REQ-PARTICIPANT;PARTSTAT=NEEDS-ACTION;RSVP=FALSE;CN=sebastien
 @registry.godaddy:MAILTO:sebastien@registry.godaddy
ATTENDEE;ROLE=REQ-PARTICIPANT;PARTSTAT=NEEDS-ACTION;RSVP=FALSE;CN=Owen Smig
 elski:MAILTO:owen.smigelski@namecheap.com
ATTENDEE;ROLE=REQ-PARTICIPANT;PARTSTAT=NEEDS-ACTION;RSVP=FALSE;CN=Karen Len
 tz:MAILTO:karen.lentz@icann.org
ATTENDEE;ROLE=REQ-PARTICIPANT;PARTSTAT=NEEDS-ACTION;RSVP=FALSE;CN=Theresa S
 winehart:MAILTO:theresa.swinehart@icann.org
ATTENDEE;ROLE=REQ-PARTICIPANT;PARTSTAT=NEEDS-ACTION;RSVP=FALSE;CN=Isabelle 
 Colas:MAILTO:isabelle.colas@icann.org
ATTENDEE;ROLE=REQ-PARTICIPANT;PARTSTAT=NEEDS-ACTION;RSVP=FALSE;CN=Lars Hoff
 mann:MAILTO:lars.hoffmann@icann.org
ATTENDEE;ROLE=REQ-PARTICIPANT;PARTSTAT=NEEDS-ACTION;RSVP=FALSE;CN=Giovanni 
 Seppia:MAILTO:giovanni.seppia@icann.org
ATTENDEE;ROLE=REQ-PARTICIPANT;PARTSTAT=NEEDS-ACTION;RSVP=FALSE;CN=Becky Bur
 r:MAILTO:becky.burr@board.icann.org
ATTENDEE;ROLE=REQ-PARTICIPANT;PARTSTAT=NEEDS-ACTION;RSVP=FALSE;CN=Mona Gree
 nwood:MAILTO:mona.greenwood@icann.org
ATTENDEE;ROLE=REQ-PARTICIPANT;PARTSTAT=NEEDS-ACTION;RSVP=FALSE;CN=Marika Ko
 nings:MAILTO:marika.konings@icann.org
ATTENDEE;ROLE=REQ-PARTICIPANT;PARTSTAT=NEEDS-ACTION;RSVP=FALSE;CN=Steve Cha
 n:MAILTO:steve.chan@icann.org
ATTENDEE;ROLE=REQ-PARTICIPANT;PARTSTAT=NEEDS-ACTION;RSVP=FALSE;CN=Emily Bar
 abas:MAILTO:emily.barabas@icann.org
ATTENDEE;ROLE=REQ-PARTICIPANT;PARTSTAT=NEEDS-ACTION;RSVP=FALSE;CN=Nathalie 
 Peregrine:MAILTO:nathalie.peregrine@icann.org
ATTENDEE;ROLE=REQ-PARTICIPANT;PARTSTAT=NEEDS-ACTION;RSVP=FALSE;CN=Michelle 
 DeSmyter:MAILTO:michelle.desmyter@icann.org
ATTENDEE;ROLE=REQ-PARTICIPANT;PARTSTAT=NEEDS-ACTION;RSVP=FALSE;CN=Julie Bis
 land:MAILTO:julie.bisland@icann.org
ATTENDEE;ROLE=REQ-PARTICIPANT;PARTSTAT=NEEDS-ACTION;RSVP=FALSE;CN=Devan Ree
 d:MAILTO:devan.reed@icann.org
ATTENDEE;ROLE=REQ-PARTICIPANT;PARTSTAT=NEEDS-ACTION;RSVP=FALSE;CN=Terri Agn
 ew:MAILTO:terri.agnew@icann.org
DESCRIPTION;LANGUAGE=en-US:Meeting: Modifying gTLD Consensus Policies with 
 ICANN Org\, GNSO Council and SG/C Chairs\nDate/time: Wednesday\, 04 May 20
 22 at 13:00 UTC for 90 minutes\n\nBefore joining the call:\nPlease be sure
  you have read the Expected Standards of Behavior <https://urldefense.proo
 fpoint.com/v2/url?u=https-3A__www.icann.org_resources_pages_expected-2Dsta
 ndards-2D2016-2D06-2D28-2Den&d=DwMGaQ&c=FmY1u3PJp6wrcrwll3mSVzgfkbPSS6sJms
 7xcl4I5cM&r=DRa2dXAvSFpCIgmkXhFzL7ar9Qfqa0AIgn-H4xR2EBk&m=Q2CoD1pIwCmm4slf
 Y72x_Xyw25Rd2h1hba3UF0qUYV8&s=mp7QxpMBFJ5C_S_xAdAd4-kLGXmGVphmAi57mIgVwjg&
 e=>\nCheck your time zone: https://tinyurl.com/s9bznnp6\n\nPlease notify t
 he GNSO Secretariat in advance if a dial out call is needed\, gnso-secs@ic
 ann.org<mailto:gnso-secs@icann.org>. This call will be recorded.\n\nPlease
  click the link below to join the webinar: https://icann.zoom.us/j/9236713
 6025?pwd=U0c1dERHZ1FZT2g2Vzgzem9oRnZzdz09\nPasscode: j41&#43\;?PYCmD\n\nOn
 e tap mobile :\nUS: &#43\;13126266799\,\,92367136025#\,\,\,\,*2738479768# 
  or &#43\;19294362866\,\,92367136025#\,\,\,\,*2738479768#\n\n\nWebinar ID:
  923 6713 6025\n\nPasscode: 2738479768\n\n    International numbers availa
 ble: https://icann.zoom.us/u/adOEQ06SWh\n\n      Observers are welcome to 
 join\, they will be in a read-only and listen-only mode.\n\nThank you.\nKi
 nd Regards\,\n\nTerri\n\n\n\n\n
UID:A0A8B615-37E8-471F-9210-98DAE623732F
SUMMARY;LANGUAGE=en-US:Modifying gTLD Consensus Policies with ICANN Org\, G
 NSO Council and SG/C Chairs 
DTSTART;TZID=UTC:20220504T130000
DTEND;TZID=UTC:20220504T143000
CLASS:PUBLIC
PRIORITY:5
DTSTAMP:20220426T160543Z
TRANSP:OPAQUE
STATUS:CONFIRMED
SEQUENCE:0
LOCATION;LANGUAGE=en-US:13:00 UTC | https://icann.zoom.us/j/92367136025?pwd
 =U0c1dERHZ1FZT2g2Vzgzem9oRnZzdz09 
X-MICROSOFT-CDO-APPT-SEQUENCE:0
X-MICROSOFT-CDO-OWNERAPPTID:2120536810
X-MICROSOFT-CDO-BUSYSTATUS:TENTATIVE
X-MICROSOFT-CDO-INTENDEDSTATUS:BUSY
X-MICROSOFT-CDO-ALLDAYEVENT:FALSE
X-MICROSOFT-CDO-IMPORTANCE:1
X-MICROSOFT-CDO-INSTTYPE:0
X-MICROSOFT-DONOTFORWARDMEETING:FALSE
X-MICROSOFT-DISALLOW-COUNTER:TRUE
BEGIN:VALARM
DESCRIPTION:REMINDER
TRIGGER;RELATED=START:-PT15M
ACTION:DISPLAY
END:VALARM
END:VEVENT
END:VCALENDAR
