BEGIN:VCALENDAR
METHOD:CANCEL
PRODID:Microsoft Exchange Server 2010
VERSION:2.0
BEGIN:VTIMEZONE
TZID:Central European Standard Time
BEGIN:STANDARD
DTSTART:16010101T030000
TZOFFSETFROM:+0200
TZOFFSETTO:+0100
RRULE:FREQ=YEARLY;INTERVAL=1;BYDAY=-1SU;BYMONTH=10
END:STANDARD
BEGIN:DAYLIGHT
DTSTART:16010101T020000
TZOFFSETFROM:+0100
TZOFFSETTO:+0200
RRULE:FREQ=YEARLY;INTERVAL=1;BYDAY=-1SU;BYMONTH=3
END:DAYLIGHT
END:VTIMEZONE
BEGIN:VEVENT
ORGANIZER;CN=Paul McGrady:mailto:paul@elstermcgrady.com
ATTENDEE;ROLE=REQ-PARTICIPANT;PARTSTAT=NEEDS-ACTION;RSVP=TRUE;CN=GNOS Counc
 il Mailing List:mailto:council@gnso.icann.org
DESCRIPTION;LANGUAGE=en-US:Vintage Wine is ThrashFolk and Flat Fly is Ska. 
 WILD!  I'll be leaving directly from the Council dinner.\n
UID:040000008200E00074C5B7101A82E00800000000ABA2330322D6DB01000000000000000
 01000000012FAA61102EF9A4F992AD9ADC9A32DC4
SUMMARY;LANGUAGE=en-US:Canceled: Sending an address update: Uncle Paul in P
 rague: Vagan Club: Vintage Wine and Flat Fly [In-person]
DTSTART;TZID=Central European Standard Time:20250610T204500
DTEND;TZID=Central European Standard Time:20250610T231500
CLASS:PUBLIC
PRIORITY:5
DTSTAMP:20250609T124249Z
TRANSP:TRANSPARENT
STATUS:CANCELLED
SEQUENCE:1
LOCATION;LANGUAGE=en-US:PALÁC METRO NÁRODNÍ 25 PRAHA 1
X-MICROSOFT-CDO-APPT-SEQUENCE:1
X-MICROSOFT-CDO-OWNERAPPTID:2123771819
X-MICROSOFT-CDO-BUSYSTATUS:FREE
X-MICROSOFT-CDO-INTENDEDSTATUS:FREE
X-MICROSOFT-CDO-ALLDAYEVENT:FALSE
X-MICROSOFT-CDO-IMPORTANCE:1
X-MICROSOFT-CDO-INSTTYPE:0
X-MICROSOFT-DONOTFORWARDMEETING:FALSE
X-MICROSOFT-DISALLOW-COUNTER:FALSE
X-MICROSOFT-REQUESTEDATTENDANCEMODE:INPERSONREQUIRED
X-MICROSOFT-ISRESPONSEREQUESTED:TRUE
END:VEVENT
END:VCALENDAR
