BEGIN:VCALENDAR
VERSION:2.0
PRODID:-//Microsoft Corporation//Outlook for Mac MIMEDIR//EN
METHOD:PUBLISH
BEGIN:VTIMEZONE
TZID:Coordinated Universal Time
X-ENTOURAGE-CFTIMEZONE:UTC
X-ENTOURAGE-TZID:93
BEGIN:STANDARD
TZOFFSETFROM:+0000
TZOFFSETTO:+0000
DTSTART:16010101T000000
END:STANDARD
END:VTIMEZONE
BEGIN:VEVENT
UID:4C71E196-2006-40E2-B8E7-0B0B782BD2DB
X-ENTOURAGE_UUID:2BFC6761-29D3-467E-8F47-497A4C3EAA9A
X-MICROSOFT-EXCHANGE-ID:AAMkADFlMDNlNjQ5LTNjNTUtNDJkMC04ZTI0LWFiMTFkOTgwND
 JhMQBGAAAAAAAdZPIZTDF9SJl4Q9bAl0gQBwAFskP3JLIoSYZSK2rNBQTXAIjV8WqdAAANV5p2
 g4V9S6g+Ry+Q0bRJAAT3o3p7AAA=
X-MICROSOFT-EXCHANGE-CHANGEKEY:DwAAABYAAAANV5p2g4V9S6g+Ry+Q0bRJAAT3vrA9
DTSTAMP:20191122T025901Z
DTSTART;TZID="Coordinated Universal Time":20191209T130000
DTEND;TZID="Coordinated Universal Time":20191209T143000
LAST-MODIFIED:20191122T025901Z
SUMMARY:Policy Development Process (PDP) 3.0 Implementation Webinar 
DESCRIPTION:**The date and time has been adjusted from Wednesday\, 27
  November 2019 21:00 UTC to Monday\, 09 December 2019 at 13:00 UTC\,
  please adjust in your calendars. \n\n\n\nMeeting: Policy Development
  Process (PDP) 3.0 Webinar \n\nDate/time: Monday\, 09 December 2019 at
  13:00 UTC\n\nPlease join the Zoom room:
  https://icann.zoom.us/my/gnso1\n\n\n\nThe Generic Names Supporting
  Organization (GNSO) Council invite you to attend a webinar to learn more
  about the implementation efforts of Policy Development Process (PDP)
  3.0. \n\n\n\nPDP 3.0 is a GNSO Council initiative designed to enhance
  the efficiency and effectiveness of the GNSO policy development process.
  The GNSO Council has endeavored to develop proposed implementation of 14
  improvements of the PDP 3.0\, including potential changes to how the
  ICANN community participate in GNSO working groups and mechanisms to
  review working group leadership. By the webinar date\, proposed
  implementation documents for 12 out of 14 PDP 3.0 improvements have been
  developed. The GNSO Council also reached out to all SOs/ACs\, soliciting
  written input by late November. \n\n\n\nThis webinar will provide
  details to the PDP 3.0 implementation\, as well as opportunity for all
  participants to ask questions and provide further feedback. Taking into
  consideration the input received\, the GNSO Council plans to finalize
  all implementation documents by January 2020. \n\n\n\nTo learn more
  about PDP 3.0\, please read the proposed implementation documents here:
  https://community.icann.org/x/v4rkBg \n\n\n\nPlease join the Policy
  Development Process (PDP) 3.0 Implementation Webinar hosted by the GNSO
  Council being held on Monday\, 09 December 2019 at 13:00 UTC\n\n\n\nFor
  other times: https://tinyurl.com/qrn8lhs\n\n\n\nAll GNSO Councilors are
  expected to attend\, however\, this being a public webinar\, other ICANN
  community members are of course welcome to participate. \n\n\n\nPlease
  join the Zoom room: https://icann.zoom.us/my/gnso1\n\n\n\nYou will have
  VoIP and telecom bridge audio options available to you upon logging
  in.\n\n\n\nIf you are joining via audio only\, please see
  below.\n\n\n\nOne tap mobile\n\n+19294362866\,\,7441796513# US (New
  York)\n\n+16699006833\,\,7441796513# US (San Jose)\n\n\n\nMeeting ID:
  744 179 6513\n\nFind your local number:
  https://zoom.us/u/aRxRoDRS\n\n\n\nThank you\,\n\nAndrea
  Glandon\n\n\n\n\n
LOCATION:13:00 UTC | https://icann.zoom.us/my/gnso1
ORGANIZER:MAILTO:PolicyCalendar@icann.org
SEQUENCE:2
ATTENDEE;ROLE=REQ-PARTICIPANT;RSVP=FALSE;CN=ntfy-gnso-council@icann.org;PA
 RTSTAT=NEEDS-ACTION:MAILTO:ntfy-gnso-council@icann.org
ATTENDEE;ROLE=REQ-PARTICIPANT;RSVP=FALSE;CN="Marika
  Konings";PARTSTAT=NEEDS-ACTION:MAILTO:marika.konings@icann.org
ATTENDEE;ROLE=REQ-PARTICIPANT;RSVP=FALSE;CN="Steve
  Chan";PARTSTAT=NEEDS-ACTION:MAILTO:steve.chan@icann.org
ATTENDEE;ROLE=REQ-PARTICIPANT;RSVP=FALSE;CN=policy@bacinblack.com;PARTSTAT
 =NEEDS-ACTION:MAILTO:policy@bacinblack.com
ATTENDEE;ROLE=REQ-PARTICIPANT;RSVP=FALSE;CN="Julie
  Hedlund";PARTSTAT=NEEDS-ACTION:MAILTO:julie.hedlund@icann.org
ATTENDEE;ROLE=REQ-PARTICIPANT;RSVP=FALSE;CN="Emily
  Barabas";PARTSTAT=NEEDS-ACTION:MAILTO:emily.barabas@icann.org
ATTENDEE;ROLE=REQ-PARTICIPANT;RSVP=FALSE;CN="Ariel
  Liang";PARTSTAT=NEEDS-ACTION:MAILTO:ariel.liang@icann.org
ATTENDEE;ROLE=REQ-PARTICIPANT;RSVP=FALSE;CN="Nathalie
  Peregrine";PARTSTAT=NEEDS-ACTION:MAILTO:nathalie.peregrine@icann.org
ATTENDEE;ROLE=REQ-PARTICIPANT;RSVP=FALSE;CN="Terri
  Agnew";PARTSTAT=NEEDS-ACTION:MAILTO:terri.agnew@icann.org
ATTENDEE;ROLE=REQ-PARTICIPANT;RSVP=FALSE;CN="Julie
  Bisland";PARTSTAT=NEEDS-ACTION:MAILTO:julie.bisland@icann.org
ATTENDEE;ROLE=REQ-PARTICIPANT;RSVP=FALSE;CN="Michelle
  DeSmyter";PARTSTAT=NEEDS-ACTION:MAILTO:michelle.desmyter@icann.org
ATTENDEE;ROLE=REQ-PARTICIPANT;RSVP=FALSE;CN="Andrea
  Glandon";PARTSTAT=NEEDS-ACTION:MAILTO:andrea.glandon@icann.org
ATTENDEE;ROLE=REQ-PARTICIPANT;RSVP=FALSE;CN=Donna.Austin@team.neustar;PART
 STAT=NEEDS-ACTION:MAILTO:Donna.Austin@team.neustar
X-MICROSOFT-CDO-BUSYSTATUS:BUSY
X-MICROSOFT-CDO-ALLDAYEVENT:FALSE
X-MICROSOFT-DISALLOW-COUNTER:TRUE
X-MICROSOFT-DONOTFORWARDMEETING:FALSE
X-MICROSOFT-CDO-INSTTYPE:0
BEGIN:VALARM
ACTION:DISPLAY
DESCRIPTION:REMINDER
TRIGGER;RELATED=START:-PT00H15M00S
END:VALARM
END:VEVENT
END:VCALENDAR
