BEGIN:VCALENDAR
METHOD:REQUEST
PRODID:Microsoft Exchange Server 2010
VERSION:2.0
BEGIN:VTIMEZONE
TZID:Greenwich Standard Time
BEGIN:STANDARD
DTSTART:16010101T000000
TZOFFSETFROM:+0000
TZOFFSETTO:+0000
END:STANDARD
BEGIN:DAYLIGHT
DTSTART:16010101T000000
TZOFFSETFROM:+0000
TZOFFSETTO:+0000
END:DAYLIGHT
END:VTIMEZONE
BEGIN:VEVENT
ORGANIZER;CN=Heather Forrest:MAILTO:Heather.Forrest@acu.edu.au
ATTENDEE;ROLE=REQ-PARTICIPANT;PARTSTAT=NEEDS-ACTION;RSVP=TRUE;CN=Glen@icann
 .org:MAILTO:Glen@icann.org
ATTENDEE;ROLE=REQ-PARTICIPANT;PARTSTAT=NEEDS-ACTION;RSVP=TRUE;CN=council@gn
 so.icann.org:MAILTO:council@gnso.icann.org
ATTENDEE;ROLE=REQ-PARTICIPANT;PARTSTAT=NEEDS-ACTION;RSVP=TRUE;CN=cwilson@21
 cf.com:MAILTO:cwilson@21cf.com
ATTENDEE;ROLE=REQ-PARTICIPANT;PARTSTAT=NEEDS-ACTION;RSVP=TRUE;CN=tonyarholm
 es@btinternet.com:MAILTO:tonyarholmes@btinternet.com
ATTENDEE;ROLE=REQ-PARTICIPANT;PARTSTAT=NEEDS-ACTION;RSVP=TRUE;CN=gregshatan
 ipc@gmail.com:MAILTO:gregshatanipc@gmail.com
ATTENDEE;ROLE=REQ-PARTICIPANT;PARTSTAT=NEEDS-ACTION;RSVP=TRUE;CN=pdiaz@pir.
 org:MAILTO:pdiaz@pir.org
ATTENDEE;ROLE=REQ-PARTICIPANT;PARTSTAT=NEEDS-ACTION;RSVP=TRUE;CN=michele@bl
 acknight.com:MAILTO:michele@blacknight.com
ATTENDEE;ROLE=REQ-PARTICIPANT;PARTSTAT=NEEDS-ACTION;RSVP=TRUE;CN=rafik.damm
 ak@gmail.com:MAILTO:rafik.dammak@gmail.com
ATTENDEE;ROLE=REQ-PARTICIPANT;PARTSTAT=NEEDS-ACTION;RSVP=TRUE;CN=ncsg@tapan
 i.tarvainen.info:MAILTO:ncsg@tapani.tarvainen.info
ATTENDEE;ROLE=REQ-PARTICIPANT;PARTSTAT=NEEDS-ACTION;RSVP=TRUE;CN=rudi.vansn
 ick@npoc.org:MAILTO:rudi.vansnick@npoc.org
DESCRIPTION;LANGUAGE=en-US:There will be the usual informal Council session
  on Tuesday from 18:00-19:00 in Diamant with drinks and snacks.
UID:040000008200E00074C5B7101A82E00800000000D1C85684FE76D101000000000000000
 0100000009168D7C297851B4BA4EC2C8557824B9D
SUMMARY;LANGUAGE=en-US:usual informal Council
DTSTART;TZID=Greenwich Standard Time:20160308T070000
DTEND;TZID=Greenwich Standard Time:20160308T080000
CLASS:PUBLIC
PRIORITY:5
DTSTAMP:20160305T164609Z
TRANSP:OPAQUE
STATUS:CONFIRMED
SEQUENCE:0
LOCATION;LANGUAGE=en-US:
X-MICROSOFT-CDO-APPT-SEQUENCE:0
X-MICROSOFT-CDO-OWNERAPPTID:2114137553
X-MICROSOFT-CDO-BUSYSTATUS:TENTATIVE
X-MICROSOFT-CDO-INTENDEDSTATUS:BUSY
X-MICROSOFT-CDO-ALLDAYEVENT:FALSE
X-MICROSOFT-CDO-IMPORTANCE:1
X-MICROSOFT-CDO-INSTTYPE:0
X-MICROSOFT-DISALLOW-COUNTER:FALSE
BEGIN:VALARM
DESCRIPTION:REMINDER
TRIGGER;RELATED=START:-PT15M
ACTION:DISPLAY
END:VALARM
END:VEVENT
END:VCALENDAR
