BEGIN:VCALENDAR
METHOD:REQUEST
VERSION:2.0
PRODID:-//Roundcube 1.6.9//Sabre VObject 4.5.5//EN
CALSCALE:GREGORIAN
BEGIN:VEVENT
X-CPANEL-ID:eyJjYWwiOiJjYWxlbmRhciIsInVzZXIiOiJsYXdyZW5jZUBtaWNyb2Jvc3Mub3
 JnIiwidWlkIjoiNEFEMjNBOUUtOTJBMS00MjU2LThBOTItQ0Y3OUJBN0U0MTUwIn0=
UID:4AD23A9E-92A1-4256-8A92-CF79BA7E4150
DTSTAMP:20241202T211606Z
CREATED:20250106T164440Z
LAST-MODIFIED:20241202T211606Z
DTSTART:20250213T210000Z
DTEND:20250213T230000Z
SUMMARY:GNSO Council Meeting
LOCATION:21:00 UTC | https://icann.zoom.us/j/91048235847?pwd=bmEHjk0uYT3sR2
 DIoE0c0yw4HKbM6O.1
DESCRIPTION:Meeting: GNSO Council Meeting\nDate/Time: Thursday\, 13 Februar
 y 2025 at 21:00 UTC for 2 hours\n\nPlease click the link below to join the
  webinar: https://icann.zoom.us/j/91048235847?pwd=bmEHjk0uYT3sR2DIoE0c0yw4
 HKbM6O.1\nPasscode: mkt7*ULa9b\n\nOr One tap mobile :\n    &#43\;134624877
 99\,\,91048235847#\,\,\,\,*9213420189# US (Houston)\n    &#43\;16699006833
 \,\,91048235847#\,\,\,\,*9213420189# US (San Jose)\n\nWebinar ID: 910 4823
  5847\nPasscode: 9213420189\n    International numbers available: https://
 icann.zoom.us/u/a6JrPP2u5\n\n\n\n\n\n\n
SEQUENCE:0
PRIORITY:5
STATUS:CONFIRMED
ATTENDEE;CN=council@gnso.icann.org;PARTSTAT=NEEDS-ACTION;ROLE=REQ-PARTICIPA
 NT;RSVP=TRUE:mailto:council@gnso.icann.org
ATTENDEE;CN=Steve Chan;PARTSTAT=NEEDS-ACTION;ROLE=REQ-PARTICIPANT;RSVP=TRUE
 :mailto:steve.chan@icann.org
ATTENDEE;CN=Caitlin Tubergen;PARTSTAT=NEEDS-ACTION;ROLE=REQ-PARTICIPANT;RSV
 P=TRUE:mailto:caitlin.tubergen@icann.org
ATTENDEE;CN=Julie Hedlund;PARTSTAT=NEEDS-ACTION;ROLE=REQ-PARTICIPANT;RSVP=T
 RUE:mailto:julie.hedlund@icann.org
ATTENDEE;CN=Saewon Lee;PARTSTAT=NEEDS-ACTION;ROLE=REQ-PARTICIPANT;RSVP=TRUE
 :mailto:saewon.lee@icann.org
ATTENDEE;CN=Feodora Hamza;PARTSTAT=NEEDS-ACTION;ROLE=REQ-PARTICIPANT;RSVP=T
 RUE:mailto:feodora.hamza@icann.org
ATTENDEE;CN=John Emery;PARTSTAT=NEEDS-ACTION;ROLE=REQ-PARTICIPANT;RSVP=TRUE
 :mailto:john.emery@icann.org
ATTENDEE;CN=Berry Cobb;PARTSTAT=NEEDS-ACTION;ROLE=REQ-PARTICIPANT;RSVP=TRUE
 :mailto:Berry.Cobb@icann.org
ATTENDEE;CN=Mary Wong;PARTSTAT=NEEDS-ACTION;ROLE=REQ-PARTICIPANT;RSVP=TRUE:
 mailto:mary.wong@icann.org
ATTENDEE;CN=Julie Bisland;PARTSTAT=NEEDS-ACTION;ROLE=REQ-PARTICIPANT;RSVP=T
 RUE:mailto:julie.bisland@icann.org
ATTENDEE;CN=Devan Reed;PARTSTAT=NEEDS-ACTION;ROLE=REQ-PARTICIPANT;RSVP=TRUE
 :mailto:devan.reed@icann.org
ATTENDEE;CN=Terri Agnew;PARTSTAT=NEEDS-ACTION;ROLE=REQ-PARTICIPANT;RSVP=TRU
 E:mailto:terri.agnew@icann.org
ATTENDEE;CN=Lawrence Olawale-Roberts;PARTSTAT=ACCEPTED;ROLE=OPT-PARTICIPANT
 :mailto:lawrence@microboss.org
ORGANIZER;CN=ICANN Policy Calendar:mailto:PolicyCalendar@icann.org
X-MICROSOFT-CDO-APPT-SEQUENCE:0
X-MICROSOFT-CDO-OWNERAPPTID:2123108888
X-MICROSOFT-CDO-INTENDEDSTATUS:BUSY
X-MICROSOFT-CDO-ALLDAYEVENT:FALSE
X-MICROSOFT-CDO-IMPORTANCE:1
X-MICROSOFT-CDO-INSTTYPE:0
X-MICROSOFT-DONOTFORWARDMEETING:FALSE
X-MICROSOFT-DISALLOW-COUNTER:FALSE
BEGIN:VALARM
ACTION:DISPLAY
TRIGGER:-PT15M
DESCRIPTION:REMINDER
END:VALARM
END:VEVENT
END:VCALENDAR