BEGIN:VCALENDAR
VERSION:2.0
PRODID:-//Microsoft Corporation//Outlook for Mac MIMEDIR//EN
METHOD:PUBLISH
BEGIN:VTIMEZONE
TZID:Coordinated Universal Time
X-ENTOURAGE-CFTIMEZONE:UTC
X-ENTOURAGE-TZID:93
BEGIN:STANDARD
TZOFFSETFROM:+0000
TZOFFSETTO:+0000
DTSTART:16010101T000000
END:STANDARD
END:VTIMEZONE
BEGIN:VEVENT
UID:03552A54-8971-4978-B56F-51F35151A18B
X-ENTOURAGE_UUID:5AD2484D-B061-4D62-8FA0-3561A8A3E187
X-MICROSOFT-EXCHANGE-ID:AAMkADFlMDNlNjQ5LTNjNTUtNDJkMC04ZTI0LWFiMTFkOTgwND
 JhMQBGAAAAAAAdZPIZTDF9SJl4Q9bAl0gQBwAFskP3JLIoSYZSK2rNBQTXAIjV8WqdAAANV5p2
 g4V9S6g+Ry+Q0bRJAAWJSVqpAAA=
X-MICROSOFT-EXCHANGE-CHANGEKEY:DwAAABYAAAANV5p2g4V9S6g+Ry+Q0bRJAAWJdB5s
DTSTAMP:20200623T120333Z
DTSTART;TZID="Coordinated Universal Time":20200707T120000
DTEND;TZID="Coordinated Universal Time":20200707T130000
LAST-MODIFIED:20200623T132738Z
SUMMARY:CCWG Auction Proceeds Webinar
DESCRIPTION:When: Jul 7\, 2020 12:00 PM Universal Time UTC\n\nTopic: CCWG
  Auction Proceeds webinar \n\n\n\nPlease click the link below to join the
  webinar:
  \n\nhttps://icann.zoom.us/j/99947916357?pwd=K0V4WGpJaGZDL2FWYy92RGx4bUZQQ
 T09 \n\nPassword: 0b#6gzgatN\n\n\n\nOr iPhone one-tap : \n\nUS:
  +13462487799\,\,99947916357#\,\,\,\,0#\,\,070539# or
  +16699006833\,\,99947916357#\,\,\,\,0#\,\,070539# \n\nOr
  Telephone:\n\nDial(for higher quality\, dial a number based on your
  current location):\n\nUS: +1 346 248 7799 or +1 669 900 6833 or +1 929
  436 2866 or +1 253 215 8782 or +1 301 715 8592 or +1 312 626 6799 or 888
  788 0099 (Toll Free) or 877 853 5247 (Toll Free)\n\nWebinar ID: 999 4791
  6357\n\nPassword: 070539\n\nInternational numbers available:
  https://icann.zoom.us/u/adDKJK43fb \n\n\n
LOCATION:12:00 UTC
ORGANIZER:MAILTO:PolicyCalendar@icann.org
SEQUENCE:0
ATTENDEE;ROLE=REQ-PARTICIPANT;RSVP=FALSE;CN=erika@erikamann.com;PARTSTAT=N
 EEDS-ACTION:MAILTO:erika@erikamann.com
ATTENDEE;ROLE=REQ-PARTICIPANT;RSVP=FALSE;CN=������;PARTSTAT=NEEDS-ACTION:M
 AILTO:chiao@brandma.co
ATTENDEE;ROLE=REQ-PARTICIPANT;RSVP=FALSE;CN=ching.chiao@gmail.com;PARTSTAT
 =NEEDS-ACTION:MAILTO:ching.chiao@gmail.com
ATTENDEE;ROLE=REQ-PARTICIPANT;RSVP=FALSE;CN="Joke
  Braeken";PARTSTAT=NEEDS-ACTION:MAILTO:joke.braeken@icann.org
ATTENDEE;ROLE=REQ-PARTICIPANT;RSVP=FALSE;CN="Marika
  Konings";PARTSTAT=NEEDS-ACTION:MAILTO:marika.konings@icann.org
ATTENDEE;ROLE=REQ-PARTICIPANT;RSVP=FALSE;CN="Emily
  Barabas";PARTSTAT=NEEDS-ACTION:MAILTO:emily.barabas@icann.org
ATTENDEE;ROLE=REQ-PARTICIPANT;RSVP=FALSE;CN="Terri
  Agnew";PARTSTAT=NEEDS-ACTION:MAILTO:terri.agnew@icann.org
ATTENDEE;ROLE=REQ-PARTICIPANT;RSVP=FALSE;CN="Michelle
  DeSmyter";PARTSTAT=NEEDS-ACTION:MAILTO:michelle.desmyter@icann.org
ATTENDEE;ROLE=REQ-PARTICIPANT;RSVP=FALSE;CN="Andrea
  Glandon";PARTSTAT=NEEDS-ACTION:MAILTO:andrea.glandon@icann.org
ATTENDEE;ROLE=REQ-PARTICIPANT;RSVP=FALSE;CN="Julie
  Bisland";PARTSTAT=NEEDS-ACTION:MAILTO:julie.bisland@icann.org
ATTENDEE;ROLE=REQ-PARTICIPANT;RSVP=FALSE;CN="Nathalie
  Peregrine";PARTSTAT=NEEDS-ACTION:MAILTO:nathalie.peregrine@icann.org
X-MICROSOFT-CDO-BUSYSTATUS:BUSY
X-MICROSOFT-CDO-ALLDAYEVENT:FALSE
X-MICROSOFT-DISALLOW-COUNTER:TRUE
X-MICROSOFT-DONOTFORWARDMEETING:FALSE
X-MICROSOFT-CDO-INSTTYPE:0
BEGIN:VALARM
ACTION:DISPLAY
DESCRIPTION:REMINDER
TRIGGER;RELATED=START:-PT00H15M00S
END:VALARM
END:VEVENT
END:VCALENDAR
