BEGIN:VCALENDAR
METHOD:REQUEST
PRODID:Microsoft Exchange Server 2010
VERSION:2.0
BEGIN:VTIMEZONE
TZID:UTC
BEGIN:STANDARD
DTSTART:16010101T000000
TZOFFSETFROM:+0000
TZOFFSETTO:+0000
END:STANDARD
BEGIN:DAYLIGHT
DTSTART:16010101T000000
TZOFFSETFROM:+0000
TZOFFSETTO:+0000
END:DAYLIGHT
END:VTIMEZONE
BEGIN:VEVENT
ORGANIZER;CN=ICANN Policy Calendar:MAILTO:PolicyCalendar@icann.org
ATTENDEE;ROLE=REQ-PARTICIPANT;PARTSTAT=NEEDS-ACTION;RSVP=FALSE;CN=council@g
 nso.icann.org:MAILTO:council@gnso.icann.org
DESCRIPTION;LANGUAGE=en-US:Topic: GNSO Council Meeting\n\nDate/Time: Septem
 ber 23\, 2021 19:00 UTC\n\n\n\nPlease click the link below to join the web
 inar (recommended): https://icann.zoom.us/j/99190199531?pwd=UG0vRTYrS2VyK1
 hZNUtCWjRXYlo1QT09\n\n\n\nIf joining Zoom via Zoom App the following will 
 be required:\nWebinar ID: 991 9019 9531\nPassword: UY7XC?uH&amp\;^\n\n\nIf
  you are joining via audio only:\niPhone one-tap :\n\n\nUS: &#43\;13126266
 799\,\,99190199531#\,\,\,\,\,\,0#\,\,2283804951# or &#43\;19294362866\,\,9
 9190199531#\,\,\,\,\,\,0#\,\,2283804951#\n\n\nOr Telephone:\n\n\nDial(for 
 higher quality\, dial a number based on your current location):\n\n\nUS: &
 #43\;1 312 626 6799 or &#43\;1 929 436 2866 or &#43\;1 301 715 8592 or &#4
 3\;1 346 248 7799 or &#43\;1 669 900 6833 or &#43\;1 253 215 8782 or 888 7
 88 0099 (Toll Free) or 877 853 5247 (Toll Free)\n\n\nWebinar ID: 991 9019 
 9531\nPasscode: 2283804951\n\n\nInternational numbers available: https://i
 cann.zoom.us/u/aesq2dj42n\n\n
UID:95DFD723-6DC2-4B92-895C-726E33EDD3FB
SUMMARY;LANGUAGE=en-US:GNSO Council Meeting
DTSTART;TZID=UTC:20210923T190000
DTEND;TZID=UTC:20210923T210000
CLASS:PUBLIC
PRIORITY:5
DTSTAMP:20210916T173931Z
TRANSP:OPAQUE
STATUS:CONFIRMED
SEQUENCE:5
LOCATION;LANGUAGE=en-US:19:00 UTC | https://icann.zoom.us/j/99190199531?pwd
 =UG0vRTYrS2VyK1hZNUtCWjRXYlo1QT09
X-MICROSOFT-CDO-APPT-SEQUENCE:5
X-MICROSOFT-CDO-OWNERAPPTID:2118840128
X-MICROSOFT-CDO-BUSYSTATUS:TENTATIVE
X-MICROSOFT-CDO-INTENDEDSTATUS:BUSY
X-MICROSOFT-CDO-ALLDAYEVENT:FALSE
X-MICROSOFT-CDO-IMPORTANCE:1
X-MICROSOFT-CDO-INSTTYPE:0
X-MICROSOFT-DONOTFORWARDMEETING:FALSE
X-MICROSOFT-DISALLOW-COUNTER:TRUE
BEGIN:VALARM
DESCRIPTION:REMINDER
TRIGGER;RELATED=START:-PT15M
ACTION:DISPLAY
END:VALARM
END:VEVENT
END:VCALENDAR
