BEGIN:VCALENDAR
VERSION:2.0
PRODID:-//Microsoft Corporation//Outlook for Mac MIMEDIR//EN
METHOD:PUBLISH
BEGIN:VTIMEZONE
TZID:Coordinated Universal Time
X-ENTOURAGE-CFTIMEZONE:UTC
X-ENTOURAGE-TZID:93
BEGIN:STANDARD
TZOFFSETFROM:+0000
TZOFFSETTO:+0000
DTSTART:16010101T000000
END:STANDARD
END:VTIMEZONE
BEGIN:VEVENT
UID:B95F2C43-2DEB-4390-8373-A20F82B3E4B4
X-ENTOURAGE_UUID:B95F2C43-2DEB-4390-8373-A20F82B3E4B4
X-MICROSOFT-EXCHANGE-ID:AAMkADFlMDNlNjQ5LTNjNTUtNDJkMC04ZTI0LWFiMTFkOTgwND
 JhMQBGAAAAAAAdZPIZTDF9SJl4Q9bAl0gQBwAFskP3JLIoSYZSK2rNBQTXAIjV8WqdAACjhqXC
 SbKVRZwH7aZE5XhKAAIfLlb6AAA=
X-MICROSOFT-EXCHANGE-CHANGEKEY:DwAAABYAAACjhqXCSbKVRZwH7aZE5XhKAAIfQ7QZ
DTSTAMP:20221019T171835Z
DTSTART;TZID="Coordinated Universal Time":20221026T190000
DTEND;TZID="Coordinated Universal Time":20221026T203000
LAST-MODIFIED:20221019T171836Z
SUMMARY:GNSO Council & SC/G Chairs call: PDP Improvements & Next Steps
  Standing Committee on SCBO
DESCRIPTION:Meeting: GNSO Council & SG/C Chairs call: PDP Improvements &
  Next Steps Standing Committee on ICANN Budget and Operations
  (SCBO)\n\nDate/Time:�� Wednesday\, 26 October 2022 at 19:00 UTC for 90
  minutes\n\n \n\nFor other time zones: https://tinyurl.com/vndva5y5 \n\n
  \n\nPlease click the link below to join the webinar:
  https://icann.zoom.us/j/95188120788?pwd=WnRXWW52dVZ3T2ZUdFhzc1lkVlM3QT09
  \n\nPasscode: Zx9DKcpc$L\n\n \n\nAudio only:\n\nWebinar ID: 951 8812
  0788\n\nPasscode: 4945336565\n\nInternational numbers available:
  https://icann.zoom.us/u/aYEpTXpjp\n\n \n
LOCATION:19:00 UTC /
  https://icann.zoom.us/j/95188120788?pwd=WnRXWW52dVZ3T2ZUdFhzc1lkVlM3QT09
   
ORGANIZER:MAILTO:PolicyCalendar@icann.org
SEQUENCE:0
ATTENDEE;ROLE=REQ-PARTICIPANT;RSVP=FALSE;CN="Demetriou,
  Samantha";PARTSTAT=NEEDS-ACTION:MAILTO:sdemetriou@verisign.com
ATTENDEE;ROLE=REQ-PARTICIPANT;RSVP=FALSE;CN="Ashley
  Heineman";PARTSTAT=NEEDS-ACTION:MAILTO:aheineman@godaddy.com
ATTENDEE;ROLE=REQ-PARTICIPANT;RSVP=FALSE;CN="Johan
  Helsingius";PARTSTAT=NEEDS-ACTION:MAILTO:julf@Julf.com
ATTENDEE;ROLE=REQ-PARTICIPANT;RSVP=FALSE;CN="Cole, Mason (Perkins
  Coie)";PARTSTAT=NEEDS-ACTION:MAILTO:MCole@perkinscoie.com
ATTENDEE;ROLE=REQ-PARTICIPANT;RSVP=FALSE;CN="Lori
  Schulman";PARTSTAT=NEEDS-ACTION:MAILTO:lschulman@inta.org
ATTENDEE;ROLE=REQ-PARTICIPANT;RSVP=FALSE;CN=wuknoben@gmail.com;PARTSTAT=NE
 EDS-ACTION:MAILTO:wuknoben@gmail.com
ATTENDEE;ROLE=REQ-PARTICIPANT;RSVP=FALSE;CN="Benjamin
  Akinmoyeje";PARTSTAT=NEEDS-ACTION:MAILTO:benakin@gmail.com
ATTENDEE;ROLE=REQ-PARTICIPANT;RSVP=FALSE;CN="Raoul
  Plommer";PARTSTAT=NEEDS-ACTION:MAILTO:plommer@gmail.com
ATTENDEE;ROLE=REQ-PARTICIPANT;RSVP=FALSE;PARTSTAT=NEEDS-ACTION:MAILTO:coun
 cil@gnso.icann.org
ATTENDEE;ROLE=REQ-PARTICIPANT;RSVP=FALSE;CN="Sue
  Schuler";PARTSTAT=NEEDS-ACTION:MAILTO:secretariat@rysg.info
ATTENDEE;ROLE=REQ-PARTICIPANT;RSVP=FALSE;CN="Zoe
  Bonython";PARTSTAT=NEEDS-ACTION:MAILTO:secretariat@icannregistrars.org
ATTENDEE;ROLE=REQ-PARTICIPANT;RSVP=FALSE;CN="Andrea
  Glandon";PARTSTAT=NEEDS-ACTION:MAILTO:andrea.glandon@icann.org
ATTENDEE;ROLE=REQ-PARTICIPANT;RSVP=FALSE;CN="Brenda
  Brewer";PARTSTAT=NEEDS-ACTION:MAILTO:brenda.brewer@icann.org
ATTENDEE;ROLE=REQ-PARTICIPANT;RSVP=FALSE;CN="Mary
  Wong";PARTSTAT=NEEDS-ACTION:MAILTO:mary.wong@icann.org
ATTENDEE;ROLE=REQ-PARTICIPANT;RSVP=FALSE;CN="Nathalie
  Peregrine";PARTSTAT=NEEDS-ACTION:MAILTO:nathalie.peregrine@icann.org
ATTENDEE;ROLE=REQ-PARTICIPANT;RSVP=FALSE;CN="Terri
  Agnew";PARTSTAT=NEEDS-ACTION:MAILTO:terri.agnew@icann.org
ATTENDEE;ROLE=REQ-PARTICIPANT;RSVP=FALSE;CN="Michelle
  DeSmyter";PARTSTAT=NEEDS-ACTION:MAILTO:michelle.desmyter@icann.org
ATTENDEE;ROLE=REQ-PARTICIPANT;RSVP=FALSE;CN="Devan
  Reed";PARTSTAT=NEEDS-ACTION:MAILTO:devan.reed@icann.org
ATTENDEE;ROLE=REQ-PARTICIPANT;RSVP=FALSE;CN="Julie
  Bisland";PARTSTAT=NEEDS-ACTION:MAILTO:julie.bisland@icann.org
X-MICROSOFT-CDO-BUSYSTATUS:BUSY
X-MICROSOFT-CDO-ALLDAYEVENT:FALSE
X-MICROSOFT-DISALLOW-COUNTER:TRUE
X-MICROSOFT-DONOTFORWARDMEETING:FALSE
X-MICROSOFT-CDO-INSTTYPE:0
BEGIN:VALARM
ACTION:DISPLAY
DESCRIPTION:REMINDER
TRIGGER;RELATED=START:-PT00H15M00S
END:VALARM
END:VEVENT
END:VCALENDAR
