BEGIN:VCALENDAR
METHOD:REQUEST
PRODID:Microsoft Exchange Server 2010
VERSION:2.0
BEGIN:VTIMEZONE
TZID:UTC
BEGIN:STANDARD
DTSTART:16010101T000000
TZOFFSETFROM:+0000
TZOFFSETTO:+0000
END:STANDARD
BEGIN:DAYLIGHT
DTSTART:16010101T000000
TZOFFSETFROM:+0000
TZOFFSETTO:+0000
END:DAYLIGHT
END:VTIMEZONE
BEGIN:VEVENT
ORGANIZER;CN=ICANN Policy Calendar:MAILTO:PolicyCalendar@icann.org
ATTENDEE;ROLE=REQ-PARTICIPANT;PARTSTAT=NEEDS-ACTION;RSVP=FALSE;CN=council@g
 nso.icann.org:MAILTO:council@gnso.icann.org
ATTENDEE;ROLE=REQ-PARTICIPANT;PARTSTAT=NEEDS-ACTION;RSVP=FALSE;CN=michael.b
 auland@knipp.de:MAILTO:michael.bauland@knipp.de
ATTENDEE;ROLE=REQ-PARTICIPANT;PARTSTAT=NEEDS-ACTION;RSVP=FALSE;CN=Manju pre
 ferred email:MAILTO:manju4icann@gmail.com
ATTENDEE;ROLE=REQ-PARTICIPANT;PARTSTAT=NEEDS-ACTION;RSVP=FALSE;CN=Steve Cha
 n:MAILTO:steve.chan@icann.org
ATTENDEE;ROLE=REQ-PARTICIPANT;PARTSTAT=NEEDS-ACTION;RSVP=FALSE;CN=Caitlin T
 ubergen:MAILTO:caitlin.tubergen@icann.org
ATTENDEE;ROLE=REQ-PARTICIPANT;PARTSTAT=NEEDS-ACTION;RSVP=FALSE;CN=Julie Hed
 lund:MAILTO:julie.hedlund@icann.org
ATTENDEE;ROLE=REQ-PARTICIPANT;PARTSTAT=NEEDS-ACTION;RSVP=FALSE;CN=Saewon Le
 e:MAILTO:saewon.lee@icann.org
ATTENDEE;ROLE=REQ-PARTICIPANT;PARTSTAT=NEEDS-ACTION;RSVP=FALSE;CN=John Emer
 y:MAILTO:john.emery@icann.org
ATTENDEE;ROLE=REQ-PARTICIPANT;PARTSTAT=NEEDS-ACTION;RSVP=FALSE;CN=Feodora H
 amza:MAILTO:feodora.hamza@icann.org
ATTENDEE;ROLE=REQ-PARTICIPANT;PARTSTAT=NEEDS-ACTION;RSVP=FALSE;CN=Terri Agn
 ew:MAILTO:terri.agnew@icann.org
ATTENDEE;ROLE=REQ-PARTICIPANT;PARTSTAT=NEEDS-ACTION;RSVP=FALSE;CN=Julie Bis
 land:MAILTO:julie.bisland@icann.org
ATTENDEE;ROLE=REQ-PARTICIPANT;PARTSTAT=NEEDS-ACTION;RSVP=FALSE;CN=Devan Ree
 d:MAILTO:devan.reed@icann.org
ATTENDEE;ROLE=REQ-PARTICIPANT;PARTSTAT=NEEDS-ACTION;RSVP=FALSE;CN=Berry Cob
 b:MAILTO:Berry.Cobb@icann.org
ATTENDEE;ROLE=REQ-PARTICIPANT;PARTSTAT=NEEDS-ACTION;RSVP=FALSE;CN=Mary Wong
 :MAILTO:mary.wong@icann.org
ATTENDEE;ROLE=REQ-PARTICIPANT;PARTSTAT=NEEDS-ACTION;RSVP=FALSE;CN=Susie Joh
 nson:MAILTO:susie.johnson@icann.org
ATTENDEE;ROLE=REQ-PARTICIPANT;PARTSTAT=NEEDS-ACTION;RSVP=FALSE;CN=Russ Wein
 stein:MAILTO:russ.weinstein@icann.org
DESCRIPTION;LANGUAGE=en-US:Meeting: Pre-ICANN83 GNSO Council Webinar\nDate/
 Time: Tuesday\, 20 May 2025 at 05:00 UTC for 60 minutes.\n\nBefore joining
  the call:\nPlease be sure you have read the Expected Standards of Behavio
 r <https://urldefense.proofpoint.com/v2/url?u=https-3A__www.icann.org_reso
 urces_pages_expected-2Dstandards-2D2016-2D06-2D28-2Den&d=DwMGaQ&c=FmY1u3PJ
 p6wrcrwll3mSVzgfkbPSS6sJms7xcl4I5cM&r=DRa2dXAvSFpCIgmkXhFzL7ar9Qfqa0AIgn-H
 4xR2EBk&m=Q2CoD1pIwCmm4slfY72x_Xyw25Rd2h1hba3UF0qUYV8&s=mp7QxpMBFJ5C_S_xAd
 Ad4-kLGXmGVphmAi57mIgVwjg&e=>\nVisit the Wiki Agenda page:  https://icann-
 community.atlassian.net/wiki/x/FoCtD\nCheck your time zone:  ​​ https:
 //tinyurl.com/35962dzr\n\nGNSO Council members are expected to join and wi
 ll be panelists. Questions will be taken from GNSO Council only.\nObserver
 s are welcome and will be in listen-only mode.\n\nCouncilors should notify
  the GNSO Secretariat in advance if they will not be able to attend and/or
  need a dial out call\, gnso-secs@icann.org<mailto:gnso-secs@icann.org>\n\
 nPlease click the link below to join the webinar:\nhttps://icann.zoom.us/j
 /91048235847?pwd=bmEHjk0uYT3sR2DIoE0c0yw4HKbM6O.1\nPasscode: mkt7*ULa9b\n\
 nIf joining Zoom via Zoom App the following will be required:\nWebinar ID:
  910 4823 5847\nPasscode: 9213420189\n\nOr One tap mobile :\n    &#43\;134
 62487799\,\,91048235847#\,\,\,\,*9213420189# US (Houston)\n    &#43\;16699
 006833\,\,91048235847#\,\,\,\,*9213420189# US (San Jose)\nIf you are joini
 ng via audio only:\nInternational numbers available: https://icann.zoom.us
 /u/a6JrPP2u5\n\nObservers are welcome to join\, they will be in a read-onl
 y and listen-only mode.\n\n
UID:043046FD-0EEF-4141-AB83-7ABBD8D3BDD7
SUMMARY;LANGUAGE=en-US:Pre-ICANN83 GNSO Council Webinar 
DTSTART;TZID=UTC:20250520T050000
DTEND;TZID=UTC:20250520T060000
CLASS:PUBLIC
PRIORITY:5
DTSTAMP:20250410T155219Z
TRANSP:OPAQUE
STATUS:CONFIRMED
SEQUENCE:0
LOCATION;LANGUAGE=en-US:05:00 UTC | https://icann.zoom.us/j/91048235847?pwd
 =bmEHjk0uYT3sR2DIoE0c0yw4HKbM6O.1
X-MICROSOFT-CDO-APPT-SEQUENCE:0
X-MICROSOFT-CDO-OWNERAPPTID:2123649455
X-MICROSOFT-CDO-BUSYSTATUS:TENTATIVE
X-MICROSOFT-CDO-INTENDEDSTATUS:BUSY
X-MICROSOFT-CDO-ALLDAYEVENT:FALSE
X-MICROSOFT-CDO-IMPORTANCE:1
X-MICROSOFT-CDO-INSTTYPE:0
X-MICROSOFT-DONOTFORWARDMEETING:FALSE
X-MICROSOFT-DISALLOW-COUNTER:FALSE
BEGIN:VALARM
DESCRIPTION:REMINDER
TRIGGER;RELATED=START:-PT15M
ACTION:DISPLAY
END:VALARM
END:VEVENT
END:VCALENDAR
