BEGIN:VCALENDAR
METHOD:REQUEST
PRODID:Microsoft Exchange Server 2010
VERSION:2.0
BEGIN:VTIMEZONE
TZID:UTC
BEGIN:STANDARD
DTSTART:16010101T000000
TZOFFSETFROM:+0000
TZOFFSETTO:+0000
END:STANDARD
BEGIN:DAYLIGHT
DTSTART:16010101T000000
TZOFFSETFROM:+0000
TZOFFSETTO:+0000
END:DAYLIGHT
END:VTIMEZONE
BEGIN:VEVENT
ORGANIZER;CN=ICANN Policy Calendar:MAILTO:PolicyCalendar@icann.org
ATTENDEE;ROLE=REQ-PARTICIPANT;PARTSTAT=NEEDS-ACTION;RSVP=FALSE;CN=council@i
 cann.org:MAILTO:council@icann.org
ATTENDEE;ROLE=REQ-PARTICIPANT;PARTSTAT=NEEDS-ACTION;RSVP=FALSE;CN=Steve Cha
 n:MAILTO:steve.chan@icann.org
ATTENDEE;ROLE=REQ-PARTICIPANT;PARTSTAT=NEEDS-ACTION;RSVP=FALSE;CN=Caitlin T
 ubergen:MAILTO:caitlin.tubergen@icann.org
ATTENDEE;ROLE=REQ-PARTICIPANT;PARTSTAT=NEEDS-ACTION;RSVP=FALSE;CN=Julie Hed
 lund:MAILTO:julie.hedlund@icann.org
ATTENDEE;ROLE=REQ-PARTICIPANT;PARTSTAT=NEEDS-ACTION;RSVP=FALSE;CN=Saewon Le
 e:MAILTO:saewon.lee@icann.org
ATTENDEE;ROLE=REQ-PARTICIPANT;PARTSTAT=NEEDS-ACTION;RSVP=FALSE;CN=Feodora H
 amza:MAILTO:feodora.hamza@icann.org
ATTENDEE;ROLE=REQ-PARTICIPANT;PARTSTAT=NEEDS-ACTION;RSVP=FALSE;CN=John Emer
 y:MAILTO:john.emery@icann.org
ATTENDEE;ROLE=REQ-PARTICIPANT;PARTSTAT=NEEDS-ACTION;RSVP=FALSE;CN=Berry Cob
 b:MAILTO:Berry.Cobb@icann.org
ATTENDEE;ROLE=REQ-PARTICIPANT;PARTSTAT=NEEDS-ACTION;RSVP=FALSE;CN=Mary Wong
 :MAILTO:mary.wong@icann.org
ATTENDEE;ROLE=REQ-PARTICIPANT;PARTSTAT=NEEDS-ACTION;RSVP=FALSE;CN=Julie Bis
 land:MAILTO:julie.bisland@icann.org
ATTENDEE;ROLE=REQ-PARTICIPANT;PARTSTAT=NEEDS-ACTION;RSVP=FALSE;CN=Devan Ree
 d:MAILTO:devan.reed@icann.org
ATTENDEE;ROLE=REQ-PARTICIPANT;PARTSTAT=NEEDS-ACTION;RSVP=FALSE;CN=Terri Agn
 ew:MAILTO:terri.agnew@icann.org
ATTENDEE;ROLE=REQ-PARTICIPANT;PARTSTAT=NEEDS-ACTION;RSVP=FALSE;CN=Board Cal
 endaring:MAILTO:Board-Calendaring@icann.org
DESCRIPTION;LANGUAGE=en-US:Meeting: GNSO Council discussion with Board Cauc
 us on IGO Issues\nDate/time: Monday\, 28 July 2025 at 21:00 UTC for 60 min
 utes\n\nThis meeting will be recorded for those who are unable to make it.
 \n\nBefore joining the call:\nPlease be sure you have read the Expected St
 andards of Behavior <https://urldefense.proofpoint.com/v2/url?u=https-3A__
 www.icann.org_resources_pages_expected-2Dstandards-2D2016-2D06-2D28-2Den&d
 =DwMGaQ&c=FmY1u3PJp6wrcrwll3mSVzgfkbPSS6sJms7xcl4I5cM&r=DRa2dXAvSFpCIgmkXh
 FzL7ar9Qfqa0AIgn-H4xR2EBk&m=Q2CoD1pIwCmm4slfY72x_Xyw25Rd2h1hba3UF0qUYV8&s=
 mp7QxpMBFJ5C_S_xAdAd4-kLGXmGVphmAi57mIgVwjg&e=> and the ICANN Community An
 ti-Harassment Policy<https://www.icann.org/resources/pages/community-anti-
 harassment-policy-2017-03-24-en>\nVisit the Wiki Agenda page:  https://ica
 nn-community.atlassian.net/wiki/x/BwBDFw\nCheck your time zone:  https://t
 inyurl.com/2v9kkjuh\n\nPlease click the link below to join the webinar: ht
 tps://icann.zoom.us/j/91048235847?pwd=bmEHjk0uYT3sR2DIoE0c0yw4HKbM6O.1\nPa
 sscode: mkt7*ULa9b\n\nIf joining Zoom via Zoom App the following will be r
 equired:\nWebinar ID: 910 4823 5847\nPasscode: 9213420189\n\nOr One tap mo
 bile :\n    &#43\;13462487799\,\,91048235847#\,\,\,\,*9213420189# US (Hous
 ton)\n    &#43\;16699006833\,\,91048235847#\,\,\,\,*9213420189# US (San Jo
 se)\n\nIf you are joining via audio only:\nInternational numbers available
 : https://icann.zoom.us/u/a6JrPP2u5\n\n      Observers are welcome to join
 \; they will be in a read-only and listen-only mode.\n\n\n\n\n
UID:7E90FBF4-F946-489D-814A-8CDA404C0F2C
SUMMARY;LANGUAGE=en-US:GNSO Council discussion with Board Caucus on IGO Iss
 ues 
DTSTART;TZID=UTC:20250728T210000
DTEND;TZID=UTC:20250728T220000
CLASS:PUBLIC
PRIORITY:5
DTSTAMP:20250722T180436Z
TRANSP:OPAQUE
STATUS:CONFIRMED
SEQUENCE:0
LOCATION;LANGUAGE=en-US:21:00 UTC | https://icann.zoom.us/j/91048235847?pwd
 =bmEHjk0uYT3sR2DIoE0c0yw4HKbM6O.1
X-MICROSOFT-CDO-APPT-SEQUENCE:0
X-MICROSOFT-CDO-OWNERAPPTID:2123871134
X-MICROSOFT-CDO-BUSYSTATUS:TENTATIVE
X-MICROSOFT-CDO-INTENDEDSTATUS:BUSY
X-MICROSOFT-CDO-ALLDAYEVENT:FALSE
X-MICROSOFT-CDO-IMPORTANCE:1
X-MICROSOFT-CDO-INSTTYPE:0
X-MICROSOFT-DONOTFORWARDMEETING:FALSE
X-MICROSOFT-DISALLOW-COUNTER:TRUE
BEGIN:VALARM
DESCRIPTION:REMINDER
TRIGGER;RELATED=START:-PT15M
ACTION:DISPLAY
END:VALARM
END:VEVENT
END:VCALENDAR
