BEGIN:VCALENDAR
VERSION:2.0
PRODID:-//Microsoft Corporation//Outlook for Mac MIMEDIR//EN
METHOD:PUBLISH
BEGIN:VTIMEZONE
TZID:Coordinated Universal Time
X-ENTOURAGE-CFTIMEZONE:UTC
X-ENTOURAGE-TZID:93
BEGIN:STANDARD
TZOFFSETFROM:+0000
TZOFFSETTO:+0000
DTSTART:16010101T000000
END:STANDARD
END:VTIMEZONE
BEGIN:VEVENT
UID:38EC9237-AC5F-4E5B-834E-FA9F6E6748D7
X-ENTOURAGE_UUID:38EC9237-AC5F-4E5B-834E-FA9F6E6748D7
X-MICROSOFT-EXCHANGE-ID:AAMkADFlMDNlNjQ5LTNjNTUtNDJkMC04ZTI0LWFiMTFkOTgwND
 JhMQBGAAAAAAAdZPIZTDF9SJl4Q9bAl0gQBwAFskP3JLIoSYZSK2rNBQTXAIjV8WqdAACjhqXC
 SbKVRZwH7aZE5XhKAAIxqe53AAA=
X-MICROSOFT-EXCHANGE-CHANGEKEY:DwAAABYAAACjhqXCSbKVRZwH7aZE5XhKAAIxv9pR
DTSTAMP:20221117T163157Z
DTSTART;TZID="Coordinated Universal Time":20221201T150000
DTEND;TZID="Coordinated Universal Time":20221201T160000
LAST-MODIFIED:20221117T163158Z
SUMMARY:ICANN Grant Program Implementation Update Webinar
DESCRIPTION:Meeting: ICANN Grant Program Implementation Update
  Webinar\n\nDate/Time: Thursday\, 01 December 2022 at 15:00 UTC for 60
  minutes\n\n \n\nThis invitation serves as a calendar placeholder for the
  councilors who are interested in attending. GNSO Councilor attendance is
  NOT required.\n\n \n\nWiki space: https://community.icann.org/x/l4QFDQ
  \n\n \n\nZoom Link for the
  call:\nhttps://icann.zoom.us/j/91672296247?pwd=UUIraWZ3TDBiYzFxYzRuaVpwdW
 drZz09\n\nMeeting ID: 916 7229 6247  |  Passcode: Ku?Rf0bfME\nOne tap
  mobile\n+16699006833\,\,91672296247#\,\,\,\,*2817137489# US (San
  Jose)\n+13462487799\,\,91672296247#\,\,\,\,*2817137489# US (Houston)\n\n
  \n\nTo Dial by Phone:\n\nFind your local number:
  https://icann.zoom.us/u/aCz5e02at\n\nMeeting ID: 916 7229 6247  |
   Passcode: 2817137489\n\n \n\nIf this is your first time with Zoom\,
  please take a look here: Welcome to Zoom \n\n \n
LOCATION:15:00 UTC |
  https://icann.zoom.us/j/91672296247?pwd=UUIraWZ3TDBiYzFxYzRuaVpwdWdrZz09
  
ORGANIZER:MAILTO:PolicyCalendar@icann.org
SEQUENCE:0
ATTENDEE;ROLE=REQ-PARTICIPANT;RSVP=FALSE;PARTSTAT=NEEDS-ACTION:MAILTO:coun
 cil@gnso.icann.org
ATTENDEE;ROLE=REQ-PARTICIPANT;RSVP=FALSE;CN="Nathalie
  Peregrine";PARTSTAT=NEEDS-ACTION:MAILTO:nathalie.peregrine@icann.org
ATTENDEE;ROLE=REQ-PARTICIPANT;RSVP=FALSE;CN="Terri
  Agnew";PARTSTAT=NEEDS-ACTION:MAILTO:terri.agnew@icann.org
ATTENDEE;ROLE=REQ-PARTICIPANT;RSVP=FALSE;CN="Michelle
  DeSmyter";PARTSTAT=NEEDS-ACTION:MAILTO:michelle.desmyter@icann.org
ATTENDEE;ROLE=REQ-PARTICIPANT;RSVP=FALSE;CN="Julie
  Bisland";PARTSTAT=NEEDS-ACTION:MAILTO:julie.bisland@icann.org
ATTENDEE;ROLE=REQ-PARTICIPANT;RSVP=FALSE;CN="Devan
  Reed";PARTSTAT=NEEDS-ACTION:MAILTO:devan.reed@icann.org
X-MICROSOFT-CDO-BUSYSTATUS:BUSY
X-MICROSOFT-CDO-ALLDAYEVENT:FALSE
X-MICROSOFT-DISALLOW-COUNTER:TRUE
X-MICROSOFT-DONOTFORWARDMEETING:FALSE
X-MICROSOFT-CDO-INSTTYPE:0
BEGIN:VALARM
ACTION:DISPLAY
DESCRIPTION:REMINDER
TRIGGER;RELATED=START:-PT00H15M00S
END:VALARM
END:VEVENT
END:VCALENDAR
