BEGIN:VCALENDAR
METHOD:CANCEL
PRODID:Microsoft Exchange Server 2010
VERSION:2.0
BEGIN:VTIMEZONE
TZID:UTC
BEGIN:STANDARD
DTSTART:16010101T000000
TZOFFSETFROM:+0000
TZOFFSETTO:+0000
END:STANDARD
BEGIN:DAYLIGHT
DTSTART:16010101T000000
TZOFFSETFROM:+0000
TZOFFSETTO:+0000
END:DAYLIGHT
END:VTIMEZONE
BEGIN:VEVENT
ORGANIZER;CN=ICANN Policy Calendar:MAILTO:PolicyCalendar@icann.org
ATTENDEE;ROLE=REQ-PARTICIPANT;PARTSTAT=NEEDS-ACTION;RSVP=FALSE;CN=council@i
 cann.org:MAILTO:council@icann.org
ATTENDEE;ROLE=REQ-PARTICIPANT;PARTSTAT=NEEDS-ACTION;RSVP=FALSE;CN=Board Cal
 endaring:MAILTO:Board-Calendaring@icann.org
ATTENDEE;ROLE=REQ-PARTICIPANT;PARTSTAT=NEEDS-ACTION;RSVP=FALSE;CN=Becky Bur
 r:MAILTO:becky.burr@board.icann.org
ATTENDEE;ROLE=REQ-PARTICIPANT;PARTSTAT=NEEDS-ACTION;RSVP=FALSE;CN=Becky Bur
 r:MAILTO:BBurr@hwglaw.com
ATTENDEE;ROLE=REQ-PARTICIPANT;PARTSTAT=NEEDS-ACTION;RSVP=FALSE;CN=Chris Buc
 kridge:MAILTO:chris.buckridge@board.icann.org
ATTENDEE;ROLE=REQ-PARTICIPANT;PARTSTAT=NEEDS-ACTION;RSVP=FALSE;CN=Leon Sanc
 hez:MAILTO:leon.sanchez@board.icann.org
ATTENDEE;ROLE=REQ-PARTICIPANT;PARTSTAT=NEEDS-ACTION;RSVP=FALSE;CN=Chris Dis
 spain:MAILTO:chris@disspain.uk
ATTENDEE;ROLE=REQ-PARTICIPANT;PARTSTAT=NEEDS-ACTION;RSVP=FALSE;CN=Sophie He
 y:MAILTO:sophie.hey@comlaude.com
ATTENDEE;ROLE=REQ-PARTICIPANT;PARTSTAT=NEEDS-ACTION;RSVP=FALSE;CN=Karen Len
 tz:MAILTO:karen.lentz@icann.org
ATTENDEE;ROLE=REQ-PARTICIPANT;PARTSTAT=NEEDS-ACTION;RSVP=FALSE;CN=Jason Kea
 n:MAILTO:jason.kean@icann.org
ATTENDEE;ROLE=REQ-PARTICIPANT;PARTSTAT=NEEDS-ACTION;RSVP=FALSE;CN=Jessica P
 uccio:MAILTO:jessica.puccio@icann.org
ATTENDEE;ROLE=REQ-PARTICIPANT;PARTSTAT=NEEDS-ACTION;RSVP=FALSE;CN=Alice Jan
 sen:MAILTO:alice.jansen@icann.org
ATTENDEE;ROLE=REQ-PARTICIPANT;PARTSTAT=NEEDS-ACTION;RSVP=FALSE;CN=Jean-Bapt
 iste Deroulez:MAILTO:jean-baptiste.deroulez@icann.org
ATTENDEE;ROLE=REQ-PARTICIPANT;PARTSTAT=NEEDS-ACTION;RSVP=FALSE;CN=Steve Cha
 n:MAILTO:steve.chan@icann.org
ATTENDEE;ROLE=REQ-PARTICIPANT;PARTSTAT=NEEDS-ACTION;RSVP=FALSE;CN=Caitlin T
 ubergen:MAILTO:caitlin.tubergen@icann.org
ATTENDEE;ROLE=REQ-PARTICIPANT;PARTSTAT=NEEDS-ACTION;RSVP=FALSE;CN=Julie Hed
 lund:MAILTO:julie.hedlund@icann.org
ATTENDEE;ROLE=REQ-PARTICIPANT;PARTSTAT=NEEDS-ACTION;RSVP=FALSE;CN=Saewon Le
 e:MAILTO:saewon.lee@icann.org
ATTENDEE;ROLE=REQ-PARTICIPANT;PARTSTAT=NEEDS-ACTION;RSVP=FALSE;CN=Feodora H
 amza:MAILTO:feodora.hamza@icann.org
ATTENDEE;ROLE=REQ-PARTICIPANT;PARTSTAT=NEEDS-ACTION;RSVP=FALSE;CN=John Emer
 y:MAILTO:john.emery@icann.org
ATTENDEE;ROLE=REQ-PARTICIPANT;PARTSTAT=NEEDS-ACTION;RSVP=FALSE;CN=Julie Bis
 land:MAILTO:julie.bisland@icann.org
ATTENDEE;ROLE=REQ-PARTICIPANT;PARTSTAT=NEEDS-ACTION;RSVP=FALSE;CN=Devan Ree
 d:MAILTO:devan.reed@icann.org
ATTENDEE;ROLE=REQ-PARTICIPANT;PARTSTAT=NEEDS-ACTION;RSVP=FALSE;CN=Terri Agn
 ew:MAILTO:terri.agnew@icann.org
ATTENDEE;ROLE=REQ-PARTICIPANT;PARTSTAT=NEEDS-ACTION;RSVP=FALSE;CN=paul@elst
 ermcgrady.com:MAILTO:paul@elstermcgrady.com
ATTENDEE;ROLE=REQ-PARTICIPANT;PARTSTAT=NEEDS-ACTION;RSVP=FALSE;CN=John Jeff
 rey:MAILTO:john.jeffrey@icann.org
ATTENDEE;ROLE=REQ-PARTICIPANT;PARTSTAT=NEEDS-ACTION;RSVP=FALSE;CN=Sam Eisne
 r:MAILTO:Samantha.Eisner@icann.org
DESCRIPTION;LANGUAGE=en-US:Meeting: GNSO Council - Reviews- Seeking Alignme
 nt (PHR\, ATRT4) with Appointed Board Members\n\nDate/time: Thursday\, 17 
 April 2025 at 14:00 UTC for 60 minutes.\n\nThis meeting will be recorded f
 or those who are unable to make it.\n\n\n\nBefore joining the call:\n\nPle
 ase be sure you have read the Expected Standards of Behavior <https://urld
 efense.proofpoint.com/v2/url?u=https-3A__www.icann.org_resources_pages_exp
 ected-2Dstandards-2D2016-2D06-2D28-2Den&d=DwMGaQ&c=FmY1u3PJp6wrcrwll3mSVzg
 fkbPSS6sJms7xcl4I5cM&r=DRa2dXAvSFpCIgmkXhFzL7ar9Qfqa0AIgn-H4xR2EBk&m=Q2CoD
 1pIwCmm4slfY72x_Xyw25Rd2h1hba3UF0qUYV8&s=mp7QxpMBFJ5C_S_xAdAd4-kLGXmGVphmA
 i57mIgVwjg&e=> and the ICANN Community Anti-Harassment Policy<https://www.
 icann.org/resources/pages/community-anti-harassment-policy-2017-03-24-en>\
 n\nVisit the Wiki Agenda page:  https://icann-community.atlassian.net/wiki
 /x/GIBoD\nCheck your time zone:  https://tinyurl.com/5ydb4kzz\n\n\n\n\n\nJ
 oin Zoom Meeting\n\nhttps://icann.zoom.us/j/96611661142?pwd=K2VpaHlzNkNuY1
 J6YzRYcW1sd0VjUT09\n\n\n\nMeeting ID: 966 1166 1142\n\nPasscode: Z4B3SUR!U
 &\n\n\n\n---\n\nOne tap mobile\n\n+13126266799\,\,96611661142#\,\,\,\,*050
 5103780# US (Chicago)\n\n+13462487799\,\,96611661142#\,\,\,\,*0505103780# 
 US (Houston)\n\n\n\nMeeting ID: 966 1166 1142\n\nPasscode: 0505103780\n\n\
 n\nFind your local number: https://icann.zoom.us/u/actl7q9Q9B\n\n\n\n\n
UID:83D584F2-2433-4530-9BA7-25B18024AE9E
SUMMARY;LANGUAGE=en-US:Canceled: GNSO Council - Reviews- Seeking Alignment 
 (PHR\, ATRT4) with Appointed Board Members
DTSTART;TZID=UTC:20250417T140000
DTEND;TZID=UTC:20250417T150000
CLASS:PUBLIC
PRIORITY:5
DTSTAMP:20250415T180422Z
TRANSP:TRANSPARENT
STATUS:CANCELLED
SEQUENCE:6
LOCATION;LANGUAGE=en-US:14:00 UTC | https://icann.zoom.us/j/96611661142?pwd
 =K2VpaHlzNkNuY1J6YzRYcW1sd0VjUT09
X-MICROSOFT-CDO-APPT-SEQUENCE:6
X-MICROSOFT-CDO-OWNERAPPTID:2123643988
X-MICROSOFT-CDO-BUSYSTATUS:FREE
X-MICROSOFT-CDO-INTENDEDSTATUS:FREE
X-MICROSOFT-CDO-ALLDAYEVENT:FALSE
X-MICROSOFT-CDO-IMPORTANCE:1
X-MICROSOFT-CDO-INSTTYPE:0
X-MICROSOFT-DONOTFORWARDMEETING:FALSE
X-MICROSOFT-DISALLOW-COUNTER:TRUE
END:VEVENT
END:VCALENDAR
