BEGIN:VCALENDAR
METHOD:REQUEST
PRODID:Microsoft Exchange Server 2010
VERSION:2.0
BEGIN:VTIMEZONE
TZID:UTC
BEGIN:STANDARD
DTSTART:16010101T000000
TZOFFSETFROM:+0000
TZOFFSETTO:+0000
END:STANDARD
BEGIN:DAYLIGHT
DTSTART:16010101T000000
TZOFFSETFROM:+0000
TZOFFSETTO:+0000
END:DAYLIGHT
END:VTIMEZONE
BEGIN:VEVENT
ORGANIZER;CN=ICANN Policy Calendar:MAILTO:PolicyCalendar@icann.org
ATTENDEE;ROLE=REQ-PARTICIPANT;PARTSTAT=NEEDS-ACTION;RSVP=FALSE;CN=council@g
 nso.icann.org:MAILTO:council@gnso.icann.org
ATTENDEE;ROLE=REQ-PARTICIPANT;PARTSTAT=NEEDS-ACTION;RSVP=FALSE;CN=Marika Ko
 nings:MAILTO:marika.konings@icann.org
ATTENDEE;ROLE=REQ-PARTICIPANT;PARTSTAT=NEEDS-ACTION;RSVP=FALSE;CN=Steve Cha
 n:MAILTO:steve.chan@icann.org
ATTENDEE;ROLE=REQ-PARTICIPANT;PARTSTAT=NEEDS-ACTION;RSVP=FALSE;CN=Ariel Lia
 ng:MAILTO:ariel.liang@icann.org
ATTENDEE;ROLE=REQ-PARTICIPANT;PARTSTAT=NEEDS-ACTION;RSVP=FALSE;CN=Caitlin T
 ubergen:MAILTO:caitlin.tubergen@icann.org
ATTENDEE;ROLE=REQ-PARTICIPANT;PARTSTAT=NEEDS-ACTION;RSVP=FALSE;CN=Julie Hed
 lund:MAILTO:julie.hedlund@icann.org
ATTENDEE;ROLE=REQ-PARTICIPANT;PARTSTAT=NEEDS-ACTION;RSVP=FALSE;CN=Berry Cob
 b:MAILTO:Berry.Cobb@icann.org
ATTENDEE;ROLE=REQ-PARTICIPANT;PARTSTAT=NEEDS-ACTION;RSVP=FALSE;CN=Emily Bar
 abas:MAILTO:emily.barabas@icann.org
ATTENDEE;ROLE=REQ-PARTICIPANT;PARTSTAT=NEEDS-ACTION;RSVP=FALSE;CN=Mary Wong
 :MAILTO:mary.wong@icann.org
ATTENDEE;ROLE=REQ-PARTICIPANT;PARTSTAT=NEEDS-ACTION;RSVP=FALSE;CN=David Oli
 ve:MAILTO:david.olive@icann.org
ATTENDEE;ROLE=REQ-PARTICIPANT;PARTSTAT=NEEDS-ACTION;RSVP=FALSE;CN=Dennis Ch
 ang:MAILTO:dennis.chang@icann.org
ATTENDEE;ROLE=REQ-PARTICIPANT;PARTSTAT=NEEDS-ACTION;RSVP=FALSE;CN=Chantelle
  Doerksen:MAILTO:chantelle.doerksen@icann.org
ATTENDEE;ROLE=REQ-PARTICIPANT;PARTSTAT=NEEDS-ACTION;RSVP=FALSE;CN=Nathalie 
 Peregrine:MAILTO:nathalie.peregrine@icann.org
ATTENDEE;ROLE=REQ-PARTICIPANT;PARTSTAT=NEEDS-ACTION;RSVP=FALSE;CN=Michelle 
 DeSmyter:MAILTO:michelle.desmyter@icann.org
ATTENDEE;ROLE=REQ-PARTICIPANT;PARTSTAT=NEEDS-ACTION;RSVP=FALSE;CN=Devan Ree
 d:MAILTO:devan.reed@icann.org
ATTENDEE;ROLE=REQ-PARTICIPANT;PARTSTAT=NEEDS-ACTION;RSVP=FALSE;CN=Terri Agn
 ew:MAILTO:terri.agnew@icann.org
ATTENDEE;ROLE=REQ-PARTICIPANT;PARTSTAT=NEEDS-ACTION;RSVP=FALSE;CN=Julie Bis
 land:MAILTO:julie.bisland@icann.org
ATTENDEE;ROLE=REQ-PARTICIPANT;PARTSTAT=NEEDS-ACTION;RSVP=FALSE;CN=Board Cal
 endaring:MAILTO:Board-Calendaring@icann.org
ATTENDEE;ROLE=REQ-PARTICIPANT;PARTSTAT=NEEDS-ACTION;RSVP=FALSE;CN=Avri Dori
 a:MAILTO:avri.doria@board.icann.org
ATTENDEE;ROLE=REQ-PARTICIPANT;PARTSTAT=NEEDS-ACTION;RSVP=FALSE;CN=Becky Bur
 r:MAILTO:BBurr@hwglaw.com
ATTENDEE;ROLE=REQ-PARTICIPANT;PARTSTAT=NEEDS-ACTION;RSVP=FALSE;CN=becky.bur
 r@board.icann.org:MAILTO:becky.burr@board.icann.org
DESCRIPTION;LANGUAGE=en-US:Meeting: Extraordinary GNSO Council meeting on O
 utstanding SubPro Related Work\nDate/time: Monday\, 05 June 2023 at 20:00 
 UTC for 2 hours\n\nBefore joining the call:\nPlease be sure you have read 
 the Expected Standards of Behavior <https://urldefense.proofpoint.com/v2/u
 rl?u=https-3A__www.icann.org_resources_pages_expected-2Dstandards-2D2016-2
 D06-2D28-2Den&d=DwMGaQ&c=FmY1u3PJp6wrcrwll3mSVzgfkbPSS6sJms7xcl4I5cM&r=DRa
 2dXAvSFpCIgmkXhFzL7ar9Qfqa0AIgn-H4xR2EBk&m=Q2CoD1pIwCmm4slfY72x_Xyw25Rd2h1
 hba3UF0qUYV8&s=mp7QxpMBFJ5C_S_xAdAd4-kLGXmGVphmAi57mIgVwjg&e=>\nVisit the 
 Wiki Agenda page:  https://community.icann.org/x/nIKCDg\nCheck your time z
 one:  ​​ https://tinyurl.com/2p8stjyr\n\nCouncilors should notify the 
 GNSO Secretariat in advance if they will not be able to attend and/or need
  a dial out call\, gnso-secs@icann.org<mailto:gnso-secs@icann.org>\n\nPlea
 se click the link below to join the webinar: https://icann.zoom.us/j/97891
 627902?pwd=RURCTitiNEVwd2UySEk1QkRESmlFZz09 <https://urldefense.com/v3/__h
 ttps:/icann.zoom.us/j/97891627902?pwd=RURCTitiNEVwd2UySEk1QkRESmlFZz09__\;
 !!PtGJab4!4gILwNgY4YtMtUh4LVSXmL58L_VnXDWQYAYnRuDZxHBUEs0aVq75ZgFXiCQa8VEH
 -AVYzPgewFnGU2b7aexD7tMDaA$>\nPasscode: 5d$X0$^0L2\n\nIf joining Zoom via 
 Zoom App the following will be required:\nWebinar ID: 978 9162 7902\nPassc
 ode: 9844091488\n\nOne tap mobile :\n   US: &#43\;13126266799\,\,978916279
 02#\,\,\,\,*9844091488#  or &#43\;13017158592\,\,97891627902#\,\,\,\,*9844
 091488#\n\nIf you are joining via audio only:\nDial(for higher quality\, d
 ial a number based on your current location):\n        US: &#43\;1 312 626
  6799  or &#43\;1 301 715 8592  or &#43\;1 929 436 2866  or &#43\;1 253 21
 5 8782  or &#43\;1 346 248 7799  or &#43\;1 669 900 6833  or 877 853 5247 
 (Toll Free) or 888 788 0099 (Toll Free) or 833 548 0276 (Toll Free) or 833
  548 0282 (Toll Free)\n\nInternational numbers available: https://icann.zo
 om.us/u/abaexQvkCI <https://urldefense.com/v3/__https:/icann.zoom.us/u/aba
 exQvkCI__\;!!PtGJab4!4gILwNgY4YtMtUh4LVSXmL58L_VnXDWQYAYnRuDZxHBUEs0aVq75Z
 gFXiCQa8VEH-AVYzPgewFnGU2b7aex7RDGSAw$>\n\n      Observers are welcome to 
 join\, they will be in a read-only and listen-only mode.\n\nPlease note th
 at all documents<https://community.icann.org/x/noKCDg> referenced in the a
 genda will be gathered on a Wiki page for convenient and easy access.\n\n\
 n\n
UID:BBB3EBB6-BA6E-4D3D-9802-D5A5AE8509F2
SUMMARY;LANGUAGE=en-US:Extraordinary GNSO Council meeting on Outstanding Su
 bPro Related Work 
DTSTART;TZID=UTC:20230605T200000
DTEND;TZID=UTC:20230605T220000
CLASS:PUBLIC
PRIORITY:5
DTSTAMP:20230510T210144Z
TRANSP:OPAQUE
STATUS:CONFIRMED
SEQUENCE:0
LOCATION;LANGUAGE=en-US:20:00 UTC | https://icann.zoom.us/j/97891627902?pwd
 =RURCTitiNEVwd2UySEk1QkRESmlFZz09  
X-MICROSOFT-CDO-APPT-SEQUENCE:0
X-MICROSOFT-CDO-OWNERAPPTID:2121619160
X-MICROSOFT-CDO-BUSYSTATUS:TENTATIVE
X-MICROSOFT-CDO-INTENDEDSTATUS:BUSY
X-MICROSOFT-CDO-ALLDAYEVENT:FALSE
X-MICROSOFT-CDO-IMPORTANCE:1
X-MICROSOFT-CDO-INSTTYPE:0
X-MICROSOFT-DONOTFORWARDMEETING:FALSE
X-MICROSOFT-DISALLOW-COUNTER:TRUE
BEGIN:VALARM
DESCRIPTION:REMINDER
TRIGGER;RELATED=START:-PT15M
ACTION:DISPLAY
END:VALARM
END:VEVENT
END:VCALENDAR
