BEGIN:VCALENDAR
VERSION:2.0
PRODID:-//Microsoft Corporation//Outlook for Mac MIMEDIR//EN
METHOD:PUBLISH
BEGIN:VTIMEZONE
TZID:UTC
X-ENTOURAGE-CFTIMEZONE:Etc/GMT
X-ENTOURAGE-TZID:160
BEGIN:STANDARD
TZOFFSETFROM:+0000
TZOFFSETTO:+0000
DTSTART:16010101T000000
END:STANDARD
END:VTIMEZONE
BEGIN:VEVENT
UID:48CA70E2-7A6B-44B1-B2D0-DCBC4E834952
X-ENTOURAGE_UUID:E06B4E30-3EE3-436B-B367-70B2488E25F7
X-MICROSOFT-EXCHANGE-ID:AAMkADFlMDNlNjQ5LTNjNTUtNDJkMC04ZTI0LWFiMTFkOTgwND
 JhMQBGAAAAAAAdZPIZTDF9SJl4Q9bAl0gQBwAFskP3JLIoSYZSK2rNBQTXAIjV8WqdAACjhqXC
 SbKVRZwH7aZE5XhKAAPUUhF1AAA=
CATEGORIES:
X-MICROSOFT-EXCHANGE-CHANGEKEY:DwAAABYAAACjhqXCSbKVRZwH7aZE5XhKAAQJh+Up
DTSTAMP:20241017T151106Z
DTSTART;TZID=UTC:20241024T120000
DTEND;TZID=UTC:20241024T130000
LAST-MODIFIED:20241017T162630Z
SUMMARY:Pre-ICANN81 GNSO Council Webinar
DESCRIPTION:Meeting: Pre-ICANN81 GNSO Council Webinar\n\nDate/Time:
  Thursday\, 24 October 2024 at 12:00 UTC for 60 minutes. \n\n \n\nBefore
  joining the call: \n\nPlease be sure you have read the Expected
  Standards of Behavior \n\nVisit the Wiki Agenda page:
  https://community.icann.org/x/lYHKFQ \n\nCheck your time zone:  ������
  https://tinyurl.com/ywuhrve9\n\n \n\nGNSO Council members are expected
  to join and will be panelists. Questions will be taken from GNSO Council
  only. \n\nObservers are welcome and will be in listen-only mode.\n\n
  \n\nCouncilors should notify the GNSO Secretariat in advance if they
  will not be able to attend and/or need a dial out call\,
  gnso-secs@icann.org \n\n \n\nPlease click the link below to join the
  webinar:
  https://icann.zoom.us/j/92283565389?pwd=QnlHK1JSbzdiSFFZSjRjamxMTkNGdz09
  \n\nPasscode: f!Ym9!npfN\n\n \n\nIf joining Zoom via Zoom App the
  following will be required:\n\nWebinar ID: 922 8356 5389\n\nPasscode:
  6981311025\n\n \n\nOr One tap mobile :\n\n
     +13462487799\,\,92283565389#\,\,\,\,*6981311025# US (Houston)\n\n
     +16699006833\,\,92283565389#\,\,\,\,*6981311025# US (San Jose)\n\n
  \n\nIf you are joining via audio only:\n\nInternational numbers
  available: https://icann.zoom.us/u/adGHfYeA3T \n\n \n
LOCATION:12:00 UTC |
  https://icann.zoom.us/j/92283565389?pwd=QnlHK1JSbzdiSFFZSjRjamxMTkNGdz09
  
ORGANIZER:MAILTO:PolicyCalendar@icann.org
SEQUENCE:3
ATTENDEE;ROLE=REQ-PARTICIPANT;RSVP=FALSE;CN=council@gnso.icann.org;PARTSTA
 T=NEEDS-ACTION:MAILTO:council@gnso.icann.org
ATTENDEE;ROLE=REQ-PARTICIPANT;RSVP=FALSE;CN="Steve
  Chan";PARTSTAT=NEEDS-ACTION:MAILTO:steve.chan@icann.org
ATTENDEE;ROLE=REQ-PARTICIPANT;RSVP=FALSE;CN="Caitlin
  Tubergen";PARTSTAT=NEEDS-ACTION:MAILTO:caitlin.tubergen@icann.org
ATTENDEE;ROLE=REQ-PARTICIPANT;RSVP=FALSE;CN="Julie
  Hedlund";PARTSTAT=NEEDS-ACTION:MAILTO:julie.hedlund@icann.org
ATTENDEE;ROLE=REQ-PARTICIPANT;RSVP=FALSE;CN="Saewon
  Lee";PARTSTAT=NEEDS-ACTION:MAILTO:saewon.lee@icann.org
ATTENDEE;ROLE=REQ-PARTICIPANT;RSVP=FALSE;CN="Feodora
  Hamza";PARTSTAT=NEEDS-ACTION:MAILTO:feodora.hamza@icann.org
ATTENDEE;ROLE=REQ-PARTICIPANT;RSVP=FALSE;CN="John
  Emery";PARTSTAT=NEEDS-ACTION:MAILTO:john.emery@icann.org
ATTENDEE;ROLE=REQ-PARTICIPANT;RSVP=FALSE;CN="Mary
  Wong";PARTSTAT=NEEDS-ACTION:MAILTO:mary.wong@icann.org
ATTENDEE;ROLE=REQ-PARTICIPANT;RSVP=FALSE;CN="Berry
  Cobb";PARTSTAT=NEEDS-ACTION:MAILTO:Berry.Cobb@icann.org
ATTENDEE;ROLE=REQ-PARTICIPANT;RSVP=FALSE;CN="Terri
  Agnew";PARTSTAT=NEEDS-ACTION:MAILTO:terri.agnew@icann.org
ATTENDEE;ROLE=REQ-PARTICIPANT;RSVP=FALSE;CN="Julie
  Bisland";PARTSTAT=NEEDS-ACTION:MAILTO:julie.bisland@icann.org
ATTENDEE;ROLE=REQ-PARTICIPANT;RSVP=FALSE;CN="Devan
  Reed";PARTSTAT=NEEDS-ACTION:MAILTO:devan.reed@icann.org
ATTENDEE;ROLE=REQ-PARTICIPANT;RSVP=FALSE;CN=DonnaAustin605@hotmail.com;PAR
 TSTAT=NEEDS-ACTION:MAILTO:DonnaAustin605@hotmail.com
ATTENDEE;ROLE=REQ-PARTICIPANT;RSVP=FALSE;CN=rcarney@godaddy.com;PARTSTAT=N
 EEDS-ACTION:MAILTO:rcarney@godaddy.com
ATTENDEE;ROLE=REQ-PARTICIPANT;RSVP=FALSE;CN="Ashcraft,
  Damon";PARTSTAT=NEEDS-ACTION:MAILTO:dashcraft@swlaw.com
X-MICROSOFT-CDO-BUSYSTATUS:BUSY
X-MICROSOFT-CDO-ALLDAYEVENT:FALSE
X-MICROSOFT-DISALLOW-COUNTER:TRUE
X-MICROSOFT-DONOTFORWARDMEETING:FALSE
X-MICROSOFT-CDO-INSTTYPE:0
BEGIN:VALARM
ACTION:DISPLAY
DESCRIPTION:REMINDER
TRIGGER;RELATED=START:-PT00H15M00S
END:VALARM
END:VEVENT
END:VCALENDAR
