BEGIN:VCALENDAR
VERSION:2.0
PRODID:-//Microsoft Corporation//Outlook for Mac MIMEDIR//EN
METHOD:PUBLISH
BEGIN:VTIMEZONE
TZID:Coordinated Universal Time
X-ENTOURAGE-CFTIMEZONE:UTC
X-ENTOURAGE-TZID:93
BEGIN:STANDARD
TZOFFSETFROM:+0000
TZOFFSETTO:+0000
DTSTART:16010101T000000
END:STANDARD
END:VTIMEZONE
BEGIN:VEVENT
UID:96C0EB26-78FC-4D25-8046-0ABC960E515E
X-ENTOURAGE_UUID:96C0EB26-78FC-4D25-8046-0ABC960E515E
X-MICROSOFT-EXCHANGE-ID:AAMkADFlMDNlNjQ5LTNjNTUtNDJkMC04ZTI0LWFiMTFkOTgwND
 JhMQBGAAAAAAAdZPIZTDF9SJl4Q9bAl0gQBwAFskP3JLIoSYZSK2rNBQTXAIjV8WqdAACjhqXC
 SbKVRZwH7aZE5XhKAAEzIYY1AAA=
X-MICROSOFT-EXCHANGE-CHANGEKEY:DwAAABYAAACjhqXCSbKVRZwH7aZE5XhKAAIdY8et
DTSTAMP:20220929T133633Z
DTSTART;TZID="Coordinated Universal Time":20221020T200000
DTEND;TZID="Coordinated Universal Time":20221020T220000
LAST-MODIFIED:20221013T165330Z
SUMMARY:GNSO Council Meeting
DESCRIPTION:Meeting: GNSO Council Meeting\n\nDate/Time: Thursday\, 20
  October 2022 at 20:00 UTC for 2 hours\n\nPlease click the link below to
  join the webinar:
  https://icann.zoom.us/j/92399217049?pwd=WU1GZmlaOTh6NzJ1NndkRVF0MnJEUT09\
 n\nPasscode: Y&N1.Y7E%^\n\nOr One tap mobile : \n\nUS:
  +13017158592\,\,92399217049#\,\,\,\,*4890633693# or
  +19294362866\,\,92399217049#\,\,\,\,*4890633693#\n\nWebinar ID: 923 9921
  7049\n\nPasscode: 4890633693\n\nInternational numbers available:
  https://icann.zoom.us/u/abnZisZ3XE\n\n
LOCATION:20:00 UTC |
  https://icann.zoom.us/j/92399217049?pwd=WU1GZmlaOTh6NzJ1NndkRVF0MnJEUT09
ORGANIZER:MAILTO:PolicyCalendar@icann.org
SEQUENCE:0
ATTENDEE;ROLE=REQ-PARTICIPANT;RSVP=FALSE;CN=council@gnso.icann.org;PARTSTA
 T=NEEDS-ACTION:MAILTO:council@gnso.icann.org
ATTENDEE;ROLE=REQ-PARTICIPANT;RSVP=FALSE;CN="Marika
  Konings";PARTSTAT=NEEDS-ACTION:MAILTO:marika.konings@icann.org
ATTENDEE;ROLE=REQ-PARTICIPANT;RSVP=FALSE;CN="Steve
  Chan";PARTSTAT=NEEDS-ACTION:MAILTO:steve.chan@icann.org
ATTENDEE;ROLE=REQ-PARTICIPANT;RSVP=FALSE;CN="Ariel
  Liang";PARTSTAT=NEEDS-ACTION:MAILTO:ariel.liang@icann.org
ATTENDEE;ROLE=REQ-PARTICIPANT;RSVP=FALSE;CN="Caitlin
  Tubergen";PARTSTAT=NEEDS-ACTION:MAILTO:caitlin.tubergen@icann.org
ATTENDEE;ROLE=REQ-PARTICIPANT;RSVP=FALSE;CN="Julie
  Hedlund";PARTSTAT=NEEDS-ACTION:MAILTO:julie.hedlund@icann.org
ATTENDEE;ROLE=REQ-PARTICIPANT;RSVP=FALSE;CN="Berry
  Cobb";PARTSTAT=NEEDS-ACTION:MAILTO:Berry.Cobb@icann.org
ATTENDEE;ROLE=REQ-PARTICIPANT;RSVP=FALSE;CN="Emily
  Barabas";PARTSTAT=NEEDS-ACTION:MAILTO:emily.barabas@icann.org
ATTENDEE;ROLE=REQ-PARTICIPANT;RSVP=FALSE;CN="Mary
  Wong";PARTSTAT=NEEDS-ACTION:MAILTO:mary.wong@icann.org
ATTENDEE;ROLE=REQ-PARTICIPANT;RSVP=FALSE;CN="David
  Olive";PARTSTAT=NEEDS-ACTION:MAILTO:david.olive@icann.org
ATTENDEE;ROLE=REQ-PARTICIPANT;RSVP=FALSE;CN="Dennis
  Chang";PARTSTAT=NEEDS-ACTION:MAILTO:dennis.chang@icann.org
ATTENDEE;ROLE=REQ-PARTICIPANT;RSVP=FALSE;CN="Julie
  Bisland";PARTSTAT=NEEDS-ACTION:MAILTO:julie.bisland@icann.org
ATTENDEE;ROLE=REQ-PARTICIPANT;RSVP=FALSE;CN="Michelle
  DeSmyter";PARTSTAT=NEEDS-ACTION:MAILTO:michelle.desmyter@icann.org
ATTENDEE;ROLE=REQ-PARTICIPANT;RSVP=FALSE;CN="Nathalie
  Peregrine";PARTSTAT=NEEDS-ACTION:MAILTO:nathalie.peregrine@icann.org
ATTENDEE;ROLE=REQ-PARTICIPANT;RSVP=FALSE;CN="Andrea
  Glandon";PARTSTAT=NEEDS-ACTION:MAILTO:andrea.glandon@icann.org
ATTENDEE;ROLE=REQ-PARTICIPANT;RSVP=FALSE;CN="Terri
  Agnew";PARTSTAT=NEEDS-ACTION:MAILTO:terri.agnew@icann.org
ATTENDEE;ROLE=REQ-PARTICIPANT;RSVP=FALSE;CN="Devan
  Reed";PARTSTAT=NEEDS-ACTION:MAILTO:devan.reed@icann.org
ATTENDEE;ROLE=REQ-PARTICIPANT;RSVP=FALSE;CN=nacho@amadoz.cat;PARTSTAT=NEED
 S-ACTION:MAILTO:nacho@amadoz.cat
ATTENDEE;ROLE=REQ-PARTICIPANT;RSVP=FALSE;CN=susan.payne@comlaude.com;PARTS
 TAT=NEEDS-ACTION:MAILTO:susan.payne@comlaude.com
ATTENDEE;ROLE=REQ-PARTICIPANT;RSVP=FALSE;CN=onovoa@Antel.com.uy;PARTSTAT=N
 EEDS-ACTION:MAILTO:onovoa@Antel.com.uy
ATTENDEE;ROLE=REQ-PARTICIPANT;RSVP=FALSE;CN=osvaldo.j.novoa@gmail.com;PART
 STAT=NEEDS-ACTION:MAILTO:osvaldo.j.novoa@gmail.com
ATTENDEE;ROLE=REQ-PARTICIPANT;RSVP=FALSE;CN=bruna.mrtns@gmail.com;PARTSTAT
 =NEEDS-ACTION:MAILTO:bruna.mrtns@gmail.com
ATTENDEE;ROLE=REQ-PARTICIPANT;RSVP=FALSE;CN=aaikman@lewisroca.com;PARTSTAT
 =NEEDS-ACTION:MAILTO:aaikman@lewisroca.com
X-MICROSOFT-CDO-BUSYSTATUS:BUSY
X-MICROSOFT-CDO-ALLDAYEVENT:FALSE
X-MICROSOFT-DISALLOW-COUNTER:TRUE
X-MICROSOFT-DONOTFORWARDMEETING:FALSE
X-MICROSOFT-CDO-INSTTYPE:0
BEGIN:VALARM
ACTION:DISPLAY
DESCRIPTION:REMINDER
TRIGGER;RELATED=START:-PT00H15M00S
END:VALARM
END:VEVENT
END:VCALENDAR
