BEGIN:VCALENDAR
VERSION:2.0
PRODID:-//Microsoft Corporation//Outlook for Mac MIMEDIR//EN
METHOD:PUBLISH
BEGIN:VTIMEZONE
TZID:Coordinated Universal Time
X-ENTOURAGE-CFTIMEZONE:UTC
X-ENTOURAGE-TZID:93
BEGIN:STANDARD
TZOFFSETFROM:+0000
TZOFFSETTO:+0000
DTSTART:16010101T000000
END:STANDARD
END:VTIMEZONE
BEGIN:VEVENT
UID:80E032FD-0D5D-4CAB-B62E-BEA87776BF0D
X-ENTOURAGE_UUID:80E032FD-0D5D-4CAB-B62E-BEA87776BF0D
X-MICROSOFT-EXCHANGE-ID:AAMkADFlMDNlNjQ5LTNjNTUtNDJkMC04ZTI0LWFiMTFkOTgwND
 JhMQBGAAAAAAAdZPIZTDF9SJl4Q9bAl0gQBwAFskP3JLIoSYZSK2rNBQTXAIjV8WqdAACjhqXC
 SbKVRZwH7aZE5XhKAAAVsyX0AAA=
X-MICROSOFT-EXCHANGE-CHANGEKEY:DwAAABYAAACjhqXCSbKVRZwH7aZE5XhKAAAVs+IZ
DTSTAMP:20200806T122209Z
DTSTART;TZID="Coordinated Universal Time":20200903T210000
DTEND;TZID="Coordinated Universal Time":20200903T230000
LAST-MODIFIED:20200806T122211Z
SUMMARY:GNSO Council EPDP P2 Final Report webinar 
DESCRIPTION:Hi there\,\n\nWhen: Sep 3\, 2020 09:00 PM Universal Time
  UTC\n\nTopic: GNSO Council EPDP 2 Final Report webinar\n\n\n\nPlease
  click the link below to join the
  webinar:\n\nhttps://icann.zoom.us/j/95587891940?pwd=TXhucGZsTkN6cHRpVmU3b
 UJDcVBOZz09 \n\nPasscode: Vd!Gem25sQ\n\n\n\nOr iPhone one-tap :
  \n\n��������US:
  +16699006833\,\,95587891940#\,\,\,\,\,\,0#\,\,3120397880#�� or
  +19294362866\,\,95587891940#\,\,\,\,\,\,0#\,\,3120397880# \n\n\n\nOr
  Telephone:\n\n������ Dial(for higher quality\, dial a number based on
  your current location):\n\n�������������� US: +1 669 900 6833�� or +1
  929 436 2866�� or +1 253 215 8782�� or +1 301 715 8592�� or +1 312 626
  6799�� or +1 346 248 7799�� or 877 853 5247 (Toll Free) or 888 788 0099
  (Toll Free)\n\nWebinar ID: 955 8789 1940\n\nPasscode:
  3120397880\n\n������ International numbers available:
  https://icann.zoom.us/u/anw8q0Ds5 \n\n\n
LOCATION:21:00 UTC
ORGANIZER:MAILTO:PolicyCalendar@icann.org
SEQUENCE:0
ATTENDEE;ROLE=REQ-PARTICIPANT;RSVP=FALSE;CN="mail=ntfy-gnso-council@icann.
  org";PARTSTAT=NEEDS-ACTION:MAILTO:ntfy-gnso-council@icann.org
ATTENDEE;ROLE=REQ-PARTICIPANT;RSVP=FALSE;CN="Steve
  Chan";PARTSTAT=NEEDS-ACTION:MAILTO:steve.chan@icann.org
ATTENDEE;ROLE=REQ-PARTICIPANT;RSVP=FALSE;CN="Marika
  Konings";PARTSTAT=NEEDS-ACTION:MAILTO:marika.konings@icann.org
ATTENDEE;ROLE=REQ-PARTICIPANT;RSVP=FALSE;CN="Julie
  Hedlund";PARTSTAT=NEEDS-ACTION:MAILTO:julie.hedlund@icann.org
ATTENDEE;ROLE=REQ-PARTICIPANT;RSVP=FALSE;CN="Berry
  Cobb";PARTSTAT=NEEDS-ACTION:MAILTO:policy@bacinblack.com
ATTENDEE;ROLE=REQ-PARTICIPANT;RSVP=FALSE;CN="Mary
  Wong";PARTSTAT=NEEDS-ACTION:MAILTO:mary.wong@icann.org
ATTENDEE;ROLE=REQ-PARTICIPANT;RSVP=FALSE;CN="Caitlin
  Tubergen";PARTSTAT=NEEDS-ACTION:MAILTO:caitlin.tubergen@icann.org
ATTENDEE;ROLE=REQ-PARTICIPANT;RSVP=FALSE;CN="Emily
  Barabas";PARTSTAT=NEEDS-ACTION:MAILTO:emily.barabas@icann.org
ATTENDEE;ROLE=REQ-PARTICIPANT;RSVP=FALSE;CN="Ariel
  Liang";PARTSTAT=NEEDS-ACTION:MAILTO:ariel.liang@icann.org
ATTENDEE;ROLE=REQ-PARTICIPANT;RSVP=FALSE;CN="Terri
  Agnew";PARTSTAT=NEEDS-ACTION:MAILTO:terri.agnew@icann.org
ATTENDEE;ROLE=REQ-PARTICIPANT;RSVP=FALSE;CN="Andrea
  Glandon";PARTSTAT=NEEDS-ACTION:MAILTO:andrea.glandon@icann.org
ATTENDEE;ROLE=REQ-PARTICIPANT;RSVP=FALSE;CN="Michelle
  DeSmyter";PARTSTAT=NEEDS-ACTION:MAILTO:michelle.desmyter@icann.org
ATTENDEE;ROLE=REQ-PARTICIPANT;RSVP=FALSE;CN="Julie
  Bisland";PARTSTAT=NEEDS-ACTION:MAILTO:julie.bisland@icann.org
ATTENDEE;ROLE=REQ-PARTICIPANT;RSVP=FALSE;CN="Nathalie
  Peregrine";PARTSTAT=NEEDS-ACTION:MAILTO:nathalie.peregrine@icann.org
X-MICROSOFT-CDO-BUSYSTATUS:BUSY
X-MICROSOFT-CDO-ALLDAYEVENT:FALSE
X-MICROSOFT-DISALLOW-COUNTER:TRUE
X-MICROSOFT-DONOTFORWARDMEETING:FALSE
X-MICROSOFT-CDO-INSTTYPE:0
BEGIN:VALARM
ACTION:DISPLAY
DESCRIPTION:REMINDER
TRIGGER;RELATED=START:-PT00H15M00S
END:VALARM
END:VEVENT
END:VCALENDAR
