BEGIN:VCALENDAR
VERSION:2.0
PRODID:-//Microsoft Corporation//Outlook for Mac MIMEDIR//EN
METHOD:PUBLISH
BEGIN:VTIMEZONE
TZID:Coordinated Universal Time
X-ENTOURAGE-TZID:93
X-ENTOURAGE-CFTIMEZONE:UTC
BEGIN:STANDARD
TZNAME:Standard
TZOFFSETFROM:+0000
TZOFFSETTO:+0000
DTSTART:20130101T010000
END:STANDARD
END:VTIMEZONE
BEGIN:VEVENT
UID:9C07ED13-DEDB-4130-8FEF-B37BB53B7ABD
X-ENTOURAGE_UUID:9C07ED13-DEDB-4130-8FEF-B37BB53B7ABD
DTSTAMP:20160825T163500Z
DTSTART;TZID="Coordinated Universal Time":20160907T150000
DTEND;TZID="Coordinated Universal Time":20160907T163000
LAST-MODIFIED:20160825T163500Z
SUMMARY:ICANN57 Hyderabad Webinar
DESCRIPTION:\nDear all\,\n\n\n\nPursuant to Nick���s Blog post
  (https://www.icann.org/news/blog/icann57-hyderabad-what-you-need-to-know)
 \, please join the ICANN57 Hyderabad webinar scheduled on Wednesday 7
  September 2016 at 15:00 UTC\n\n\n\nFor other times:
  http://tinyurl.com/jpj5hqs \n\nAdobe Connect:
  https://icann.adobeconnect.com/icann-soac\n\n\n\nAudio Bridge
  details:\nDial in numbers: http://adigo.com/ICANN/\nPasscode:
  2569#\nThis session will be recorded and transcribed. Presentation deck
  and recordings will be posted here. \n\n\n\nWebinar agenda\nWelcome ���
  David Olive\nICANN57 Briefing and schedule ��� Nick Tomasso and Tanzania
  King\nQ&A Session\nIf you need a dial out\, or more information
  regarding access to this webinar\, please email Susie Johnson at
  susie.johnson@icann.org\n1.\n\nKind regards\,\n\n\n\nNathalie\n\n--
  \n\nNathalie Peregrine\nSpecialist\, SOAC Support (GNSO)\nInternet
  Corporation for Assigned Names and Numbers (ICANN) \nEmail:
  nathalie.peregrine@icann.org \nSkype: nathalie.peregrine.icann\n\nFind
  out more about the GNSO by taking our interactive courses and visiting
  the GNSO Newcomer pages\n\n
LOCATION:15:00 UTC
ORGANIZER:MAILTO:PolicyCalendar@icann.org
SEQUENCE:0
ATTENDEE;ROLE=REQ-PARTICIPANT;RSVP=FALSE;CN=council@gnso.icann.org;PARTSTA
 T=NEEDS-ACTION:MAILTO:council@gnso.icann.org
ATTENDEE;ROLE=REQ-PARTICIPANT;RSVP=FALSE;CN="James
  Bladel";PARTSTAT=NEEDS-ACTION:MAILTO:jbladel@godaddy.com
ATTENDEE;ROLE=REQ-PARTICIPANT;RSVP=FALSE;CN="Austin,
  Donna";PARTSTAT=NEEDS-ACTION:MAILTO:Donna.Austin@neustar.biz
ATTENDEE;ROLE=REQ-PARTICIPANT;RSVP=FALSE;CN="Heather
  Forrest";PARTSTAT=NEEDS-ACTION:MAILTO:Heather.Forrest@acu.edu.au
ATTENDEE;ROLE=REQ-PARTICIPANT;RSVP=FALSE;CN="Marika
  Konings";PARTSTAT=NEEDS-ACTION:MAILTO:marika.konings@icann.org
ATTENDEE;ROLE=REQ-PARTICIPANT;RSVP=FALSE;CN="Mary
  Wong";PARTSTAT=NEEDS-ACTION:MAILTO:mary.wong@icann.org
ATTENDEE;ROLE=REQ-PARTICIPANT;RSVP=FALSE;CN="Emily
  Barabas";PARTSTAT=NEEDS-ACTION:MAILTO:emily.barabas@icann.org
ATTENDEE;ROLE=REQ-PARTICIPANT;RSVP=FALSE;CN="David
  Tait";PARTSTAT=NEEDS-ACTION:MAILTO:david.tait@icann.org
ATTENDEE;ROLE=REQ-PARTICIPANT;RSVP=FALSE;CN="Julie
  Hedlund";PARTSTAT=NEEDS-ACTION:MAILTO:julie.hedlund@icann.org
ATTENDEE;ROLE=REQ-PARTICIPANT;RSVP=FALSE;CN="Glen de Saint
  G��ry";PARTSTAT=NEEDS-ACTION:MAILTO:Glen@icann.org
ATTENDEE;ROLE=REQ-PARTICIPANT;RSVP=FALSE;CN="Gisella
  Gruber";PARTSTAT=NEEDS-ACTION:MAILTO:Gisella.Gruber@icann.org
ATTENDEE;ROLE=REQ-PARTICIPANT;RSVP=FALSE;CN="Terri
  Agnew";PARTSTAT=NEEDS-ACTION:MAILTO:terri.agnew@icann.org
ATTENDEE;ROLE=REQ-PARTICIPANT;RSVP=FALSE;CN="Yesim
  Nazlar";PARTSTAT=NEEDS-ACTION:MAILTO:yesim.nazlar@icann.org
ATTENDEE;ROLE=REQ-PARTICIPANT;RSVP=FALSE;CN="Michelle
  DeSmyter";PARTSTAT=NEEDS-ACTION:MAILTO:michelle.desmyter@icann.org
ATTENDEE;ROLE=REQ-PARTICIPANT;RSVP=FALSE;CN="Nathalie
  Peregrine";PARTSTAT=NEEDS-ACTION:MAILTO:nathalie.peregrine@icann.org
X-MICROSOFT-CDO-BUSYSTATUS:BUSY
X-MICROSOFT-CDO-ALLDAYEVENT:FALSE
X-MICROSOFT-CDO-INSTTYPE:0
BEGIN:VALARM
ACTION:DISPLAY
DESCRIPTION:REMINDER
TRIGGER;RELATED=START:-PT00H15M00S
END:VALARM
END:VEVENT
END:VCALENDAR
