BEGIN:VCALENDAR
METHOD:REQUEST
PRODID:Microsoft Exchange Server 2010
VERSION:2.0
BEGIN:VTIMEZONE
TZID:UTC
BEGIN:STANDARD
DTSTART:16010101T000000
TZOFFSETFROM:+0000
TZOFFSETTO:+0000
END:STANDARD
BEGIN:DAYLIGHT
DTSTART:16010101T000000
TZOFFSETFROM:+0000
TZOFFSETTO:+0000
END:DAYLIGHT
END:VTIMEZONE
BEGIN:VEVENT
ORGANIZER;CN=ICANN Policy Calendar:MAILTO:PolicyCalendar@icann.org
ATTENDEE;ROLE=REQ-PARTICIPANT;PARTSTAT=NEEDS-ACTION;RSVP=FALSE;CN=council@g
 nso.icann.org:MAILTO:council@gnso.icann.org
ATTENDEE;ROLE=REQ-PARTICIPANT;PARTSTAT=NEEDS-ACTION;RSVP=FALSE;CN=Steve Cha
 n:MAILTO:steve.chan@icann.org
ATTENDEE;ROLE=REQ-PARTICIPANT;PARTSTAT=NEEDS-ACTION;RSVP=FALSE;CN=Caitlin T
 ubergen:MAILTO:caitlin.tubergen@icann.org
ATTENDEE;ROLE=REQ-PARTICIPANT;PARTSTAT=NEEDS-ACTION;RSVP=FALSE;CN=Julie Hed
 lund:MAILTO:julie.hedlund@icann.org
ATTENDEE;ROLE=REQ-PARTICIPANT;PARTSTAT=NEEDS-ACTION;RSVP=FALSE;CN=Berry Cob
 b:MAILTO:Berry.Cobb@icann.org
ATTENDEE;ROLE=REQ-PARTICIPANT;PARTSTAT=NEEDS-ACTION;RSVP=FALSE;CN=Mary Wong
 :MAILTO:mary.wong@icann.org
ATTENDEE;ROLE=REQ-PARTICIPANT;PARTSTAT=NEEDS-ACTION;RSVP=FALSE;CN=David Oli
 ve:MAILTO:david.olive@icann.org
ATTENDEE;ROLE=REQ-PARTICIPANT;PARTSTAT=NEEDS-ACTION;RSVP=FALSE;CN=Julie Bis
 land:MAILTO:julie.bisland@icann.org
ATTENDEE;ROLE=REQ-PARTICIPANT;PARTSTAT=NEEDS-ACTION;RSVP=FALSE;CN=Devan Ree
 d:MAILTO:devan.reed@icann.org
ATTENDEE;ROLE=REQ-PARTICIPANT;PARTSTAT=NEEDS-ACTION;RSVP=FALSE;CN=Terri Agn
 ew:MAILTO:terri.agnew@icann.org
ATTENDEE;ROLE=REQ-PARTICIPANT;PARTSTAT=NEEDS-ACTION;RSVP=FALSE;CN=Saewon Le
 e:MAILTO:saewon.lee@icann.org
ATTENDEE;ROLE=REQ-PARTICIPANT;PARTSTAT=NEEDS-ACTION;RSVP=FALSE;CN=Feodora H
 amza:MAILTO:feodora.hamza@icann.org
ATTENDEE;ROLE=REQ-PARTICIPANT;PARTSTAT=NEEDS-ACTION;RSVP=FALSE;CN=John Emer
 y:MAILTO:john.emery@icann.org
ATTENDEE;ROLE=REQ-PARTICIPANT;PARTSTAT=NEEDS-ACTION;RSVP=FALSE;CN=becky.bur
 r@board.icann.org:MAILTO:becky.burr@board.icann.org
ATTENDEE;ROLE=REQ-PARTICIPANT;PARTSTAT=NEEDS-ACTION;RSVP=FALSE;CN=bburr@hwg
 law.com:MAILTO:bburr@hwglaw.com
ATTENDEE;ROLE=REQ-PARTICIPANT;PARTSTAT=NEEDS-ACTION;RSVP=FALSE;CN=chris.buc
 kridge@board.icann.org:MAILTO:chris.buckridge@board.icann.org
ATTENDEE;ROLE=REQ-PARTICIPANT;PARTSTAT=NEEDS-ACTION;RSVP=FALSE;CN=Board Cal
 endaring:MAILTO:Board-Calendaring@icann.org
DESCRIPTION;LANGUAGE=en-US:Meeting: Informal Joint Meeting with GNSO Appoin
 ted Board members and GNSO Council\nDate/Time: Monday\, 20 May 2024 at 13:
 00 UTC for 1 hour\n\nBefore joining the call:\nPlease be sure you have rea
 d the Expected Standards of Behavior <https://urldefense.proofpoint.com/v2
 /url?u=https-3A__www.icann.org_resources_pages_expected-2Dstandards-2D2016
 -2D06-2D28-2Den&d=DwMGaQ&c=FmY1u3PJp6wrcrwll3mSVzgfkbPSS6sJms7xcl4I5cM&r=D
 Ra2dXAvSFpCIgmkXhFzL7ar9Qfqa0AIgn-H4xR2EBk&m=Q2CoD1pIwCmm4slfY72x_Xyw25Rd2
 h1hba3UF0qUYV8&s=mp7QxpMBFJ5C_S_xAdAd4-kLGXmGVphmAi57mIgVwjg&e=>\nVisit th
 e Wiki Agenda page:  https://community.icann.org/x/eoGfEw\nCheck your time
  zone:  https://tinyurl.com/yfpa56ud\n\nCouncilors should notify the GNSO 
 Secretariat in advance if they will not be able to attend and/or need a di
 al out call\, gnso-secs@icann.org<mailto:gnso-secs@icann.org>\n\nPlease cl
 ick the link below to join the webinar: https://icann.zoom.us/j/9228356538
 9?pwd=QnlHK1JSbzdiSFFZSjRjamxMTkNGdz09 <https://urldefense.com/v3/__https:
 /icann.zoom.us/j/92283565389?pwd=QnlHK1JSbzdiSFFZSjRjamxMTkNGdz09__\;!!PtG
 Jab4!90lQYoG5ZVEyRNMIaOIi5kekQSsxPKjArqBW6dZFShp71xAxWHmMNhY_bMQMt6aoWsx9D
 NAuE_YI2pxRBr7aLa3VbGU$>\nPasscode: f!Ym9!npfN\n\nIf joining Zoom via Zoom
  App the following will be required:\nWebinar ID: 922 8356 5389\nPasscode:
  6981311025\n\nOr One tap mobile :\n    &#43\;13462487799\,\,92283565389#\
 ,\,\,\,*6981311025# US (Houston)\n    &#43\;16699006833\,\,92283565389#\,\
 ,\,\,*6981311025# US (San Jose)\n\nIf you are joining via audio only:\nInt
 ernational numbers available: https://icann.zoom.us/u/adGHfYeA3T <https://
 urldefense.com/v3/__https:/icann.zoom.us/u/adGHfYeA3T__\;!!PtGJab4!90lQYoG
 5ZVEyRNMIaOIi5kekQSsxPKjArqBW6dZFShp71xAxWHmMNhY_bMQMt6aoWsx9DNAuE_YI2pxRB
 r7aySSMk-g$>\n\n      Observers are welcome to join\, they will be in a re
 ad-only and listen-only mode.\n\n
UID:5BD4AD58-8623-4F7D-A4F8-A22815894968
SUMMARY;LANGUAGE=en-US:Informal Joint Meeting with GNSO Appointed Board mem
 bers and GNSO Council 
DTSTART;TZID=UTC:20240520T130000
DTEND;TZID=UTC:20240520T140000
CLASS:PUBLIC
PRIORITY:5
DTSTAMP:20240516T130922Z
TRANSP:OPAQUE
STATUS:CONFIRMED
SEQUENCE:1
LOCATION;LANGUAGE=en-US:13:00 UTC | https://icann.zoom.us/j/92283565389?pwd
 =QnlHK1JSbzdiSFFZSjRjamxMTkNGdz09 
X-MICROSOFT-CDO-APPT-SEQUENCE:1
X-MICROSOFT-CDO-OWNERAPPTID:2122633566
X-MICROSOFT-CDO-BUSYSTATUS:TENTATIVE
X-MICROSOFT-CDO-INTENDEDSTATUS:BUSY
X-MICROSOFT-CDO-ALLDAYEVENT:FALSE
X-MICROSOFT-CDO-IMPORTANCE:1
X-MICROSOFT-CDO-INSTTYPE:0
X-MICROSOFT-DONOTFORWARDMEETING:FALSE
X-MICROSOFT-DISALLOW-COUNTER:TRUE
BEGIN:VALARM
DESCRIPTION:REMINDER
TRIGGER;RELATED=START:-PT15M
ACTION:DISPLAY
END:VALARM
END:VEVENT
END:VCALENDAR
