BEGIN:VCALENDAR
METHOD:REQUEST
PRODID:Microsoft Exchange Server 2010
VERSION:2.0
BEGIN:VTIMEZONE
TZID:UTC
BEGIN:STANDARD
DTSTART:16010101T000000
TZOFFSETFROM:+0000
TZOFFSETTO:+0000
END:STANDARD
BEGIN:DAYLIGHT
DTSTART:16010101T000000
TZOFFSETFROM:+0000
TZOFFSETTO:+0000
END:DAYLIGHT
END:VTIMEZONE
BEGIN:VEVENT
ORGANIZER;CN=ICANN Policy Calendar:MAILTO:PolicyCalendar@icann.org
ATTENDEE;ROLE=REQ-PARTICIPANT;PARTSTAT=NEEDS-ACTION;RSVP=TRUE;CN=council@gn
 so.icann.org:MAILTO:council@gnso.icann.org
ATTENDEE;ROLE=REQ-PARTICIPANT;PARTSTAT=NEEDS-ACTION;RSVP=TRUE;CN=Steve Chan
 :MAILTO:steve.chan@icann.org
ATTENDEE;ROLE=REQ-PARTICIPANT;PARTSTAT=NEEDS-ACTION;RSVP=TRUE;CN=Caitlin Tu
 bergen:MAILTO:caitlin.tubergen@icann.org
ATTENDEE;ROLE=REQ-PARTICIPANT;PARTSTAT=NEEDS-ACTION;RSVP=TRUE;CN=Julie Hedl
 und:MAILTO:julie.hedlund@icann.org
ATTENDEE;ROLE=REQ-PARTICIPANT;PARTSTAT=NEEDS-ACTION;RSVP=TRUE;CN=Saewon Lee
 :MAILTO:saewon.lee@icann.org
ATTENDEE;ROLE=REQ-PARTICIPANT;PARTSTAT=NEEDS-ACTION;RSVP=TRUE;CN=Feodora Ha
 mza:MAILTO:feodora.hamza@icann.org
ATTENDEE;ROLE=REQ-PARTICIPANT;PARTSTAT=NEEDS-ACTION;RSVP=TRUE;CN=John Emery
 :MAILTO:john.emery@icann.org
ATTENDEE;ROLE=REQ-PARTICIPANT;PARTSTAT=NEEDS-ACTION;RSVP=TRUE;CN=Berry Cobb
 :MAILTO:Berry.Cobb@icann.org
ATTENDEE;ROLE=REQ-PARTICIPANT;PARTSTAT=NEEDS-ACTION;RSVP=TRUE;CN=Mary Wong:
 MAILTO:mary.wong@icann.org
ATTENDEE;ROLE=REQ-PARTICIPANT;PARTSTAT=NEEDS-ACTION;RSVP=TRUE;CN=Julie Bisl
 and:MAILTO:julie.bisland@icann.org
ATTENDEE;ROLE=REQ-PARTICIPANT;PARTSTAT=NEEDS-ACTION;RSVP=TRUE;CN=Devan Reed
 :MAILTO:devan.reed@icann.org
ATTENDEE;ROLE=REQ-PARTICIPANT;PARTSTAT=NEEDS-ACTION;RSVP=TRUE;CN=Terri Agne
 w:MAILTO:terri.agnew@icann.org
ATTENDEE;ROLE=REQ-PARTICIPANT;PARTSTAT=NEEDS-ACTION;RSVP=TRUE;CN=Leticia Ca
 stillo-Sojo:MAILTO:leticia.castillo@icann.org
ATTENDEE;ROLE=REQ-PARTICIPANT;PARTSTAT=NEEDS-ACTION;RSVP=TRUE;CN=rcarney@go
 daddy.com:MAILTO:rcarney@godaddy.com
ATTENDEE;ROLE=REQ-PARTICIPANT;PARTSTAT=NEEDS-ACTION;RSVP=TRUE;CN=Peter Eaki
 n:MAILTO:peter.eakin@icann.org
ATTENDEE;ROLE=OPT-PARTICIPANT;PARTSTAT=NEEDS-ACTION;RSVP=TRUE;CN=Esther San
 drine Ngom:MAILTO:esngom@gmail.com
ATTENDEE;ROLE=OPT-PARTICIPANT;PARTSTAT=NEEDS-ACTION;RSVP=TRUE;CN=James M. B
 ladel:MAILTO:jbladel@godaddy.com
ATTENDEE;ROLE=OPT-PARTICIPANT;PARTSTAT=NEEDS-ACTION;RSVP=TRUE;CN="Ashcraft, 
 Damon":MAILTO:dashcraft@swlaw.com
ATTENDEE;ROLE=OPT-PARTICIPANT;PARTSTAT=NEEDS-ACTION;RSVP=TRUE;CN=Paul McGra
 dy:MAILTO:paul@elstermcgrady.com
ATTENDEE;ROLE=OPT-PARTICIPANT;PARTSTAT=NEEDS-ACTION;RSVP=TRUE;CN=Andrea Gla
 ndon:MAILTO:andrea.glandon@icann.org
ATTENDEE;ROLE=OPT-PARTICIPANT;PARTSTAT=NEEDS-ACTION;RSVP=TRUE;CN=Sebastien@
 registry.godaddy:MAILTO:Sebastien@registry.godaddy
ATTENDEE;ROLE=OPT-PARTICIPANT;PARTSTAT=NEEDS-ACTION;RSVP=TRUE;CN=philippe.f
 ouquart@orange.com:MAILTO:philippe.fouquart@orange.com
ATTENDEE;ROLE=OPT-PARTICIPANT;PARTSTAT=NEEDS-ACTION;RSVP=TRUE;CN=Caleb Ogun
 dele:MAILTO:muyiwacaleb@gmail.com
ATTENDEE;ROLE=OPT-PARTICIPANT;PARTSTAT=NEEDS-ACTION;RSVP=TRUE;CN=jen@dot.as
 ia:MAILTO:jen@dot.asia
ATTENDEE;ROLE=OPT-PARTICIPANT;PARTSTAT=NEEDS-ACTION;RSVP=TRUE;CN=Julia Char
 volen:MAILTO:julia.charvolen@icann.org
ATTENDEE;ROLE=OPT-PARTICIPANT;PARTSTAT=NEEDS-ACTION;RSVP=TRUE;CN=Gisella Gr
 uber:MAILTO:Gisella.Gruber@icann.org
ATTENDEE;ROLE=OPT-PARTICIPANT;PARTSTAT=NEEDS-ACTION;RSVP=TRUE;CN="Pruis, Ela
 ine":MAILTO:epruis@verisign.com
ATTENDEE;ROLE=OPT-PARTICIPANT;PARTSTAT=NEEDS-ACTION;RSVP=TRUE;CN=Rafik Damm
 ak:MAILTO:rafik.dammak@gmail.com
ATTENDEE;ROLE=OPT-PARTICIPANT;PARTSTAT=NEEDS-ACTION;RSVP=TRUE;CN=Osvaldo No
 voa:MAILTO:osvaldo.j.novoa@gmail.com
ATTENDEE;ROLE=OPT-PARTICIPANT;PARTSTAT=NEEDS-ACTION;RSVP=TRUE;CN=Anne ICANN
 :MAILTO:anneicanngnso@gmail.com
ATTENDEE;ROLE=OPT-PARTICIPANT;PARTSTAT=NEEDS-ACTION;RSVP=TRUE;CN=Manju Chen
 :MAILTO:manju@nii.org.tw
ATTENDEE;ROLE=OPT-PARTICIPANT;PARTSTAT=NEEDS-ACTION;RSVP=TRUE;CN=Johan Hels
 ingius:MAILTO:julf@Julf.com
ATTENDEE;ROLE=OPT-PARTICIPANT;PARTSTAT=NEEDS-ACTION;RSVP=TRUE;CN=Prudence M
 alinki:MAILTO:prudence.malinki@markmonitor.com
ATTENDEE;ROLE=OPT-PARTICIPANT;PARTSTAT=NEEDS-ACTION;RSVP=TRUE;CN=Nacho Amad
 oz:MAILTO:nacho@amadoz.cat
ATTENDEE;ROLE=OPT-PARTICIPANT;PARTSTAT=NEEDS-ACTION;RSVP=TRUE;CN=Michael Ka
 rakash:MAILTO:michael.karakash@icann.org
ATTENDEE;ROLE=OPT-PARTICIPANT;PARTSTAT=NEEDS-ACTION;RSVP=TRUE;CN=Maud Adjel
 ey Ashong Elliot:MAILTO:maud.ashongelliot@upsamail.edu.gh
ATTENDEE;ROLE=OPT-PARTICIPANT;PARTSTAT=NEEDS-ACTION;RSVP=TRUE;CN=Theresa Sw
 inehart:MAILTO:theresa.swinehart@icann.org
ATTENDEE;ROLE=OPT-PARTICIPANT;PARTSTAT=NEEDS-ACTION;RSVP=TRUE;CN=kurt kjpri
 tz.com:MAILTO:kurt@kjpritz.com
ATTENDEE;ROLE=OPT-PARTICIPANT;PARTSTAT=NEEDS-ACTION;RSVP=TRUE;CN=Thomas Ric
 kert | rickert.law:MAILTO:thomas@rickert.law
ATTENDEE;ROLE=OPT-PARTICIPANT;PARTSTAT=NEEDS-ACTION;RSVP=TRUE;CN=Brian Wint
 erfeldt:MAILTO:Brian@Winterfeldt.law
ATTENDEE;ROLE=OPT-PARTICIPANT;PARTSTAT=NEEDS-ACTION;RSVP=TRUE;CN=Luc SEUFER
 :MAILTO:lseufer@namespace.com
ATTENDEE;ROLE=OPT-PARTICIPANT;PARTSTAT=NEEDS-ACTION;RSVP=TRUE;CN=Tomslin Sa
 mme-Nlar:MAILTO:mesumbeslin@gmail.com
ATTENDEE;ROLE=OPT-PARTICIPANT;PARTSTAT=NEEDS-ACTION;RSVP=TRUE;CN=Carlos Rey
 es:MAILTO:carlos.reyes@icann.org
ATTENDEE;ROLE=OPT-PARTICIPANT;PARTSTAT=NEEDS-ACTION;RSVP=TRUE;CN=John McElw
 aine:MAILTO:john.mcelwaine@nelsonmullins.com
ATTENDEE;ROLE=OPT-PARTICIPANT;PARTSTAT=NEEDS-ACTION;RSVP=TRUE;CN=Dennis Cha
 ng:MAILTO:dennis.chang@icann.org
ATTENDEE;ROLE=OPT-PARTICIPANT;PARTSTAT=NEEDS-ACTION;RSVP=TRUE;CN=Glen De Sa
 int Gery:MAILTO:glendesaintgery@gmail.com
ATTENDEE;ROLE=OPT-PARTICIPANT;PARTSTAT=NEEDS-ACTION;RSVP=TRUE;CN="Tahir, Rid
 a (ISED/ISDE)":MAILTO:Rida.Tahir@ised-isde.gc.ca
ATTENDEE;ROLE=OPT-PARTICIPANT;PARTSTAT=NEEDS-ACTION;RSVP=TRUE;CN=lawrence@m
 icroboss.org:MAILTO:lawrence@microboss.org
ATTENDEE;ROLE=OPT-PARTICIPANT;PARTSTAT=NEEDS-ACTION;RSVP=TRUE;CN=Sam Eisner
 :MAILTO:Samantha.Eisner@icann.org
ATTENDEE;ROLE=OPT-PARTICIPANT;PARTSTAT=NEEDS-ACTION;RSVP=TRUE;CN="Corwin, Ph
 ilip":MAILTO:pcorwin@verisign.com
ATTENDEE;ROLE=OPT-PARTICIPANT;PARTSTAT=NEEDS-ACTION;RSVP=TRUE;CN=Daniel Glu
 ck:MAILTO:daniel.gluck@icann.org
ATTENDEE;ROLE=OPT-PARTICIPANT;PARTSTAT=NEEDS-ACTION;RSVP=TRUE;CN=Emma Caner
 :MAILTO:emma.caner@ovhcloud.com
ATTENDEE;ROLE=OPT-PARTICIPANT;PARTSTAT=NEEDS-ACTION;RSVP=TRUE;CN=Tinuade Og
 untuyi:MAILTO:toguntuyi@ic-sol.net
ATTENDEE;ROLE=OPT-PARTICIPANT;PARTSTAT=NEEDS-ACTION;RSVP=TRUE;CN=Phil Maran
 o:MAILTO:philmarano@hotmail.com
ATTENDEE;ROLE=OPT-PARTICIPANT;PARTSTAT=NEEDS-ACTION;RSVP=TRUE;CN=Jennifer C
 hung:MAILTO:jen@for.asia
ATTENDEE;ROLE=OPT-PARTICIPANT;PARTSTAT=NEEDS-ACTION;RSVP=TRUE;CN=Krista Pap
 ac:MAILTO:krista.papac@icann.org
ATTENDEE;ROLE=OPT-PARTICIPANT;PARTSTAT=NEEDS-ACTION;RSVP=TRUE;CN=Yuko Yokoy
 ama:MAILTO:yuko.yokoyama@icann.org
ATTENDEE;ROLE=OPT-PARTICIPANT;PARTSTAT=NEEDS-ACTION;RSVP=TRUE;CN=Alperen Ek
 en:MAILTO:alperen.eken@icann.org
ATTENDEE;ROLE=OPT-PARTICIPANT;PARTSTAT=NEEDS-ACTION;RSVP=TRUE;CN=Benedetta 
 Rossi:MAILTO:benedetta.rossi@icann.org
ATTENDEE;ROLE=OPT-PARTICIPANT;PARTSTAT=NEEDS-ACTION;RSVP=TRUE;CN=Susie John
 son:MAILTO:susie.johnson@icann.org
DESCRIPTION;LANGUAGE=en-US:Meeting: GNSO Council Meeting\nDate/Time: Thursd
 ay\, 13 February 2025 at 21:00 UTC for 2 hours\n\nPlease click the link be
 low to join the webinar: https://icann.zoom.us/j/91048235847?pwd=bmEHjk0uY
 T3sR2DIoE0c0yw4HKbM6O.1\nPasscode: mkt7*ULa9b\n\nOr One tap mobile :\n    
 &#43\;13462487799\,\,91048235847#\,\,\,\,*9213420189# US (Houston)\n    &#
 43\;16699006833\,\,91048235847#\,\,\,\,*9213420189# US (San Jose)\n\nWebin
 ar ID: 910 4823 5847\nPasscode: 9213420189\n    International numbers avai
 lable: https://icann.zoom.us/u/a6JrPP2u5\n\n\n\n\n\n\n
UID:4AD23A9E-92A1-4256-8A92-CF79BA7E4150
SUMMARY;LANGUAGE=en-US:GNSO Council Meeting
DTSTART;TZID=UTC:20250213T210000
DTEND;TZID=UTC:20250213T230000
CLASS:PUBLIC
PRIORITY:5
DTSTAMP:20250213T210457Z
TRANSP:OPAQUE
STATUS:CONFIRMED
SEQUENCE:2
LOCATION;LANGUAGE=en-US:21:00 UTC | https://icann.zoom.us/j/91048235847?pwd
 =bmEHjk0uYT3sR2DIoE0c0yw4HKbM6O.1
X-MICROSOFT-CDO-APPT-SEQUENCE:2
X-MICROSOFT-CDO-OWNERAPPTID:2123108888
X-MICROSOFT-CDO-BUSYSTATUS:TENTATIVE
X-MICROSOFT-CDO-INTENDEDSTATUS:BUSY
X-MICROSOFT-CDO-ALLDAYEVENT:FALSE
X-MICROSOFT-CDO-IMPORTANCE:1
X-MICROSOFT-CDO-INSTTYPE:0
X-MICROSOFT-DONOTFORWARDMEETING:FALSE
X-MICROSOFT-DISALLOW-COUNTER:FALSE
BEGIN:VALARM
DESCRIPTION:REMINDER
TRIGGER;RELATED=START:-PT15M
ACTION:DISPLAY
END:VALARM
END:VEVENT
END:VCALENDAR
