BEGIN:VCALENDAR
METHOD:REQUEST
PRODID:Microsoft Exchange Server 2010
VERSION:2.0
BEGIN:VTIMEZONE
TZID:UTC
BEGIN:STANDARD
DTSTART:16010101T000000
TZOFFSETFROM:+0000
TZOFFSETTO:+0000
END:STANDARD
BEGIN:DAYLIGHT
DTSTART:16010101T000000
TZOFFSETFROM:+0000
TZOFFSETTO:+0000
END:DAYLIGHT
END:VTIMEZONE
BEGIN:VEVENT
ORGANIZER;CN=ICANN Policy Calendar:MAILTO:PolicyCalendar@icann.org
ATTENDEE;ROLE=REQ-PARTICIPANT;PARTSTAT=NEEDS-ACTION;RSVP=FALSE;CN=council@g
 nso.icann.org:MAILTO:council@gnso.icann.org
ATTENDEE;ROLE=REQ-PARTICIPANT;PARTSTAT=NEEDS-ACTION;RSVP=FALSE;CN=Marika Ko
 nings:MAILTO:marika.konings@icann.org
ATTENDEE;ROLE=REQ-PARTICIPANT;PARTSTAT=NEEDS-ACTION;RSVP=FALSE;CN=Steve Cha
 n:MAILTO:steve.chan@icann.org
ATTENDEE;ROLE=REQ-PARTICIPANT;PARTSTAT=NEEDS-ACTION;RSVP=FALSE;CN=Berry Cob
 b:MAILTO:policy@bacinblack.com
ATTENDEE;ROLE=REQ-PARTICIPANT;PARTSTAT=NEEDS-ACTION;RSVP=FALSE;CN=Ariel Lia
 ng:MAILTO:ariel.liang@icann.org
ATTENDEE;ROLE=REQ-PARTICIPANT;PARTSTAT=NEEDS-ACTION;RSVP=FALSE;CN=Caitlin T
 ubergen:MAILTO:caitlin.tubergen@icann.org
ATTENDEE;ROLE=REQ-PARTICIPANT;PARTSTAT=NEEDS-ACTION;RSVP=FALSE;CN=Julie Hed
 lund:MAILTO:julie.hedlund@icann.org
ATTENDEE;ROLE=REQ-PARTICIPANT;PARTSTAT=NEEDS-ACTION;RSVP=FALSE;CN=Emily Bar
 abas:MAILTO:emily.barabas@icann.org
ATTENDEE;ROLE=REQ-PARTICIPANT;PARTSTAT=NEEDS-ACTION;RSVP=FALSE;CN=Mary Wong
 :MAILTO:mary.wong@icann.org
ATTENDEE;ROLE=REQ-PARTICIPANT;PARTSTAT=NEEDS-ACTION;RSVP=FALSE;CN=David Oli
 ve:MAILTO:david.olive@icann.org
ATTENDEE;ROLE=REQ-PARTICIPANT;PARTSTAT=NEEDS-ACTION;RSVP=FALSE;CN=Terri Agn
 ew:MAILTO:terri.agnew@icann.org
ATTENDEE;ROLE=REQ-PARTICIPANT;PARTSTAT=NEEDS-ACTION;RSVP=FALSE;CN=Julie Bis
 land:MAILTO:julie.bisland@icann.org
ATTENDEE;ROLE=REQ-PARTICIPANT;PARTSTAT=NEEDS-ACTION;RSVP=FALSE;CN=Michelle 
 DeSmyter:MAILTO:michelle.desmyter@icann.org
ATTENDEE;ROLE=REQ-PARTICIPANT;PARTSTAT=NEEDS-ACTION;RSVP=FALSE;CN=Nathalie 
 Peregrine:MAILTO:nathalie.peregrine@icann.org
ATTENDEE;ROLE=REQ-PARTICIPANT;PARTSTAT=NEEDS-ACTION;RSVP=FALSE;CN=Andrea Gl
 andon:MAILTO:andrea.glandon@icann.org
ATTENDEE;ROLE=REQ-PARTICIPANT;PARTSTAT=NEEDS-ACTION;RSVP=FALSE;CN=Dennis Ch
 ang:MAILTO:dennis.chang@icann.org
DESCRIPTION;LANGUAGE=en-US:Topic: GNSO Council Meeting\nDate/Time: December
  16\, 2021 14:00 UTC\n\nPlease click the link below to join the webinar (r
 ecommended): https://icann.zoom.us/j/99902659560?pwd=TkUyN1RpSDc1RXVpVWFnR
 lZBQ1Z5Zz09\n\n\nIf joining Zoom via Zoom App the following will be requir
 ed:\nWebinar ID: 999 0265 956\nPassword: GkMk@NpB3B\n\nIf you are joining 
 via audio only:\niPhone one-tap :\n\nUS: &#43\;12532158782\,\,99902659560#
 \,\,\,\,\,\,0#\,\,3292619159# or &#43\;13017158592\,\,99902659560#\,\,\,\,
 \,\,0#\,\,3292619159#\n\nOr Telephone:\n\nDial(for higher quality\, dial a
  number based on your current location):\n\nUS: &#43\;1 253 215 8782 or &#
 43\;1 301 715 8592 or &#43\;1 312 626 6799 or &#43\;1 346 248 7799 or &#43
 \;1 669 900 6833 or &#43\;1 929 436 2866 or 877 853 5247 (Toll Free) or 88
 8 788 0099 (Toll Free)\n\nWebinar ID: 999 0265 9560\nPasscode: 3292619159\
 n\nInternational numbers available: https://icann.zoom.us/u/axsgiUWZk\n
UID:EB1F96B8-4C83-4D5F-B6B9-B4F0E7F1374A
SUMMARY;LANGUAGE=en-US:GNSO Council Meeting
DTSTART;TZID=UTC:20211216T140000
DTEND;TZID=UTC:20211216T160000
CLASS:PUBLIC
PRIORITY:5
DTSTAMP:20211028T140330Z
TRANSP:OPAQUE
STATUS:CONFIRMED
SEQUENCE:3
LOCATION;LANGUAGE=en-US:14:00 UTC | https://icann.zoom.us/j/99902659560?pwd
 =TkUyN1RpSDc1RXVpVWFnRlZBQ1Z5Zz09
X-MICROSOFT-CDO-APPT-SEQUENCE:3
X-MICROSOFT-CDO-OWNERAPPTID:2118838307
X-MICROSOFT-CDO-BUSYSTATUS:TENTATIVE
X-MICROSOFT-CDO-INTENDEDSTATUS:BUSY
X-MICROSOFT-CDO-ALLDAYEVENT:FALSE
X-MICROSOFT-CDO-IMPORTANCE:1
X-MICROSOFT-CDO-INSTTYPE:0
X-MICROSOFT-DONOTFORWARDMEETING:FALSE
X-MICROSOFT-DISALLOW-COUNTER:TRUE
BEGIN:VALARM
DESCRIPTION:REMINDER
TRIGGER;RELATED=START:-PT15M
ACTION:DISPLAY
END:VALARM
END:VEVENT
END:VCALENDAR
