BEGIN:VCALENDAR
METHOD:REQUEST
VERSION:2.0
PRODID:-//Roundcube 1.6.9//Sabre VObject 4.5.5//EN
CALSCALE:GREGORIAN
BEGIN:VEVENT
X-CPANEL-ID:eyJjYWwiOiJjYWxlbmRhciIsInVpZCI6IjJEMEM2RTk2LUZGN0QtNEVFNi04Mk
 IzLTY1Mzc0NEQzRTE1OCIsInVzZXIiOiJsYXdyZW5jZUBtaWNyb2Jvc3Mub3JnIn0=
UID:2D0C6E96-FF7D-4EE6-82B3-653744D3E158
DTSTAMP:20241202T213301Z
CREATED:20250106T164301Z
LAST-MODIFIED:20241202T213301Z
DTSTART:20250918T050000Z
DTEND:20250918T070000Z
SUMMARY:GNSO Council Meeting
LOCATION:05:00 UTC | https://icann.zoom.us/j/91048235847?pwd=bmEHjk0uYT3sR2
 DIoE0c0yw4HKbM6O.1
DESCRIPTION:Meeting: GNSO Council Meeting\nDate/Time: Thursday\, 18 Septemb
 er 2025 at 05:00 UTC for 2 hours\n\nPlease click the link below to join th
 e webinar: https://icann.zoom.us/j/91048235847?pwd=bmEHjk0uYT3sR2DIoE0c0yw
 4HKbM6O.1\nPasscode: mkt7*ULa9b\n\nOr One tap mobile :\n    &#43\;13462487
 799\,\,91048235847#\,\,\,\,*9213420189# US (Houston)\n    &#43\;1669900683
 3\,\,91048235847#\,\,\,\,*9213420189# US (San Jose)\n\nWebinar ID: 910 482
 3 5847\nPasscode: 9213420189\n    International numbers available: https:/
 /icann.zoom.us/u/a6JrPP2u5\n\n\n\n\n\n\n
SEQUENCE:0
PRIORITY:5
STATUS:CONFIRMED
ATTENDEE;CN=council@gnso.icann.org;PARTSTAT=NEEDS-ACTION;ROLE=REQ-PARTICIPA
 NT:mailto:council@gnso.icann.org
ATTENDEE;CN=Steve Chan;PARTSTAT=NEEDS-ACTION;ROLE=REQ-PARTICIPANT:mailto:st
 eve.chan@icann.org
ATTENDEE;CN=Caitlin Tubergen;PARTSTAT=NEEDS-ACTION;ROLE=REQ-PARTICIPANT:mai
 lto:caitlin.tubergen@icann.org
ATTENDEE;CN=Julie Hedlund;PARTSTAT=NEEDS-ACTION;ROLE=REQ-PARTICIPANT:mailto
 :julie.hedlund@icann.org
ATTENDEE;CN=Saewon Lee;PARTSTAT=NEEDS-ACTION;ROLE=REQ-PARTICIPANT:mailto:sa
 ewon.lee@icann.org
ATTENDEE;CN=Feodora Hamza;PARTSTAT=NEEDS-ACTION;ROLE=REQ-PARTICIPANT:mailto
 :feodora.hamza@icann.org
ATTENDEE;CN=John Emery;PARTSTAT=NEEDS-ACTION;ROLE=REQ-PARTICIPANT:mailto:jo
 hn.emery@icann.org
ATTENDEE;CN=Berry Cobb;PARTSTAT=NEEDS-ACTION;ROLE=REQ-PARTICIPANT:mailto:Be
 rry.Cobb@icann.org
ATTENDEE;CN=Mary Wong;PARTSTAT=NEEDS-ACTION;ROLE=REQ-PARTICIPANT:mailto:mar
 y.wong@icann.org
ATTENDEE;CN=Julie Bisland;PARTSTAT=NEEDS-ACTION;ROLE=REQ-PARTICIPANT:mailto
 :julie.bisland@icann.org
ATTENDEE;CN=Devan Reed;PARTSTAT=NEEDS-ACTION;ROLE=REQ-PARTICIPANT:mailto:de
 van.reed@icann.org
ATTENDEE;CN=Terri Agnew;PARTSTAT=NEEDS-ACTION;ROLE=REQ-PARTICIPANT:mailto:t
 erri.agnew@icann.org
ATTENDEE;CN=Lawrence Olawale-Roberts;PARTSTAT=ACCEPTED;ROLE=OPT-PARTICIPANT
 :mailto:lawrence@microboss.org
ORGANIZER;CN=ICANN Policy Calendar:mailto:PolicyCalendar@icann.org
X-MICROSOFT-CDO-APPT-SEQUENCE:0
X-MICROSOFT-CDO-OWNERAPPTID:2123109866
X-MICROSOFT-CDO-INTENDEDSTATUS:BUSY
X-MICROSOFT-CDO-ALLDAYEVENT:FALSE
X-MICROSOFT-CDO-IMPORTANCE:1
X-MICROSOFT-CDO-INSTTYPE:0
X-MICROSOFT-DONOTFORWARDMEETING:FALSE
X-MICROSOFT-DISALLOW-COUNTER:TRUE
BEGIN:VALARM
ACTION:DISPLAY
TRIGGER:-PT15M
DESCRIPTION:REMINDER
END:VALARM
END:VEVENT
END:VCALENDAR