BEGIN:VCALENDAR
METHOD:REQUEST
PRODID:Microsoft Exchange Server 2010
VERSION:2.0
BEGIN:VTIMEZONE
TZID:UTC
BEGIN:STANDARD
DTSTART:16010101T000000
TZOFFSETFROM:+0000
TZOFFSETTO:+0000
END:STANDARD
BEGIN:DAYLIGHT
DTSTART:16010101T000000
TZOFFSETFROM:+0000
TZOFFSETTO:+0000
END:DAYLIGHT
END:VTIMEZONE
BEGIN:VEVENT
ORGANIZER;CN=ICANN Policy Calendar:MAILTO:PolicyCalendar@icann.org
ATTENDEE;ROLE=REQ-PARTICIPANT;PARTSTAT=NEEDS-ACTION;RSVP=FALSE;CN=council@g
 nso.icann.org:MAILTO:council@gnso.icann.org
ATTENDEE;ROLE=REQ-PARTICIPANT;PARTSTAT=NEEDS-ACTION;RSVP=FALSE;CN=Board Cal
 endaring:MAILTO:Board-Calendaring@icann.org
ATTENDEE;ROLE=REQ-PARTICIPANT;PARTSTAT=NEEDS-ACTION;RSVP=FALSE;CN=Becky.bur
 r@board.icann.org:MAILTO:Becky.burr@board.icann.org
ATTENDEE;ROLE=REQ-PARTICIPANT;PARTSTAT=NEEDS-ACTION;RSVP=FALSE;CN=bburr@hwg
 law.com:MAILTO:bburr@hwglaw.com
ATTENDEE;ROLE=REQ-PARTICIPANT;PARTSTAT=NEEDS-ACTION;RSVP=FALSE;CN=Steve Cha
 n:MAILTO:steve.chan@icann.org
ATTENDEE;ROLE=REQ-PARTICIPANT;PARTSTAT=NEEDS-ACTION;RSVP=FALSE;CN=Caitlin T
 ubergen:MAILTO:caitlin.tubergen@icann.org
ATTENDEE;ROLE=REQ-PARTICIPANT;PARTSTAT=NEEDS-ACTION;RSVP=FALSE;CN=Julie Hed
 lund:MAILTO:julie.hedlund@icann.org
ATTENDEE;ROLE=REQ-PARTICIPANT;PARTSTAT=NEEDS-ACTION;RSVP=FALSE;CN=Saewon Le
 e:MAILTO:saewon.lee@icann.org
ATTENDEE;ROLE=REQ-PARTICIPANT;PARTSTAT=NEEDS-ACTION;RSVP=FALSE;CN=Feodora H
 amza:MAILTO:feodora.hamza@icann.org
ATTENDEE;ROLE=REQ-PARTICIPANT;PARTSTAT=NEEDS-ACTION;RSVP=FALSE;CN=John Emer
 y:MAILTO:john.emery@icann.org
ATTENDEE;ROLE=REQ-PARTICIPANT;PARTSTAT=NEEDS-ACTION;RSVP=FALSE;CN=Julie Bis
 land:MAILTO:julie.bisland@icann.org
ATTENDEE;ROLE=REQ-PARTICIPANT;PARTSTAT=NEEDS-ACTION;RSVP=FALSE;CN=Devan Ree
 d:MAILTO:devan.reed@icann.org
ATTENDEE;ROLE=REQ-PARTICIPANT;PARTSTAT=NEEDS-ACTION;RSVP=FALSE;CN=Rob Hogga
 rth:MAILTO:robert.hoggarth@icann.org
ATTENDEE;ROLE=REQ-PARTICIPANT;PARTSTAT=NEEDS-ACTION;RSVP=FALSE;CN=Fabien Be
 tremieux:MAILTO:fabien.betremieux@icann.org
ATTENDEE;ROLE=REQ-PARTICIPANT;PARTSTAT=NEEDS-ACTION;RSVP=FALSE;CN=Julia Cha
 rvolen:MAILTO:julia.charvolen@icann.org
ATTENDEE;ROLE=REQ-PARTICIPANT;PARTSTAT=NEEDS-ACTION;RSVP=FALSE;CN=Daniel Gl
 uck:MAILTO:daniel.gluck@icann.org
ATTENDEE;ROLE=REQ-PARTICIPANT;PARTSTAT=NEEDS-ACTION;RSVP=FALSE;CN=Berry Cob
 b:MAILTO:Berry.Cobb@icann.org
ATTENDEE;ROLE=REQ-PARTICIPANT;PARTSTAT=NEEDS-ACTION;RSVP=FALSE;CN=Terri Agn
 ew:MAILTO:terri.agnew@icann.org
ATTENDEE;ROLE=REQ-PARTICIPANT;PARTSTAT=NEEDS-ACTION;RSVP=FALSE;CN=Karen Len
 tz:MAILTO:karen.lentz@icann.org
ATTENDEE;ROLE=REQ-PARTICIPANT;PARTSTAT=NEEDS-ACTION;RSVP=FALSE;CN=gac@icann
 .org:MAILTO:gac@icann.org
ATTENDEE;ROLE=REQ-PARTICIPANT;PARTSTAT=NEEDS-ACTION;RSVP=FALSE;CN=gac-pswg@
 icann.org:MAILTO:gac-pswg@icann.org
ATTENDEE;ROLE=OPT-PARTICIPANT;PARTSTAT=NEEDS-ACTION;RSVP=FALSE;CN=DPP Steer
  Co:MAILTO:DPPSteerCo@icann.org
DESCRIPTION;LANGUAGE=en-US:**This meeting is taking place today in 45 minut
 es\n\nMeeting: Dialogue with GAC\, GNSO Council\, and Board on EPDP Phase 
 1 Recommendation 18 (Urgent Requests) meeting\nDate/time: Monday\, 04 Nove
 mber 2024 at 14:00 UTC for 60 minutes\n\nJoin Zoom Meeting:  https://icann
 .zoom.us/j/96611661142?pwd=K2VpaHlzNkNuY1J6YzRYcW1sd0VjUT09\nMeeting ID: 9
 66 1166 1142\nPasscode: Z4B3SUR!U&amp\;\n\n---\nOne tap mobile\n&#43\;1312
 6266799\,\,96611661142#\,\,\,\,*0505103780# US (Chicago)\n&#43\;1346248779
 9\,\,96611661142#\,\,\,\,*0505103780# US (Houston)\n\nMeeting ID: 966 1166
  1142\nPasscode: 0505103780\nFind your local number: https://icann.zoom.us
 /u/actl7q9Q9B\n\nBefore joining the call:\nPlease be sure you have read th
 e Expected Standards of Behavior <https://urldefense.proofpoint.com/v2/url
 ?u=https-3A__www.icann.org_resources_pages_expected-2Dstandards-2D2016-2D0
 6-2D28-2Den&d=DwMGaQ&c=FmY1u3PJp6wrcrwll3mSVzgfkbPSS6sJms7xcl4I5cM&r=DRa2d
 XAvSFpCIgmkXhFzL7ar9Qfqa0AIgn-H4xR2EBk&m=Q2CoD1pIwCmm4slfY72x_Xyw25Rd2h1hb
 a3UF0qUYV8&s=mp7QxpMBFJ5C_S_xAdAd4-kLGXmGVphmAi57mIgVwjg&e=> and the ICANN
  Community Anti-Harassment Policy<https://www.icann.org/resources/pages/co
 mmunity-anti-harassment-policy-2017-03-24-en>\nVisit the Wiki Agenda page:
   https://community.icann.org/x/ogAfFw\nCheck your time zone:  https://tin
 yurl.com/aj36d42c\n\n\n\n
UID:2FA17377-3E20-470D-8BA9-4CD1F5D025F7
SUMMARY;LANGUAGE=en-US:Dialogue with GAC\, GNSO Council\, and Board on EPDP
  Phase 1 Recommendation 18 (Urgent Requests) meeting 
DTSTART;TZID=UTC:20241104T140000
DTEND;TZID=UTC:20241104T150000
CLASS:PUBLIC
PRIORITY:5
DTSTAMP:20241104T131445Z
TRANSP:OPAQUE
STATUS:CONFIRMED
SEQUENCE:4
LOCATION;LANGUAGE=en-US:14:00 UTC | https://icann.zoom.us/j/96611661142?pwd
 =K2VpaHlzNkNuY1J6YzRYcW1sd0VjUT09
X-MICROSOFT-CDO-APPT-SEQUENCE:4
X-MICROSOFT-CDO-OWNERAPPTID:2123037804
X-MICROSOFT-CDO-BUSYSTATUS:TENTATIVE
X-MICROSOFT-CDO-INTENDEDSTATUS:BUSY
X-MICROSOFT-CDO-ALLDAYEVENT:FALSE
X-MICROSOFT-CDO-IMPORTANCE:1
X-MICROSOFT-CDO-INSTTYPE:0
X-MICROSOFT-DONOTFORWARDMEETING:FALSE
X-MICROSOFT-DISALLOW-COUNTER:TRUE
BEGIN:VALARM
DESCRIPTION:REMINDER
TRIGGER;RELATED=START:-PT15M
ACTION:DISPLAY
END:VALARM
END:VEVENT
END:VCALENDAR
