BEGIN:VCALENDAR
METHOD:REQUEST
PRODID:Microsoft Exchange Server 2010
VERSION:2.0
BEGIN:VTIMEZONE
TZID:UTC
BEGIN:STANDARD
DTSTART:16010101T000000
TZOFFSETFROM:+0000
TZOFFSETTO:+0000
END:STANDARD
BEGIN:DAYLIGHT
DTSTART:16010101T000000
TZOFFSETFROM:+0000
TZOFFSETTO:+0000
END:DAYLIGHT
END:VTIMEZONE
BEGIN:VEVENT
ORGANIZER;CN=ICANN Policy Calendar:MAILTO:PolicyCalendar@icann.org
ATTENDEE;ROLE=REQ-PARTICIPANT;PARTSTAT=NEEDS-ACTION;RSVP=FALSE;CN=council@g
 nso.icann.org:MAILTO:council@gnso.icann.org
ATTENDEE;ROLE=REQ-PARTICIPANT;PARTSTAT=NEEDS-ACTION;RSVP=FALSE;CN=Steve Cha
 n:MAILTO:steve.chan@icann.org
ATTENDEE;ROLE=REQ-PARTICIPANT;PARTSTAT=NEEDS-ACTION;RSVP=FALSE;CN=Caitlin T
 ubergen:MAILTO:caitlin.tubergen@icann.org
ATTENDEE;ROLE=REQ-PARTICIPANT;PARTSTAT=NEEDS-ACTION;RSVP=FALSE;CN=Julie Hed
 lund:MAILTO:julie.hedlund@icann.org
ATTENDEE;ROLE=REQ-PARTICIPANT;PARTSTAT=NEEDS-ACTION;RSVP=FALSE;CN=Berry Cob
 b:MAILTO:Berry.Cobb@icann.org
ATTENDEE;ROLE=REQ-PARTICIPANT;PARTSTAT=NEEDS-ACTION;RSVP=FALSE;CN=Mary Wong
 :MAILTO:mary.wong@icann.org
ATTENDEE;ROLE=REQ-PARTICIPANT;PARTSTAT=NEEDS-ACTION;RSVP=FALSE;CN=David Oli
 ve:MAILTO:david.olive@icann.org
ATTENDEE;ROLE=REQ-PARTICIPANT;PARTSTAT=NEEDS-ACTION;RSVP=FALSE;CN=Julie Bis
 land:MAILTO:julie.bisland@icann.org
ATTENDEE;ROLE=REQ-PARTICIPANT;PARTSTAT=NEEDS-ACTION;RSVP=FALSE;CN=Devan Ree
 d:MAILTO:devan.reed@icann.org
ATTENDEE;ROLE=REQ-PARTICIPANT;PARTSTAT=NEEDS-ACTION;RSVP=FALSE;CN=Terri Agn
 ew:MAILTO:terri.agnew@icann.org
ATTENDEE;ROLE=REQ-PARTICIPANT;PARTSTAT=NEEDS-ACTION;RSVP=FALSE;CN=Saewon Le
 e:MAILTO:saewon.lee@icann.org
ATTENDEE;ROLE=REQ-PARTICIPANT;PARTSTAT=NEEDS-ACTION;RSVP=FALSE;CN=Feodora H
 amza:MAILTO:feodora.hamza@icann.org
ATTENDEE;ROLE=REQ-PARTICIPANT;PARTSTAT=NEEDS-ACTION;RSVP=FALSE;CN=Bart Bosw
 inkel:MAILTO:bart.boswinkel@icann.org
ATTENDEE;ROLE=REQ-PARTICIPANT;PARTSTAT=NEEDS-ACTION;RSVP=FALSE;CN=Joke Brae
 ken:MAILTO:joke.braeken@icann.org
ATTENDEE;ROLE=REQ-PARTICIPANT;PARTSTAT=NEEDS-ACTION;RSVP=FALSE;CN=Kimberly 
 Carlson:MAILTO:kimberly.carlson@icann.org
ATTENDEE;ROLE=REQ-PARTICIPANT;PARTSTAT=NEEDS-ACTION;RSVP=FALSE;CN=Claudia R
 uiz:MAILTO:claudia.ruiz@icann.org
DESCRIPTION;LANGUAGE=en-US:Meeting: Joint ccNSO and GNSO Councils\nDate/tim
 e: Thursday\, 11 July 2024 at 13:00 UTC for 60 minutes.\n\nPlease click th
 e link below to join the webinar: https://icann.zoom.us/j/92283565389?pwd=
 QnlHK1JSbzdiSFFZSjRjamxMTkNGdz09 <https://urldefense.com/v3/__https:/icann
 .zoom.us/j/92283565389?pwd=QnlHK1JSbzdiSFFZSjRjamxMTkNGdz09__\;!!PtGJab4!9
 0lQYoG5ZVEyRNMIaOIi5kekQSsxPKjArqBW6dZFShp71xAxWHmMNhY_bMQMt6aoWsx9DNAuE_Y
 I2pxRBr7aLa3VbGU$>\nPasscode: f!Ym9!npfN\n\nIf joining Zoom via Zoom App t
 he following will be required:\nWebinar ID: 922 8356 5389\nPasscode: 69813
 11025\n\nOr One tap mobile :\n    &#43\;13462487799\,\,92283565389#\,\,\,\
 ,*6981311025# US (Houston)\n    &#43\;16699006833\,\,92283565389#\,\,\,\,*
 6981311025# US (San Jose)\n\nIf you are joining via audio only:\nInternati
 onal numbers available: https://icann.zoom.us/u/adGHfYeA3T [icann.zoom.us]
 <https://urldefense.com/v3/__https:/icann.zoom.us/u/adGHfYeA3T__\;!!PtGJab
 4!90lQYoG5ZVEyRNMIaOIi5kekQSsxPKjArqBW6dZFShp71xAxWHmMNhY_bMQMt6aoWsx9DNAu
 E_YI2pxRBr7aySSMk-g$>\n\n      Observers are welcome to join\, they will b
 e in a read-only and listen-only mode.\n\nBefore joining the call:\nPlease
  be sure you have read the Expected Standards of Behavior <https://urldefe
 nse.proofpoint.com/v2/url?u=https-3A__www.icann.org_resources_pages_expect
 ed-2Dstandards-2D2016-2D06-2D28-2Den&d=DwMGaQ&c=FmY1u3PJp6wrcrwll3mSVzgfkb
 PSS6sJms7xcl4I5cM&r=DRa2dXAvSFpCIgmkXhFzL7ar9Qfqa0AIgn-H4xR2EBk&m=Q2CoD1pI
 wCmm4slfY72x_Xyw25Rd2h1hba3UF0qUYV8&s=mp7QxpMBFJ5C_S_xAdAd4-kLGXmGVphmAi57
 mIgVwjg&e=>\nVisit the Wiki Agenda page:  https://community.icann.org/x/Pg
 MZEw\nCheck your time zone:  ​​ https://tinyurl.com/3zp2ezc7\n\nGNSO C
 ouncilors should notify the GNSO Secretariat in advance if they will not b
 e able to attend and/or need a dial out call\, gnso-secs@icann.org<mailto:
 gnso-secs@icann.org>\n\n\n\n\n\n
UID:B4FCEB19-1C8F-4294-89B9-D8E6FF52B6F7
SUMMARY;LANGUAGE=en-US:Joint ccNSO and GNSO Councils 
DTSTART;TZID=UTC:20240711T130000
DTEND;TZID=UTC:20240711T140000
CLASS:PUBLIC
PRIORITY:5
DTSTAMP:20240612T145803Z
TRANSP:OPAQUE
STATUS:CONFIRMED
SEQUENCE:1
LOCATION;LANGUAGE=en-US:13:00 UTC | https://icann.zoom.us/j/92283565389?pwd
 =QnlHK1JSbzdiSFFZSjRjamxMTkNGdz09 
X-MICROSOFT-CDO-APPT-SEQUENCE:1
X-MICROSOFT-CDO-OWNERAPPTID:2122570682
X-MICROSOFT-CDO-BUSYSTATUS:TENTATIVE
X-MICROSOFT-CDO-INTENDEDSTATUS:BUSY
X-MICROSOFT-CDO-ALLDAYEVENT:FALSE
X-MICROSOFT-CDO-IMPORTANCE:1
X-MICROSOFT-CDO-INSTTYPE:0
X-MICROSOFT-DONOTFORWARDMEETING:FALSE
X-MICROSOFT-DISALLOW-COUNTER:TRUE
BEGIN:VALARM
DESCRIPTION:REMINDER
TRIGGER;RELATED=START:-PT15M
ACTION:DISPLAY
END:VALARM
END:VEVENT
END:VCALENDAR
