BEGIN:VCALENDAR
METHOD:REQUEST
PRODID:Microsoft Exchange Server 2010
VERSION:2.0
BEGIN:VTIMEZONE
TZID:UTC
BEGIN:STANDARD
DTSTART:16010101T000000
TZOFFSETFROM:+0000
TZOFFSETTO:+0000
END:STANDARD
BEGIN:DAYLIGHT
DTSTART:16010101T000000
TZOFFSETFROM:+0000
TZOFFSETTO:+0000
END:DAYLIGHT
END:VTIMEZONE
BEGIN:VEVENT
ORGANIZER;CN=ICANN Policy Calendar:MAILTO:PolicyCalendar@icann.org
ATTENDEE;ROLE=REQ-PARTICIPANT;PARTSTAT=NEEDS-ACTION;RSVP=FALSE;CN=council@g
 nso.icann.org:MAILTO:council@gnso.icann.org
ATTENDEE;ROLE=REQ-PARTICIPANT;PARTSTAT=NEEDS-ACTION;RSVP=FALSE;CN="Drazek, K
 eith":MAILTO:kdrazek@verisign.com
ATTENDEE;ROLE=REQ-PARTICIPANT;PARTSTAT=NEEDS-ACTION;RSVP=FALSE;CN=Pam Littl
 e:MAILTO:pam.little@alibaba-inc.com
ATTENDEE;ROLE=REQ-PARTICIPANT;PARTSTAT=NEEDS-ACTION;RSVP=FALSE;CN=Rafik Dam
 mak:MAILTO:rafik.dammak@gmail.com
ATTENDEE;ROLE=REQ-PARTICIPANT;PARTSTAT=NEEDS-ACTION;RSVP=FALSE;CN=Jeff Neum
 an:MAILTO:jeff@jjnsolutions.com
ATTENDEE;ROLE=REQ-PARTICIPANT;PARTSTAT=NEEDS-ACTION;RSVP=FALSE;CN=Ching Chi
 ao:MAILTO:ching.chiao@gmail.com
ATTENDEE;ROLE=REQ-PARTICIPANT;PARTSTAT=NEEDS-ACTION;RSVP=FALSE;CN=erika@eri
 kamann.com:MAILTO:erika@erikamann.com
ATTENDEE;ROLE=REQ-PARTICIPANT;PARTSTAT=NEEDS-ACTION;RSVP=FALSE;CN=Cheryl La
 ngdon-Orr:MAILTO:langdonorr@gmail.com
ATTENDEE;ROLE=REQ-PARTICIPANT;PARTSTAT=NEEDS-ACTION;RSVP=FALSE;CN="Corwin, P
 hilip":MAILTO:pcorwin@verisign.com
ATTENDEE;ROLE=REQ-PARTICIPANT;PARTSTAT=NEEDS-ACTION;RSVP=FALSE;CN=Kathy Kle
 iman:MAILTO:kathy@kathykleiman.com
ATTENDEE;ROLE=REQ-PARTICIPANT;PARTSTAT=NEEDS-ACTION;RSVP=FALSE;CN=Kathy Kle
 iman:MAILTO:kathy@dnrc.tech
ATTENDEE;ROLE=REQ-PARTICIPANT;PARTSTAT=NEEDS-ACTION;RSVP=FALSE;CN=BECKHAM B
 rian:MAILTO:brian.beckham@wipo.int
ATTENDEE;ROLE=REQ-PARTICIPANT;PARTSTAT=NEEDS-ACTION;RSVP=FALSE;CN=Caitlin T
 ubergen:MAILTO:caitlin.tubergen@icann.org
ATTENDEE;ROLE=REQ-PARTICIPANT;PARTSTAT=NEEDS-ACTION;RSVP=FALSE;CN=Julie Hed
 lund:MAILTO:julie.hedlund@icann.org
ATTENDEE;ROLE=REQ-PARTICIPANT;PARTSTAT=NEEDS-ACTION;RSVP=FALSE;CN=Steve Cha
 n:MAILTO:steve.chan@icann.org
ATTENDEE;ROLE=REQ-PARTICIPANT;PARTSTAT=NEEDS-ACTION;RSVP=FALSE;CN=Marika Ko
 nings:MAILTO:marika.konings@icann.org
ATTENDEE;ROLE=REQ-PARTICIPANT;PARTSTAT=NEEDS-ACTION;RSVP=FALSE;CN=policy@ba
 cinblack.com:MAILTO:policy@bacinblack.com
ATTENDEE;ROLE=REQ-PARTICIPANT;PARTSTAT=NEEDS-ACTION;RSVP=FALSE;CN=Ariel Lia
 ng:MAILTO:ariel.liang@icann.org
ATTENDEE;ROLE=REQ-PARTICIPANT;PARTSTAT=NEEDS-ACTION;RSVP=FALSE;CN=Emily Bar
 abas:MAILTO:emily.barabas@icann.org
ATTENDEE;ROLE=REQ-PARTICIPANT;PARTSTAT=NEEDS-ACTION;RSVP=FALSE;CN=Mary Wong
 :MAILTO:mary.wong@icann.org
ATTENDEE;ROLE=REQ-PARTICIPANT;PARTSTAT=NEEDS-ACTION;RSVP=FALSE;CN=Nathalie 
 Peregrine:MAILTO:nathalie.peregrine@icann.org
ATTENDEE;ROLE=REQ-PARTICIPANT;PARTSTAT=NEEDS-ACTION;RSVP=FALSE;CN=Terri Agn
 ew:MAILTO:terri.agnew@icann.org
ATTENDEE;ROLE=REQ-PARTICIPANT;PARTSTAT=NEEDS-ACTION;RSVP=FALSE;CN=Michelle 
 DeSmyter:MAILTO:michelle.desmyter@icann.org
ATTENDEE;ROLE=REQ-PARTICIPANT;PARTSTAT=NEEDS-ACTION;RSVP=FALSE;CN=Andrea Gl
 andon:MAILTO:andrea.glandon@icann.org
ATTENDEE;ROLE=REQ-PARTICIPANT;PARTSTAT=NEEDS-ACTION;RSVP=FALSE;CN=Julie Bis
 land:MAILTO:julie.bisland@icann.org
ATTENDEE;ROLE=REQ-PARTICIPANT;PARTSTAT=NEEDS-ACTION;RSVP=FALSE;CN=Tomslin S
 amme-Nlar:MAILTO:mesumbeslin@gmail.com
ATTENDEE;ROLE=OPT-PARTICIPANT;PARTSTAT=NEEDS-ACTION;RSVP=FALSE;CN=Karen Len
 tz:MAILTO:karen.lentz@icann.org
ATTENDEE;ROLE=OPT-PARTICIPANT;PARTSTAT=NEEDS-ACTION;RSVP=FALSE;CN=Theresa S
 winehart:MAILTO:theresa.swinehart@icann.org
DESCRIPTION;LANGUAGE=en-GB:Meeting: Pre-ICANN69 GNSO Council Working Sessio
 n webinar\n\nDate/time: Tuesday\, 06 October 2020 at 11:30 UTC for 90 minu
 tes. All councilors are strongly encouraged to attend this session.\n\n&nb
 sp\;\n\nObservers are welcome to join\, they will be in a read-only and li
 sten-only mode.&nbsp\;\n\n&nbsp\;\n\nBefore joining the call:&nbsp\;\n\nPl
 ease be sure you have read the Expected Standards of Behavior<https://www.
 icann.org/resources/pages/expected-standards-2016-06-28-en>\n\nVisit the W
 iki agenda page:&nbsp\; https://community.icann.org/x/bwTQC\n\nCheck your 
 timezone:&nbsp\; &nbsp\;https://tinyurl.com/yxu3l9bu\n\n&nbsp\;\n\nPlease 
 click the link below to join the webinar:\n\nhttps://icann.zoom.us/j/92754
 987598?pwd=ZFZPbHN3N3E0QkhjT2E3NVE0NVBhZz09\n\nPasscode: 695Y8st!@&&nbsp\;
 \n\n\n\nOr iPhone one-tap :\n\nUS: +16699006833\,\,92754987598#\,\,\,\,\,\
 ,0#\,\,7367207480#&nbsp\; or +12532158782\,\,92754987598#\,\,\,\,\,\,0#\,\
 ,7367207480#\n\n&nbsp\;\n\nOr Telephone:\n\n\n&nbsp\;&nbsp\;&nbsp\; Dial(f
 or higher quality\, dial a number based on your current location):\n\n\n&n
 bsp\;&nbsp\;&nbsp\;&nbsp\;&nbsp\;&nbsp\;&nbsp\; US: +1 669 900 6833&nbsp\;
  or +1 253 215 8782&nbsp\; or +1 346 248 7799&nbsp\; or +1 929 436 2866&nb
 sp\; or +1 301 715 8592&nbsp\; or +1 312 626 6799&nbsp\; or 877 853 5247 (
 Toll Free) or 888 788 0099 (Toll Free)\n\n\nWebinar ID: 927 5498 7598\n\n\
 nPasscode: 7367207480\n\n\nInternational numbers available: https://icann.
 zoom.us/u/adqmt0IsnP\n\n\n\nCouncilors should notify the GNSO Secretariat 
 in advance if they will not be able to attend and/or need a dial out call\
 , gnso-secs@icann.org<mailto:gnso-secs@icann.org>\n\n&nbsp\;\n\nWebinar re
 cordings will be published and circulated shortly after the end of the ses
 sion.\n\n&nbsp\;&nbsp\;\n\nThank you.\n\nKind Regards\,\n\n&nbsp\;\n\nTerr
 i\n\n&nbsp\;\n\n&nbsp\;\n\n\n
UID:270B16CD-5D48-4858-AAAC-67D2B8C3E798
SUMMARY;LANGUAGE=en-GB:Pre-ICANN69 GNSO Council Working Session webinar 
DTSTART;TZID=UTC:20201006T113000
DTEND;TZID=UTC:20201006T130000
CLASS:PUBLIC
PRIORITY:5
DTSTAMP:20201002T080300Z
TRANSP:OPAQUE
STATUS:CONFIRMED
SEQUENCE:4
LOCATION;LANGUAGE=en-GB:11:30 UTC | https://icann.zoom.us/j/92754987598?pwd
 =ZFZPbHN3N3E0QkhjT2E3NVE0NVBhZz09
X-MICROSOFT-CDO-APPT-SEQUENCE:4
X-MICROSOFT-CDO-OWNERAPPTID:2118700073
X-MICROSOFT-CDO-BUSYSTATUS:TENTATIVE
X-MICROSOFT-CDO-INTENDEDSTATUS:BUSY
X-MICROSOFT-CDO-ALLDAYEVENT:FALSE
X-MICROSOFT-CDO-IMPORTANCE:1
X-MICROSOFT-CDO-INSTTYPE:0
X-MICROSOFT-DONOTFORWARDMEETING:FALSE
X-MICROSOFT-DISALLOW-COUNTER:TRUE
BEGIN:VALARM
DESCRIPTION:REMINDER
TRIGGER;RELATED=START:-PT15M
ACTION:DISPLAY
END:VALARM
END:VEVENT
END:VCALENDAR
