BEGIN:VCALENDAR
METHOD:REQUEST
PRODID:Microsoft Exchange Server 2010
VERSION:2.0
BEGIN:VTIMEZONE
TZID:UTC
BEGIN:STANDARD
DTSTART:16010101T000000
TZOFFSETFROM:+0000
TZOFFSETTO:+0000
END:STANDARD
BEGIN:DAYLIGHT
DTSTART:16010101T000000
TZOFFSETFROM:+0000
TZOFFSETTO:+0000
END:DAYLIGHT
END:VTIMEZONE
BEGIN:VEVENT
ORGANIZER;CN=ICANN Policy Calendar:MAILTO:PolicyCalendar@icann.org
ATTENDEE;ROLE=REQ-PARTICIPANT;PARTSTAT=NEEDS-ACTION;RSVP=FALSE;CN=council@i
 cann.org:MAILTO:council@icann.org
ATTENDEE;ROLE=REQ-PARTICIPANT;PARTSTAT=NEEDS-ACTION;RSVP=FALSE;CN=Steve Cha
 n:MAILTO:steve.chan@icann.org
ATTENDEE;ROLE=REQ-PARTICIPANT;PARTSTAT=NEEDS-ACTION;RSVP=FALSE;CN=Caitlin T
 ubergen:MAILTO:caitlin.tubergen@icann.org
ATTENDEE;ROLE=REQ-PARTICIPANT;PARTSTAT=NEEDS-ACTION;RSVP=FALSE;CN=Julie Hed
 lund:MAILTO:julie.hedlund@icann.org
ATTENDEE;ROLE=REQ-PARTICIPANT;PARTSTAT=NEEDS-ACTION;RSVP=FALSE;CN=Saewon Le
 e:MAILTO:saewon.lee@icann.org
ATTENDEE;ROLE=REQ-PARTICIPANT;PARTSTAT=NEEDS-ACTION;RSVP=FALSE;CN=John Emer
 y:MAILTO:john.emery@icann.org
ATTENDEE;ROLE=REQ-PARTICIPANT;PARTSTAT=NEEDS-ACTION;RSVP=FALSE;CN=Feodora H
 amza:MAILTO:feodora.hamza@icann.org
ATTENDEE;ROLE=REQ-PARTICIPANT;PARTSTAT=NEEDS-ACTION;RSVP=FALSE;CN=Terri Agn
 ew:MAILTO:terri.agnew@icann.org
ATTENDEE;ROLE=REQ-PARTICIPANT;PARTSTAT=NEEDS-ACTION;RSVP=FALSE;CN=Julie Bis
 land:MAILTO:julie.bisland@icann.org
ATTENDEE;ROLE=REQ-PARTICIPANT;PARTSTAT=NEEDS-ACTION;RSVP=FALSE;CN=Devan Ree
 d:MAILTO:devan.reed@icann.org
ATTENDEE;ROLE=REQ-PARTICIPANT;PARTSTAT=NEEDS-ACTION;RSVP=FALSE;CN=Berry Cob
 b:MAILTO:Berry.Cobb@icann.org
ATTENDEE;ROLE=REQ-PARTICIPANT;PARTSTAT=NEEDS-ACTION;RSVP=FALSE;CN=Mary Wong
 :MAILTO:mary.wong@icann.org
ATTENDEE;ROLE=REQ-PARTICIPANT;PARTSTAT=NEEDS-ACTION;RSVP=FALSE;CN=Susie Joh
 nson:MAILTO:susie.johnson@icann.org
ATTENDEE;ROLE=REQ-PARTICIPANT;PARTSTAT=NEEDS-ACTION;RSVP=FALSE;CN=Russ Wein
 stein:MAILTO:russ.weinstein@icann.org
DESCRIPTION;LANGUAGE=en-US:Meeting: Pre-ICANN84 GNSO Council Webinar\nDate/
 Time: Tuesday\, 07 October 2025 at 21:00 UTC for 60 minutes.\n\nBefore joi
 ning the call:\nPlease be sure you have read the Expected Standards of Beh
 avior <https://urldefense.proofpoint.com/v2/url?u=https-3A__www.icann.org_
 resources_pages_expected-2Dstandards-2D2016-2D06-2D28-2Den&d=DwMGaQ&c=FmY1
 u3PJp6wrcrwll3mSVzgfkbPSS6sJms7xcl4I5cM&r=DRa2dXAvSFpCIgmkXhFzL7ar9Qfqa0AI
 gn-H4xR2EBk&m=Q2CoD1pIwCmm4slfY72x_Xyw25Rd2h1hba3UF0qUYV8&s=mp7QxpMBFJ5C_S
 _xAdAd4-kLGXmGVphmAi57mIgVwjg&e=>\nVisit the Wiki Agenda page: https://ica
 nn-community.atlassian.net/wiki/x/AYC1G\nCheck your time zone:​ https://
 tinyurl.com/2wtxd8uw\n\nGNSO Council members are expected to join and will
  be panelists. Questions will be taken from GNSO Council only.\nObservers 
 are welcome and will be in listen-only mode.\n\nCouncilors should notify t
 he GNSO Secretariat in advance if they will not be able to attend and/or n
 eed a dial out call\, gnso-secs@icann.org<mailto:gnso-secs@icann.org>\n\nP
 lease click the link below to join the webinar: https://icann.zoom.us/j/91
 048235847?pwd=bmEHjk0uYT3sR2DIoE0c0yw4HKbM6O.1\nPasscode: mkt7*ULa9b\n\nIf
  joining Zoom via Zoom App the following will be required:\nWebinar ID: 91
 0 4823 5847\nPasscode: 9213420189\n\nOr One tap mobile :\n    &#43\;134624
 87799\,\,91048235847#\,\,\,\,*9213420189# US (Houston)\n    &#43\;16699006
 833\,\,91048235847#\,\,\,\,*9213420189# US (San Jose)\nIf you are joining 
 via audio only:\nInternational numbers available: https://icann.zoom.us/u/
 a6JrPP2u5\n\nObservers are welcome to join\, they will be in a read-only a
 nd listen-only mode.\n\n
UID:C105C189-9242-4950-A36A-861E76D20881
SUMMARY;LANGUAGE=en-US:Pre-ICANN84 GNSO Council Webinar
DTSTART;TZID=UTC:20251007T210000
DTEND;TZID=UTC:20251007T220000
CLASS:PUBLIC
PRIORITY:5
DTSTAMP:20250806T173449Z
TRANSP:OPAQUE
STATUS:CONFIRMED
SEQUENCE:0
LOCATION;LANGUAGE=en-US:21:00 UTC | https://icann.zoom.us/j/91048235847?pwd
 =bmEHjk0uYT3sR2DIoE0c0yw4HKbM6O.1 
X-MICROSOFT-CDO-APPT-SEQUENCE:0
X-MICROSOFT-CDO-OWNERAPPTID:2123903617
X-MICROSOFT-CDO-BUSYSTATUS:TENTATIVE
X-MICROSOFT-CDO-INTENDEDSTATUS:BUSY
X-MICROSOFT-CDO-ALLDAYEVENT:FALSE
X-MICROSOFT-CDO-IMPORTANCE:1
X-MICROSOFT-CDO-INSTTYPE:0
X-MICROSOFT-DONOTFORWARDMEETING:FALSE
X-MICROSOFT-DISALLOW-COUNTER:TRUE
BEGIN:VALARM
DESCRIPTION:REMINDER
TRIGGER;RELATED=START:-PT15M
ACTION:DISPLAY
END:VALARM
END:VEVENT
END:VCALENDAR
