BEGIN:VCALENDAR
METHOD:REQUEST
PRODID:Microsoft Exchange Server 2010
VERSION:2.0
BEGIN:VTIMEZONE
TZID:UTC
BEGIN:STANDARD
DTSTART:16010101T000000
TZOFFSETFROM:+0000
TZOFFSETTO:+0000
END:STANDARD
BEGIN:DAYLIGHT
DTSTART:16010101T000000
TZOFFSETFROM:+0000
TZOFFSETTO:+0000
END:DAYLIGHT
END:VTIMEZONE
BEGIN:VEVENT
ORGANIZER;CN=ICANN Policy Calendar:MAILTO:PolicyCalendar@icann.org
ATTENDEE;ROLE=REQ-PARTICIPANT;PARTSTAT=NEEDS-ACTION;RSVP=FALSE;CN=council@i
 cann.org:MAILTO:council@icann.org
ATTENDEE;ROLE=REQ-PARTICIPANT;PARTSTAT=NEEDS-ACTION;RSVP=FALSE;CN=Steve Cha
 n:MAILTO:steve.chan@icann.org
ATTENDEE;ROLE=REQ-PARTICIPANT;PARTSTAT=NEEDS-ACTION;RSVP=FALSE;CN=Caitlin T
 ubergen:MAILTO:caitlin.tubergen@icann.org
ATTENDEE;ROLE=REQ-PARTICIPANT;PARTSTAT=NEEDS-ACTION;RSVP=FALSE;CN=Julie Hed
 lund:MAILTO:julie.hedlund@icann.org
ATTENDEE;ROLE=REQ-PARTICIPANT;PARTSTAT=NEEDS-ACTION;RSVP=FALSE;CN=Saewon Le
 e:MAILTO:saewon.lee@icann.org
ATTENDEE;ROLE=REQ-PARTICIPANT;PARTSTAT=NEEDS-ACTION;RSVP=FALSE;CN=John Emer
 y:MAILTO:john.emery@icann.org
ATTENDEE;ROLE=REQ-PARTICIPANT;PARTSTAT=NEEDS-ACTION;RSVP=FALSE;CN=Feodora H
 amza:MAILTO:feodora.hamza@icann.org
ATTENDEE;ROLE=REQ-PARTICIPANT;PARTSTAT=NEEDS-ACTION;RSVP=FALSE;CN=Terri Agn
 ew:MAILTO:terri.agnew@icann.org
ATTENDEE;ROLE=REQ-PARTICIPANT;PARTSTAT=NEEDS-ACTION;RSVP=FALSE;CN=Julie Bis
 land:MAILTO:julie.bisland@icann.org
ATTENDEE;ROLE=REQ-PARTICIPANT;PARTSTAT=NEEDS-ACTION;RSVP=FALSE;CN=Devan Ree
 d:MAILTO:devan.reed@icann.org
ATTENDEE;ROLE=REQ-PARTICIPANT;PARTSTAT=NEEDS-ACTION;RSVP=FALSE;CN=Berry Cob
 b:MAILTO:Berry.Cobb@icann.org
ATTENDEE;ROLE=REQ-PARTICIPANT;PARTSTAT=NEEDS-ACTION;RSVP=FALSE;CN=Mary Wong
 :MAILTO:mary.wong@icann.org
ATTENDEE;ROLE=REQ-PARTICIPANT;PARTSTAT=NEEDS-ACTION;RSVP=FALSE;CN=Susie Joh
 nson:MAILTO:susie.johnson@icann.org
ATTENDEE;ROLE=REQ-PARTICIPANT;PARTSTAT=NEEDS-ACTION;RSVP=FALSE;CN=Russ Wein
 stein:MAILTO:russ.weinstein@icann.org
DESCRIPTION;LANGUAGE=en-US:Meeting: Pre-ICANN85 GNSO Council Webinar\nDate/
 Time: Thursday\, 19 February 2026 at 13:00 UTC for 60 minutes.\n\nBefore j
 oining the call:\nPlease be sure you have read the Expected Standards of B
 ehavior <https://urldefense.proofpoint.com/v2/url?u=https-3A__www.icann.or
 g_resources_pages_expected-2Dstandards-2D2016-2D06-2D28-2Den&d=DwMGaQ&c=Fm
 Y1u3PJp6wrcrwll3mSVzgfkbPSS6sJms7xcl4I5cM&r=DRa2dXAvSFpCIgmkXhFzL7ar9Qfqa0
 AIgn-H4xR2EBk&m=Q2CoD1pIwCmm4slfY72x_Xyw25Rd2h1hba3UF0qUYV8&s=mp7QxpMBFJ5C
 _S_xAdAd4-kLGXmGVphmAi57mIgVwjg&e=>\nVisit the Wiki Agenda page:\n\nGNSO C
 ouncil members are expected to join and will be panelists. Questions will 
 be taken from GNSO Council only.\nObservers are welcome and will be in lis
 ten-only mode.\n\nCouncilors should notify the GNSO Secretariat in advance
  if they will not be able to attend and/or need a dial out call\, gnso-sec
 s@icann.org<mailto:gnso-secs@icann.org>\n\n\nPlease click the link below t
 o join the webinar: https://icann.zoom.us/j/92983839529?pwd=DyyxXAO3IN-_Ji
 ujB6dHDRVzkll77e1YNB0.1qvsohuF33Kn2B6_\n\nPasscode:9gj@q?GLfL\n\nPhone one
 -tap:\n\n&#43\;19294362866\,\,92983839529#\,\,\,\,*8666091466# US (New Yor
 k)\n\n&#43\;12532158782\,\,92983839529#\,\,\,\,*8666091466# US (Tacoma)\n\
 nWebinar ID: 929 8383 9529\n\nPasscode: 8666091466\n\nInternational number
 s available: https://icann.zoom.us/u/abQwxX7jW0\n\n
UID:182F04C2-5161-4E4B-B683-FB68A5F988D0
SUMMARY;LANGUAGE=en-US:Pre-ICANN85 GNSO Council Webinar 
DTSTART;TZID=UTC:20260219T130000
DTEND;TZID=UTC:20260219T140000
CLASS:PUBLIC
PRIORITY:5
DTSTAMP:20251203T223126Z
TRANSP:OPAQUE
STATUS:CONFIRMED
SEQUENCE:0
LOCATION;LANGUAGE=en-US:13:00 UTC | https://icann.zoom.us/j/92983839529?pwd
 =DyyxXAO3IN-_JiujB6dHDRVzkll77e1YNB0.1qvsohuF33Kn2B6_ 
X-MICROSOFT-CDO-APPT-SEQUENCE:0
X-MICROSOFT-CDO-OWNERAPPTID:2124160593
X-MICROSOFT-CDO-BUSYSTATUS:TENTATIVE
X-MICROSOFT-CDO-INTENDEDSTATUS:BUSY
X-MICROSOFT-CDO-ALLDAYEVENT:FALSE
X-MICROSOFT-CDO-IMPORTANCE:1
X-MICROSOFT-CDO-INSTTYPE:0
X-MICROSOFT-DONOTFORWARDMEETING:FALSE
X-MICROSOFT-DISALLOW-COUNTER:TRUE
BEGIN:VALARM
DESCRIPTION:REMINDER
TRIGGER;RELATED=START:-PT15M
ACTION:DISPLAY
END:VALARM
END:VEVENT
END:VCALENDAR
