BEGIN:VCALENDAR
METHOD:REQUEST
VERSION:2.0
PRODID:-//Roundcube 1.6.9//Sabre VObject 4.5.5//EN
CALSCALE:GREGORIAN
BEGIN:VEVENT
X-CPANEL-ID:eyJ1aWQiOiIxMjY1MDdFRC04MjE2LTQ1NDUtODM4Ni1GMEVGRkExM0Y1Q0MiLC
 J1c2VyIjoibGF3cmVuY2VAbWljcm9ib3NzLm9yZyIsImNhbCI6ImNhbGVuZGFyIn0=
UID:126507ED-8216-4545-8386-F0EFFA13F5CC
DTSTAMP:20241202T213559Z
CREATED:20250106T164242Z
LAST-MODIFIED:20241202T213559Z
DTSTART:20251029T091500Z
DTEND:20251029T111500Z
SUMMARY:GNSO Council Meeting
LOCATION:09:15 UTC ( 13:15 local time) | Zoom Link will be published 24 hou
 rs in advance on SCHED 
DESCRIPTION:Meeting: GNSO Council Meeting\nDate/Time: Wednesday\, 29 Octobe
 r 2025 at 09:15 UTC (13:15 local time) for 2 hours | ICANN84\n\nZoom Link 
 will be published 24 hours in advance on SCHED – make sure you have regi
 stered so you have access to the links.\n\n\n
SEQUENCE:0
PRIORITY:5
STATUS:CONFIRMED
ATTENDEE;CN=council@gnso.icann.org;PARTSTAT=NEEDS-ACTION;ROLE=REQ-PARTICIPA
 NT:mailto:council@gnso.icann.org
ATTENDEE;CN=Steve Chan;PARTSTAT=NEEDS-ACTION;ROLE=REQ-PARTICIPANT:mailto:st
 eve.chan@icann.org
ATTENDEE;CN=Caitlin Tubergen;PARTSTAT=NEEDS-ACTION;ROLE=REQ-PARTICIPANT:mai
 lto:caitlin.tubergen@icann.org
ATTENDEE;CN=Julie Hedlund;PARTSTAT=NEEDS-ACTION;ROLE=REQ-PARTICIPANT:mailto
 :julie.hedlund@icann.org
ATTENDEE;CN=Saewon Lee;PARTSTAT=NEEDS-ACTION;ROLE=REQ-PARTICIPANT:mailto:sa
 ewon.lee@icann.org
ATTENDEE;CN=Feodora Hamza;PARTSTAT=NEEDS-ACTION;ROLE=REQ-PARTICIPANT:mailto
 :feodora.hamza@icann.org
ATTENDEE;CN=John Emery;PARTSTAT=NEEDS-ACTION;ROLE=REQ-PARTICIPANT:mailto:jo
 hn.emery@icann.org
ATTENDEE;CN=Berry Cobb;PARTSTAT=NEEDS-ACTION;ROLE=REQ-PARTICIPANT:mailto:Be
 rry.Cobb@icann.org
ATTENDEE;CN=Mary Wong;PARTSTAT=NEEDS-ACTION;ROLE=REQ-PARTICIPANT:mailto:mar
 y.wong@icann.org
ATTENDEE;CN=Julie Bisland;PARTSTAT=NEEDS-ACTION;ROLE=REQ-PARTICIPANT:mailto
 :julie.bisland@icann.org
ATTENDEE;CN=Devan Reed;PARTSTAT=NEEDS-ACTION;ROLE=REQ-PARTICIPANT:mailto:de
 van.reed@icann.org
ATTENDEE;CN=Terri Agnew;PARTSTAT=NEEDS-ACTION;ROLE=REQ-PARTICIPANT:mailto:t
 erri.agnew@icann.org
ATTENDEE;CN=Lawrence Olawale-Roberts;PARTSTAT=ACCEPTED;ROLE=OPT-PARTICIPANT
 :mailto:lawrence@microboss.org
ORGANIZER;CN=ICANN Policy Calendar:mailto:PolicyCalendar@icann.org
X-MICROSOFT-CDO-APPT-SEQUENCE:0
X-MICROSOFT-CDO-OWNERAPPTID:2123109800
X-MICROSOFT-CDO-INTENDEDSTATUS:BUSY
X-MICROSOFT-CDO-ALLDAYEVENT:FALSE
X-MICROSOFT-CDO-IMPORTANCE:1
X-MICROSOFT-CDO-INSTTYPE:0
X-MICROSOFT-DONOTFORWARDMEETING:FALSE
X-MICROSOFT-DISALLOW-COUNTER:TRUE
BEGIN:VALARM
ACTION:DISPLAY
TRIGGER:-PT15M
DESCRIPTION:REMINDER
END:VALARM
END:VEVENT
END:VCALENDAR