BEGIN:VCALENDAR
VERSION:2.0
PRODID:-//Microsoft Corporation//Outlook for Mac MIMEDIR//EN
METHOD:PUBLISH
BEGIN:VTIMEZONE
TZID:Coordinated Universal Time
X-ENTOURAGE-CFTIMEZONE:UTC
X-ENTOURAGE-TZID:93
BEGIN:STANDARD
TZOFFSETFROM:+0000
TZOFFSETTO:+0000
DTSTART:16010101T000000
END:STANDARD
END:VTIMEZONE
BEGIN:VEVENT
UID:2B70B7CD-2555-44E0-8E68-BD17B243578A
X-ENTOURAGE_UUID:2B70B7CD-2555-44E0-8E68-BD17B243578A
X-MICROSOFT-EXCHANGE-ID:AAMkADFlMDNlNjQ5LTNjNTUtNDJkMC04ZTI0LWFiMTFkOTgwND
 JhMQBGAAAAAAAdZPIZTDF9SJl4Q9bAl0gQBwAFskP3JLIoSYZSK2rNBQTXAIjV8WqdAACjhqXC
 SbKVRZwH7aZE5XhKAAIxqe5/AAA=
X-MICROSOFT-EXCHANGE-CHANGEKEY:DwAAABYAAACjhqXCSbKVRZwH7aZE5XhKAAIxv+gK
DTSTAMP:20221118T154505Z
DTSTART;TZID="Coordinated Universal Time":20221207T200000
DTEND;TZID="Coordinated Universal Time":20221207T213000
LAST-MODIFIED:20221118T154506Z
SUMMARY:ODA GNSO Council Specific Webinar
DESCRIPTION:Meeting: ODA GNSO Council Specific Webinar\n\nDate/Time: 07
  December 2022 at 20:00 UTC for 90 minutes\n\n \n\nWiki Page:
  https://community.icann.org/x/NoQ-DQ \n\nFor other time zones:
  https://tinyurl.com/a34faa2v \n\n \n\nGNSO Council members will be
  panelists. Observers are welcome and will be in a read-only and
  listen-only mode.\n\n \n\nPlease click the link below to join the
  webinar:
   https://icann.zoom.us/j/99137131881?pwd=dVp4Yzl4VVhBSmR4V2NwbEI0UTJoZz09
 \n\nPasscode: 34$6yx$x#6\n\n \n\nAudio only:\n\nWebinar ID: 991 3713
  1881\nPasscode: 5745543305\n\nInternational numbers available:
  https://icann.zoom.us/u/aenqPMbYMu\n\n \n
LOCATION:20:00 UTC |
  https://icann.zoom.us/j/99137131881?pwd=dVp4Yzl4VVhBSmR4V2NwbEI0UTJoZz09
ORGANIZER:MAILTO:PolicyCalendar@icann.org
SEQUENCE:0
ATTENDEE;ROLE=REQ-PARTICIPANT;RSVP=FALSE;CN=council@gnso.icann.org;PARTSTA
 T=NEEDS-ACTION:MAILTO:council@gnso.icann.org
ATTENDEE;ROLE=REQ-PARTICIPANT;RSVP=FALSE;CN="Nathalie
  Peregrine";PARTSTAT=NEEDS-ACTION:MAILTO:nathalie.peregrine@icann.org
ATTENDEE;ROLE=REQ-PARTICIPANT;RSVP=FALSE;CN="Terri
  Agnew";PARTSTAT=NEEDS-ACTION:MAILTO:terri.agnew@icann.org
ATTENDEE;ROLE=REQ-PARTICIPANT;RSVP=FALSE;CN="Michelle
  DeSmyter";PARTSTAT=NEEDS-ACTION:MAILTO:michelle.desmyter@icann.org
ATTENDEE;ROLE=REQ-PARTICIPANT;RSVP=FALSE;CN="Julie
  Bisland";PARTSTAT=NEEDS-ACTION:MAILTO:julie.bisland@icann.org
ATTENDEE;ROLE=REQ-PARTICIPANT;RSVP=FALSE;CN="Devan
  Reed";PARTSTAT=NEEDS-ACTION:MAILTO:devan.reed@icann.org
X-MICROSOFT-CDO-BUSYSTATUS:BUSY
X-MICROSOFT-CDO-ALLDAYEVENT:FALSE
X-MICROSOFT-DISALLOW-COUNTER:FALSE
X-MICROSOFT-DONOTFORWARDMEETING:FALSE
X-MICROSOFT-CDO-INSTTYPE:0
BEGIN:VALARM
ACTION:DISPLAY
DESCRIPTION:REMINDER
TRIGGER;RELATED=START:-PT00H15M00S
END:VALARM
END:VEVENT
END:VCALENDAR
