BEGIN:VCALENDAR
METHOD:REQUEST
PRODID:Microsoft Exchange Server 2010
VERSION:2.0
BEGIN:VTIMEZONE
TZID:UTC
BEGIN:STANDARD
DTSTART:16010101T000000
TZOFFSETFROM:+0000
TZOFFSETTO:+0000
END:STANDARD
BEGIN:DAYLIGHT
DTSTART:16010101T000000
TZOFFSETFROM:+0000
TZOFFSETTO:+0000
END:DAYLIGHT
END:VTIMEZONE
BEGIN:VEVENT
ORGANIZER;CN=ICANN Policy Calendar:MAILTO:PolicyCalendar@icann.org
ATTENDEE;ROLE=REQ-PARTICIPANT;PARTSTAT=NEEDS-ACTION;RSVP=FALSE;CN=council@g
 nso.icann.org:MAILTO:council@gnso.icann.org
ATTENDEE;ROLE=REQ-PARTICIPANT;PARTSTAT=NEEDS-ACTION;RSVP=FALSE;CN=Marika Ko
 nings:MAILTO:marika.konings@icann.org
ATTENDEE;ROLE=REQ-PARTICIPANT;PARTSTAT=NEEDS-ACTION;RSVP=FALSE;CN=Mary Wong
 :MAILTO:mary.wong@icann.org
ATTENDEE;ROLE=REQ-PARTICIPANT;PARTSTAT=NEEDS-ACTION;RSVP=FALSE;CN=Steve Cha
 n:MAILTO:steve.chan@icann.org
ATTENDEE;ROLE=REQ-PARTICIPANT;PARTSTAT=NEEDS-ACTION;RSVP=FALSE;CN=Julie Hed
 lund:MAILTO:julie.hedlund@icann.org
ATTENDEE;ROLE=REQ-PARTICIPANT;PARTSTAT=NEEDS-ACTION;RSVP=FALSE;CN=Emily Bar
 abas:MAILTO:emily.barabas@icann.org
ATTENDEE;ROLE=REQ-PARTICIPANT;PARTSTAT=NEEDS-ACTION;RSVP=FALSE;CN=Caitlin T
 ubergen:MAILTO:caitlin.tubergen@icann.org
ATTENDEE;ROLE=REQ-PARTICIPANT;PARTSTAT=NEEDS-ACTION;RSVP=FALSE;CN=Ariel Lia
 ng:MAILTO:ariel.liang@icann.org
ATTENDEE;ROLE=REQ-PARTICIPANT;PARTSTAT=NEEDS-ACTION;RSVP=FALSE;CN=Berry Cob
 b:MAILTO:Berry.Cobb@icann.org
ATTENDEE;ROLE=REQ-PARTICIPANT;PARTSTAT=NEEDS-ACTION;RSVP=FALSE;CN=policy@ba
 cinblack.com:MAILTO:policy@bacinblack.com
ATTENDEE;ROLE=REQ-PARTICIPANT;PARTSTAT=NEEDS-ACTION;RSVP=FALSE;CN=Nathalie 
 Peregrine:MAILTO:nathalie.peregrine@icann.org
ATTENDEE;ROLE=REQ-PARTICIPANT;PARTSTAT=NEEDS-ACTION;RSVP=FALSE;CN=Michelle 
 DeSmyter:MAILTO:michelle.desmyter@icann.org
ATTENDEE;ROLE=REQ-PARTICIPANT;PARTSTAT=NEEDS-ACTION;RSVP=FALSE;CN=Julie Bis
 land:MAILTO:julie.bisland@icann.org
ATTENDEE;ROLE=REQ-PARTICIPANT;PARTSTAT=NEEDS-ACTION;RSVP=FALSE;CN=Andrea Gl
 andon:MAILTO:andrea.glandon@icann.org
ATTENDEE;ROLE=REQ-PARTICIPANT;PARTSTAT=NEEDS-ACTION;RSVP=FALSE;CN=Terri Agn
 ew:MAILTO:terri.agnew@icann.org
ATTENDEE;ROLE=REQ-PARTICIPANT;PARTSTAT=NEEDS-ACTION;RSVP=FALSE;CN=Jeff Neum
 an:MAILTO:jeff@jjnsolutions.com
ATTENDEE;ROLE=REQ-PARTICIPANT;PARTSTAT=NEEDS-ACTION;RSVP=FALSE;CN=Cheryl La
 ngdon-Orr:MAILTO:langdonorr@gmail.com
DESCRIPTION;LANGUAGE=en-US:Meeting: GNSO Council on the New gTLD Subsequent
  Procedures PDP WG – Final Report Webinar\n\nDate/time: Thursday\, 28 Ja
 nuary 2021 at 20:00 UTC for 90 minutes\n\n\n\nThis webinar is open to obse
 rvers who will be in read-only and listen-only mode.\n\n&nbsp\;\n\nBefore 
 joining the call:&nbsp\;\n\nPlease be sure you have read the&nbsp\;Expecte
 d Standards of Behavior&nbsp\;[icann.org]<https://urldefense.proofpoint.co
 m/v2/url?u=https-3A__www.icann.org_resources_pages_expected-2Dstandards-2D
 2016-2D06-2D28-2Den&d=DwMGaQ&c=FmY1u3PJp6wrcrwll3mSVzgfkbPSS6sJms7xcl4I5cM
 &r=DRa2dXAvSFpCIgmkXhFzL7ar9Qfqa0AIgn-H4xR2EBk&m=Q2CoD1pIwCmm4slfY72x_Xyw2
 5Rd2h1hba3UF0qUYV8&s=mp7QxpMBFJ5C_S_xAdAd4-kLGXmGVphmAi57mIgVwjg&e=>\n\nCh
 eck your time zone:&nbsp\; https://tinyurl.com/y2r85xqw\n\n&nbsp\;\n\nCoun
 cilors should notify the GNSO Secretariat in advance if they will not be a
 ble to attend and/or need a dial out call\,&nbsp\;gnso-secs@icann.org<mail
 to:gnso-secs@icann.org>\n\n&nbsp\;\n\nPlease click the link to join the we
 binar (recommended):\n\nhttps://icann.zoom.us/j/92033087809?pwd=QUMyMURRM0
 tPY01NcFE3cHhVVUV0Zz09\n\nPasscode: ?ucL4!t%MD\n\n&nbsp\;&nbsp\;\n\nIf you
  are joining via audio only:\niPhone one-tap :&nbsp\;\nUS: +13126266799\,\
 ,92033087809#\,\,\,\,*6872519179#&nbsp\; or +19294362866\,\,92033087809#\,
 \,\,\,*6872519179#\n\n\n\nWebinar ID: 920 3308 7809\n\nPasscode: 687251917
 9\n\nInternational numbers available: https://icann.zoom.us/u/alYj9bi3C\n\
 n\n\nThank you.\n\nKind Regards\,\n\n&nbsp\;\n\nTerri\n\n&nbsp\;\n\n\n\n\n
UID:9FB9E85D-3EEA-4EC0-92D0-3B3F9C964ADD
SUMMARY;LANGUAGE=en-US:GNSO Council on the New gTLD Subsequent Procedures P
 DP WG – Final Report Webinar 
DTSTART;TZID=UTC:20210128T200000
DTEND;TZID=UTC:20210128T213000
CLASS:PUBLIC
PRIORITY:5
DTSTAMP:20210119T204404Z
TRANSP:OPAQUE
STATUS:CONFIRMED
SEQUENCE:0
LOCATION;LANGUAGE=en-US:20:00 UTC | https://icann.zoom.us/j/92033087809?pwd
 =QUMyMURRM0tPY01NcFE3cHhVVUV0Zz09
X-MICROSOFT-CDO-APPT-SEQUENCE:0
X-MICROSOFT-CDO-OWNERAPPTID:2119277327
X-MICROSOFT-CDO-BUSYSTATUS:TENTATIVE
X-MICROSOFT-CDO-INTENDEDSTATUS:BUSY
X-MICROSOFT-CDO-ALLDAYEVENT:FALSE
X-MICROSOFT-CDO-IMPORTANCE:1
X-MICROSOFT-CDO-INSTTYPE:0
X-MICROSOFT-DONOTFORWARDMEETING:FALSE
X-MICROSOFT-DISALLOW-COUNTER:TRUE
BEGIN:VALARM
DESCRIPTION:REMINDER
TRIGGER;RELATED=START:-PT15M
ACTION:DISPLAY
END:VALARM
END:VEVENT
END:VCALENDAR
